{"text_format":"1","workbook":"xlsx","n_sheets":4,"sheets":["Marriott Rooming List Template","Rooming List","Stay Pattern","Hidden - Lists"],"not_rendered":{"charts":0,"images":1,"macros":1,"external_links":1,"defined_names":12,"comments":3,"pivot_tables":0},"unopened":[],"bounds":{"document_bytes":16777216,"sheet_cells":100000,"rows_first":2000,"rows_last":500,"rows_between":2000,"halvings":0,"cell_chars":16384,"cell_head_chars":4096},"cells_cut":0,"cells_raw":0,"read":"whole","date_system":"1900"}

{"sheet":"Marriott Rooming List Template","index":0,"n_rows":9,"n_cols":45,"rows_kept":9,"cut":false,"hidden":true,"merged":[[6,29,6,44],[5,21,5,28],[6,0,6,1],[6,2,6,5],[6,6,6,9],[6,10,6,13],[6,21,6,28],[5,14,5,20],[2,0,2,3],[2,5,2,6],[3,0,3,3],[3,5,3,6],[5,10,5,13]]}
["Marriott Rooming List Template"]
[]
["EVENT NAME",null,null,null,"ARRIVAL DATE","MARSHA CODE"]
[{"$f":"'Rooming List'!D2","v":0},null,null,null,{"$f":"MIN('Rooming List'!E:E)","v":"00:00:00"},{"$f":"'Hidden - Lists'!B10","v":0}]
[]
[null,"Reservation Information ",null,null,null,null,null,null,null,null,"Guarantee / Payment",null,null,null,"    Preferences",null,null,null,null,null,null,"     Additional Guest Details (Optional) ",null,null,null,null,null,null,null,null,"    Shares (Optional): Additional Guest Names"]
[null,null,"*Required"]
[]
[null,"Title ","*First Name","*Last Name","*Arrival Date","*Departure Date","Group Code","Billing Method","Marriott Bonvoy™ Member Number","Email ","Credit Card Number","Credit Card \nExp. Date\n(mm/yy)","Credit Card First Name","Credit Card Last Name","Bed Type Request","Accessible","Smoking Preference (US and Canada are non-smoking)","Comments","Special Request Code #1","Special Request Code #2","Special Request Code #3","Company ","Address Line","City","State/Province","Zip or Postal Code","Country or Region","Telephone","Number of Guests in the Room\n(up to five)",null,"Title\n#2","First Name #2","Last Name #2",null,"Title\n#3","First Name #3","Last Name #3",null,"Title\n#4","First Name #4","Last Name #4",null,"Title\n#5","First Name #5","Last Name #5"]

{"sheet":"Rooming List","index":1,"n_rows":312,"n_cols":27,"rows_kept":312,"cut":false,"hidden":false,"merged":[[1,3,1,5]]}
[]
[null,null,"Group Name:"]
[]
[]
[]
[]
[null,null,null,null,null,null,null,"Rooming List Template"]
[]
[]
[null,null,"Reservation Information",null,null,null,null,null,null,{"$f":"IF(F4=1,IF(COUNTA(Table1[Email Address])>0,\"\",\"No Emails Entered\"),\"\")","v":""},null,"V2 01.17.23",null,null,null,"Special Requests & Comments (Requests cannot be guaranteed)",null,null,null,null,null,"Additional Guests"]
[null,null,null,null,null,null,null,null,null,{"$f":"F4","v":0}]
[null,"Title","First Name","Last Name","Arrival Date","Departure Date","Group Code [Hidden]","Billing Method","Bonvoy Number","Email Address","Room Type","Bed Type","School","VIP","Accessible","Special Request 1","Special Request  2","SRQ1","SRQ2","SRQ3","Comments","First Name2","Last Name2","First Name3","Last Name3","First Name4","Last Name4"]
[1,null,null,null,null,null,null,null,null,null,null,null,null,null,null,null,null,{"$f":"IF(Table1[[#This Row],[VIP]]=\"Yes\",\"V1\",\"\")","v":""},{"$f":"LEFT(Table1[[#This Row],[Special Request 1]],2)","v":""},{"$f":"LEFT(Table1[[#This Row],[Special Request  2]],2)","v":""}]
[2,null,null,null,null,null,null,null,null,null,null,null,null,null,null,null,null,{"$f":"IF(Table1[[#This Row],[VIP]]=\"Yes\",\"V1\",\"\")","v":""},{"$f":"LEFT(Table1[[#This Row],[Special Request 1]],2)","v":""},{"$f":"LEFT(Table1[[#This Row],[Special Request  2]],2)","v":""}]
[3,null,null,null,null,null,null,null,null,null,null,null,null,null,null,null,null,{"$f":"IF(Table1[[#This Row],[VIP]]=\"Yes\",\"V1\",\"\")","v":""},{"$f":"LEFT(Table1[[#This Row],[Special Request 1]],2)","v":""},{"$f":"LEFT(Table1[[#This Row],[Special Request  2]],2)","v":""}]
[4,null,null,null,null,null,null,null,null,null,null,null,null,null,null,null,null,{"$f":"IF(Table1[[#This Row],[VIP]]=\"Yes\",\"V1\",\"\")","v":""},{"$f":"LEFT(Table1[[#This Row],[Special Request 1]],2)","v":""},{"$f":"LEFT(Table1[[#This Row],[Special Request  2]],2)","v":""}]
[5,null,null,null,null,null,null,null,null,null,null,null,null,null,null,null,null,{"$f":"IF(Table1[[#This Row],[VIP]]=\"Yes\",\"V1\",\"\")","v":""},{"$f":"LEFT(Table1[[#This Row],[Special Request 1]],2)","v":""},{"$f":"LEFT(Table1[[#This Row],[Special Request  2]],2)","v":""}]
[6,null,null,null,null,null,null,null,null,null,null,null,null,null,null,null,null,{"$f":"IF(Table1[[#This Row],[VIP]]=\"Yes\",\"V1\",\"\")","v":""},{"$f":"LEFT(Table1[[#This Row],[Special Request 1]],2)","v":""},{"$f":"LEFT(Table1[[#This Row],[Special Request  2]],2)","v":""}]
[7,null,null,null,null,null,null,null,null,null,null,null,null,null,null,null,null,{"$f":"IF(Table1[[#This Row],[VIP]]=\"Yes\",\"V1\",\"\")","v":""},{"$f":"LEFT(Table1[[#This Row],[Special Request 1]],2)","v":""},{"$f":"LEFT(Table1[[#This Row],[Special Request  2]],2)","v":""}]
[8,null,null,null,null,null,null,null,null,null,null,null,null,null,null,null,null,{"$f":"IF(Table1[[#This Row],[VIP]]=\"Yes\",\"V1\",\"\")","v":""},{"$f":"LEFT(Table1[[#This Row],[Special Request 1]],2)","v":""},{"$f":"LEFT(Table1[[#This Row],[Special Request  2]],2)","v":""}]
[9,null,null,null,null,null,null,null,null,null,null,null,null,null,null,null,null,{"$f":"IF(Table1[[#This Row],[VIP]]=\"Yes\",\"V1\",\"\")","v":""},{"$f":"LEFT(Table1[[#This Row],[Special Request 1]],2)","v":""},{"$f":"LEFT(Table1[[#This Row],[Special Request  2]],2)","v":""}]
[10,null,null,null,null,null,null,null,null,null,null,null,null,null,null,null,null,{"$f":"IF(Table1[[#This Row],[VIP]]=\"Yes\",\"V1\",\"\")","v":""},{"$f":"LEFT(Table1[[#This Row],[Special Request 1]],2)","v":""},{"$f":"LEFT(Table1[[#This Row],[Special Request  2]],2)","v":""}]
[11,null,null,null,null,null,null,null,null,null,null,null,null,null,null,null,null,{"$f":"IF(Table1[[#This Row],[VIP]]=\"Yes\",\"V1\",\"\")","v":""},{"$f":"LEFT(Table1[[#This Row],[Special Request 1]],2)","v":""},{"$f":"LEFT(Table1[[#This Row],[Special Request  2]],2)","v":""}]
[12,null,null,null,null,null,null,null,null,null,null,null,null,null,null,null,null,{"$f":"IF(Table1[[#This Row],[VIP]]=\"Yes\",\"V1\",\"\")","v":""},{"$f":"LEFT(Table1[[#This Row],[Special Request 1]],2)","v":""},{"$f":"LEFT(Table1[[#This Row],[Special Request  2]],2)","v":""}]
[13,null,null,null,null,null,null,null,null,null,null,null,null,null,null,null,null,{"$f":"IF(Table1[[#This Row],[VIP]]=\"Yes\",\"V1\",\"\")","v":""},{"$f":"LEFT(Table1[[#This Row],[Special Request 1]],2)","v":""},{"$f":"LEFT(Table1[[#This Row],[Special Request  2]],2)","v":""}]
[14,null,null,null,null,null,null,null,null,null,null,null,null,null,null,null,null,{"$f":"IF(Table1[[#This Row],[VIP]]=\"Yes\",\"V1\",\"\")","v":""},{"$f":"LEFT(Table1[[#This Row],[Special Request 1]],2)","v":""},{"$f":"LEFT(Table1[[#This Row],[Special Request  2]],2)","v":""}]
[15,null,null,null,null,null,null,null,null,null,null,null,null,null,null,null,null,{"$f":"IF(Table1[[#This Row],[VIP]]=\"Yes\",\"V1\",\"\")","v":""},{"$f":"LEFT(Table1[[#This Row],[Special Request 1]],2)","v":""},{"$f":"LEFT(Table1[[#This Row],[Special Request  2]],2)","v":""}]
[16,null,null,null,null,null,null,null,null,null,null,null,null,null,null,null,null,{"$f":"IF(Table1[[#This Row],[VIP]]=\"Yes\",\"V1\",\"\")","v":""},{"$f":"LEFT(Table1[[#This Row],[Special Request 1]],2)","v":""},{"$f":"LEFT(Table1[[#This Row],[Special Request  2]],2)","v":""}]
[17,null,null,null,null,null,null,null,null,null,null,null,null,null,null,null,null,{"$f":"IF(Table1[[#This Row],[VIP]]=\"Yes\",\"V1\",\"\")","v":""},{"$f":"LEFT(Table1[[#This Row],[Special Request 1]],2)","v":""},{"$f":"LEFT(Table1[[#This Row],[Special Request  2]],2)","v":""}]
[18,null,null,null,null,null,null,null,null,null,null,null,null,null,null,null,null,{"$f":"IF(Table1[[#This Row],[VIP]]=\"Yes\",\"V1\",\"\")","v":""},{"$f":"LEFT(Table1[[#This Row],[Special Request 1]],2)","v":""},{"$f":"LEFT(Table1[[#This Row],[Special Request  2]],2)","v":""}]
[19,null,null,null,null,null,null,null,null,null,null,null,null,null,null,null,null,{"$f":"IF(Table1[[#This Row],[VIP]]=\"Yes\",\"V1\",\"\")","v":""},{"$f":"LEFT(Table1[[#This Row],[Special Request 1]],2)","v":""},{"$f":"LEFT(Table1[[#This Row],[Special Request  2]],2)","v":""}]
[20,null,null,null,null,null,null,null,null,null,null,null,null,null,null,null,null,{"$f":"IF(Table1[[#This Row],[VIP]]=\"Yes\",\"V1\",\"\")","v":""},{"$f":"LEFT(Table1[[#This Row],[Special Request 1]],2)","v":""},{"$f":"LEFT(Table1[[#This Row],[Special Request  2]],2)","v":""}]
[21,null,null,null,null,null,null,null,null,null,null,null,null,null,null,null,null,{"$f":"IF(Table1[[#This Row],[VIP]]=\"Yes\",\"V1\",\"\")","v":""},{"$f":"LEFT(Table1[[#This Row],[Special Request 1]],2)","v":""},{"$f":"LEFT(Table1[[#This Row],[Special Request  2]],2)","v":""}]
[22,null,null,null,null,null,null,null,null,null,null,null,null,null,null,null,null,{"$f":"IF(Table1[[#This Row],[VIP]]=\"Yes\",\"V1\",\"\")","v":""},{"$f":"LEFT(Table1[[#This Row],[Special Request 1]],2)","v":""},{"$f":"LEFT(Table1[[#This Row],[Special Request  2]],2)","v":""}]
[23,null,null,null,null,null,null,null,null,null,null,null,null,null,null,null,null,{"$f":"IF(Table1[[#This Row],[VIP]]=\"Yes\",\"V1\",\"\")","v":""},{"$f":"LEFT(Table1[[#This Row],[Special Request 1]],2)","v":""},{"$f":"LEFT(Table1[[#This Row],[Special Request  2]],2)","v":""}]
[24,null,null,null,null,null,null,null,null,null,null,null,null,null,null,null,null,{"$f":"IF(Table1[[#This Row],[VIP]]=\"Yes\",\"V1\",\"\")","v":""},{"$f":"LEFT(Table1[[#This Row],[Special Request 1]],2)","v":""},{"$f":"LEFT(Table1[[#This Row],[Special Request  2]],2)","v":""}]
[25,null,null,null,null,null,null,null,null,null,null,null,null,null,null,null,null,{"$f":"IF(Table1[[#This Row],[VIP]]=\"Yes\",\"V1\",\"\")","v":""},{"$f":"LEFT(Table1[[#This Row],[Special Request 1]],2)","v":""},{"$f":"LEFT(Table1[[#This Row],[Special Request  2]],2)","v":""}]
[26,null,null,null,null,null,null,null,null,null,null,null,null,null,null,null,null,{"$f":"IF(Table1[[#This Row],[VIP]]=\"Yes\",\"V1\",\"\")","v":""},{"$f":"LEFT(Table1[[#This Row],[Special Request 1]],2)","v":""},{"$f":"LEFT(Table1[[#This Row],[Special Request  2]],2)","v":""}]
[27,null,null,null,null,null,null,null,null,null,null,null,null,null,null,null,null,{"$f":"IF(Table1[[#This Row],[VIP]]=\"Yes\",\"V1\",\"\")","v":""},{"$f":"LEFT(Table1[[#This Row],[Special Request 1]],2)","v":""},{"$f":"LEFT(Table1[[#This Row],[Special Request  2]],2)","v":""}]
[28,null,null,null,null,null,null,null,null,null,null,null,null,null,null,null,null,{"$f":"IF(Table1[[#This Row],[VIP]]=\"Yes\",\"V1\",\"\")","v":""},{"$f":"LEFT(Table1[[#This Row],[Special Request 1]],2)","v":""},{"$f":"LEFT(Table1[[#This Row],[Special Request  2]],2)","v":""}]
[29,null,null,null,null,null,null,null,null,null,null,null,null,null,null,null,null,{"$f":"IF(Table1[[#This Row],[VIP]]=\"Yes\",\"V1\",\"\")","v":""},{"$f":"LEFT(Table1[[#This Row],[Special Request 1]],2)","v":""},{"$f":"LEFT(Table1[[#This Row],[Special Request  2]],2)","v":""}]
[30,null,null,null,null,null,null,null,null,null,null,null,null,null,null,null,null,{"$f":"IF(Table1[[#This Row],[VIP]]=\"Yes\",\"V1\",\"\")","v":""},{"$f":"LEFT(Table1[[#This Row],[Special Request 1]],2)","v":""},{"$f":"LEFT(Table1[[#This Row],[Special Request  2]],2)","v":""}]
[31,null,null,null,null,null,null,null,null,null,null,null,null,null,null,null,null,{"$f":"IF(Table1[[#This Row],[VIP]]=\"Yes\",\"V1\",\"\")","v":""},{"$f":"LEFT(Table1[[#This Row],[Special Request 1]],2)","v":""},{"$f":"LEFT(Table1[[#This Row],[Special Request  2]],2)","v":""}]
[32,null,null,null,null,null,null,null,null,null,null,null,null,null,null,null,null,{"$f":"IF(Table1[[#This Row],[VIP]]=\"Yes\",\"V1\",\"\")","v":""},{"$f":"LEFT(Table1[[#This Row],[Special Request 1]],2)","v":""},{"$f":"LEFT(Table1[[#This Row],[Special Request  2]],2)","v":""}]
[33,null,null,null,null,null,null,null,null,null,null,null,null,null,null,null,null,{"$f":"IF(Table1[[#This Row],[VIP]]=\"Yes\",\"V1\",\"\")","v":""},{"$f":"LEFT(Table1[[#This Row],[Special Request 1]],2)","v":""},{"$f":"LEFT(Table1[[#This Row],[Special Request  2]],2)","v":""}]
[34,null,null,null,null,null,null,null,null,null,null,null,null,null,null,null,null,{"$f":"IF(Table1[[#This Row],[VIP]]=\"Yes\",\"V1\",\"\")","v":""},{"$f":"LEFT(Table1[[#This Row],[Special Request 1]],2)","v":""},{"$f":"LEFT(Table1[[#This Row],[Special Request  2]],2)","v":""}]
[35,null,null,null,null,null,null,null,null,null,null,null,null,null,null,null,null,{"$f":"IF(Table1[[#This Row],[VIP]]=\"Yes\",\"V1\",\"\")","v":""},{"$f":"LEFT(Table1[[#This Row],[Special Request 1]],2)","v":""},{"$f":"LEFT(Table1[[#This Row],[Special Request  2]],2)","v":""}]
[36,null,null,null,null,null,null,null,null,null,null,null,null,null,null,null,null,{"$f":"IF(Table1[[#This Row],[VIP]]=\"Yes\",\"V1\",\"\")","v":""},{"$f":"LEFT(Table1[[#This Row],[Special Request 1]],2)","v":""},{"$f":"LEFT(Table1[[#This Row],[Special Request  2]],2)","v":""}]
[37,null,null,null,null,null,null,null,null,null,null,null,null,null,null,null,null,{"$f":"IF(Table1[[#This Row],[VIP]]=\"Yes\",\"V1\",\"\")","v":""},{"$f":"LEFT(Table1[[#This Row],[Special Request 1]],2)","v":""},{"$f":"LEFT(Table1[[#This Row],[Special Request  2]],2)","v":""}]
[38,null,null,null,null,null,null,null,null,null,null,null,null,null,null,null,null,{"$f":"IF(Table1[[#This Row],[VIP]]=\"Yes\",\"V1\",\"\")","v":""},{"$f":"LEFT(Table1[[#This Row],[Special Request 1]],2)","v":""},{"$f":"LEFT(Table1[[#This Row],[Special Request  2]],2)","v":""}]
[39,null,null,null,null,null,null,null,null,null,null,null,null,null,null,null,null,{"$f":"IF(Table1[[#This Row],[VIP]]=\"Yes\",\"V1\",\"\")","v":""},{"$f":"LEFT(Table1[[#This Row],[Special Request 1]],2)","v":""},{"$f":"LEFT(Table1[[#This Row],[Special Request  2]],2)","v":""}]
[40,null,null,null,null,null,null,null,null,null,null,null,null,null,null,null,null,{"$f":"IF(Table1[[#This Row],[VIP]]=\"Yes\",\"V1\",\"\")","v":""},{"$f":"LEFT(Table1[[#This Row],[Special Request 1]],2)","v":""},{"$f":"LEFT(Table1[[#This Row],[Special Request  2]],2)","v":""}]
[41,null,null,null,null,null,null,null,null,null,null,null,null,null,null,null,null,{"$f":"IF(Table1[[#This Row],[VIP]]=\"Yes\",\"V1\",\"\")","v":""},{"$f":"LEFT(Table1[[#This Row],[Special Request 1]],2)","v":""},{"$f":"LEFT(Table1[[#This Row],[Special Request  2]],2)","v":""}]
[42,null,null,null,null,null,null,null,null,null,null,null,null,null,null,null,null,{"$f":"IF(Table1[[#This Row],[VIP]]=\"Yes\",\"V1\",\"\")","v":""},{"$f":"LEFT(Table1[[#This Row],[Special Request 1]],2)","v":""},{"$f":"LEFT(Table1[[#This Row],[Special Request  2]],2)","v":""}]
[43,null,null,null,null,null,null,null,null,null,null,null,null,null,null,null,null,{"$f":"IF(Table1[[#This Row],[VIP]]=\"Yes\",\"V1\",\"\")","v":""},{"$f":"LEFT(Table1[[#This Row],[Special Request 1]],2)","v":""},{"$f":"LEFT(Table1[[#This Row],[Special Request  2]],2)","v":""}]
[44,null,null,null,null,null,null,null,null,null,null,null,null,null,null,null,null,{"$f":"IF(Table1[[#This Row],[VIP]]=\"Yes\",\"V1\",\"\")","v":""},{"$f":"LEFT(Table1[[#This Row],[Special Request 1]],2)","v":""},{"$f":"LEFT(Table1[[#This Row],[Special Request  2]],2)","v":""}]
[45,null,null,null,null,null,null,null,null,null,null,null,null,null,null,null,null,{"$f":"IF(Table1[[#This Row],[VIP]]=\"Yes\",\"V1\",\"\")","v":""},{"$f":"LEFT(Table1[[#This Row],[Special Request 1]],2)","v":""},{"$f":"LEFT(Table1[[#This Row],[Special Request  2]],2)","v":""}]
[46,null,null,null,null,null,null,null,null,null,null,null,null,null,null,null,null,{"$f":"IF(Table1[[#This Row],[VIP]]=\"Yes\",\"V1\",\"\")","v":""},{"$f":"LEFT(Table1[[#This Row],[Special Request 1]],2)","v":""},{"$f":"LEFT(Table1[[#This Row],[Special Request  2]],2)","v":""}]
[47,null,null,null,null,null,null,null,null,null,null,null,null,null,null,null,null,{"$f":"IF(Table1[[#This Row],[VIP]]=\"Yes\",\"V1\",\"\")","v":""},{"$f":"LEFT(Table1[[#This Row],[Special Request 1]],2)","v":""},{"$f":"LEFT(Table1[[#This Row],[Special Request  2]],2)","v":""}]
[48,null,null,null,null,null,null,null,null,null,null,null,null,null,null,null,null,{"$f":"IF(Table1[[#This Row],[VIP]]=\"Yes\",\"V1\",\"\")","v":""},{"$f":"LEFT(Table1[[#This Row],[Special Request 1]],2)","v":""},{"$f":"LEFT(Table1[[#This Row],[Special Request  2]],2)","v":""}]
[49,null,null,null,null,null,null,null,null,null,null,null,null,null,null,null,null,{"$f":"IF(Table1[[#This Row],[VIP]]=\"Yes\",\"V1\",\"\")","v":""},{"$f":"LEFT(Table1[[#This Row],[Special Request 1]],2)","v":""},{"$f":"LEFT(Table1[[#This Row],[Special Request  2]],2)","v":""}]
[50,null,null,null,null,null,null,null,null,null,null,null,null,null,null,null,null,{"$f":"IF(Table1[[#This Row],[VIP]]=\"Yes\",\"V1\",\"\")","v":""},{"$f":"LEFT(Table1[[#This Row],[Special Request 1]],2)","v":""},{"$f":"LEFT(Table1[[#This Row],[Special Request  2]],2)","v":""}]
[51,null,null,null,null,null,null,null,null,null,null,null,null,null,null,null,null,{"$f":"IF(Table1[[#This Row],[VIP]]=\"Yes\",\"V1\",\"\")","v":""},{"$f":"LEFT(Table1[[#This Row],[Special Request 1]],2)","v":""},{"$f":"LEFT(Table1[[#This Row],[Special Request  2]],2)","v":""}]
[52,null,null,null,null,null,null,null,null,null,null,null,null,null,null,null,null,{"$f":"IF(Table1[[#This Row],[VIP]]=\"Yes\",\"V1\",\"\")","v":""},{"$f":"LEFT(Table1[[#This Row],[Special Request 1]],2)","v":""},{"$f":"LEFT(Table1[[#This Row],[Special Request  2]],2)","v":""}]
[53,null,null,null,null,null,null,null,null,null,null,null,null,null,null,null,null,{"$f":"IF(Table1[[#This Row],[VIP]]=\"Yes\",\"V1\",\"\")","v":""},{"$f":"LEFT(Table1[[#This Row],[Special Request 1]],2)","v":""},{"$f":"LEFT(Table1[[#This Row],[Special Request  2]],2)","v":""}]
[54,null,null,null,null,null,null,null,null,null,null,null,null,null,null,null,null,{"$f":"IF(Table1[[#This Row],[VIP]]=\"Yes\",\"V1\",\"\")","v":""},{"$f":"LEFT(Table1[[#This Row],[Special Request 1]],2)","v":""},{"$f":"LEFT(Table1[[#This Row],[Special Request  2]],2)","v":""}]
[55,null,null,null,null,null,null,null,null,null,null,null,null,null,null,null,null,{"$f":"IF(Table1[[#This Row],[VIP]]=\"Yes\",\"V1\",\"\")","v":""},{"$f":"LEFT(Table1[[#This Row],[Special Request 1]],2)","v":""},{"$f":"LEFT(Table1[[#This Row],[Special Request  2]],2)","v":""}]
[56,null,null,null,null,null,null,null,null,null,null,null,null,null,null,null,null,{"$f":"IF(Table1[[#This Row],[VIP]]=\"Yes\",\"V1\",\"\")","v":""},{"$f":"LEFT(Table1[[#This Row],[Special Request 1]],2)","v":""},{"$f":"LEFT(Table1[[#This Row],[Special Request  2]],2)","v":""}]
[57,null,null,null,null,null,null,null,null,null,null,null,null,null,null,null,null,{"$f":"IF(Table1[[#This Row],[VIP]]=\"Yes\",\"V1\",\"\")","v":""},{"$f":"LEFT(Table1[[#This Row],[Special Request 1]],2)","v":""},{"$f":"LEFT(Table1[[#This Row],[Special Request  2]],2)","v":""}]
[58,null,null,null,null,null,null,null,null,null,null,null,null,null,null,null,null,{"$f":"IF(Table1[[#This Row],[VIP]]=\"Yes\",\"V1\",\"\")","v":""},{"$f":"LEFT(Table1[[#This Row],[Special Request 1]],2)","v":""},{"$f":"LEFT(Table1[[#This Row],[Special Request  2]],2)","v":""}]
[59,null,null,null,null,null,null,null,null,null,null,null,null,null,null,null,null,{"$f":"IF(Table1[[#This Row],[VIP]]=\"Yes\",\"V1\",\"\")","v":""},{"$f":"LEFT(Table1[[#This Row],[Special Request 1]],2)","v":""},{"$f":"LEFT(Table1[[#This Row],[Special Request  2]],2)","v":""}]
[60,null,null,null,null,null,null,null,null,null,null,null,null,null,null,null,null,{"$f":"IF(Table1[[#This Row],[VIP]]=\"Yes\",\"V1\",\"\")","v":""},{"$f":"LEFT(Table1[[#This Row],[Special Request 1]],2)","v":""},{"$f":"LEFT(Table1[[#This Row],[Special Request  2]],2)","v":""}]
[61,null,null,null,null,null,null,null,null,null,null,null,null,null,null,null,null,{"$f":"IF(Table1[[#This Row],[VIP]]=\"Yes\",\"V1\",\"\")","v":""},{"$f":"LEFT(Table1[[#This Row],[Special Request 1]],2)","v":""},{"$f":"LEFT(Table1[[#This Row],[Special Request  2]],2)","v":""}]
[62,null,null,null,null,null,null,null,null,null,null,null,null,null,null,null,null,{"$f":"IF(Table1[[#This Row],[VIP]]=\"Yes\",\"V1\",\"\")","v":""},{"$f":"LEFT(Table1[[#This Row],[Special Request 1]],2)","v":""},{"$f":"LEFT(Table1[[#This Row],[Special Request  2]],2)","v":""}]
[63,null,null,null,null,null,null,null,null,null,null,null,null,null,null,null,null,{"$f":"IF(Table1[[#This Row],[VIP]]=\"Yes\",\"V1\",\"\")","v":""},{"$f":"LEFT(Table1[[#This Row],[Special Request 1]],2)","v":""},{"$f":"LEFT(Table1[[#This Row],[Special Request  2]],2)","v":""}]
[64,null,null,null,null,null,null,null,null,null,null,null,null,null,null,null,null,{"$f":"IF(Table1[[#This Row],[VIP]]=\"Yes\",\"V1\",\"\")","v":""},{"$f":"LEFT(Table1[[#This Row],[Special Request 1]],2)","v":""},{"$f":"LEFT(Table1[[#This Row],[Special Request  2]],2)","v":""}]
[65,null,null,null,null,null,null,null,null,null,null,null,null,null,null,null,null,{"$f":"IF(Table1[[#This Row],[VIP]]=\"Yes\",\"V1\",\"\")","v":""},{"$f":"LEFT(Table1[[#This Row],[Special Request 1]],2)","v":""},{"$f":"LEFT(Table1[[#This Row],[Special Request  2]],2)","v":""}]
[66,null,null,null,null,null,null,null,null,null,null,null,null,null,null,null,null,{"$f":"IF(Table1[[#This Row],[VIP]]=\"Yes\",\"V1\",\"\")","v":""},{"$f":"LEFT(Table1[[#This Row],[Special Request 1]],2)","v":""},{"$f":"LEFT(Table1[[#This Row],[Special Request  2]],2)","v":""}]
[67,null,null,null,null,null,null,null,null,null,null,null,null,null,null,null,null,{"$f":"IF(Table1[[#This Row],[VIP]]=\"Yes\",\"V1\",\"\")","v":""},{"$f":"LEFT(Table1[[#This Row],[Special Request 1]],2)","v":""},{"$f":"LEFT(Table1[[#This Row],[Special Request  2]],2)","v":""}]
[68,null,null,null,null,null,null,null,null,null,null,null,null,null,null,null,null,{"$f":"IF(Table1[[#This Row],[VIP]]=\"Yes\",\"V1\",\"\")","v":""},{"$f":"LEFT(Table1[[#This Row],[Special Request 1]],2)","v":""},{"$f":"LEFT(Table1[[#This Row],[Special Request  2]],2)","v":""}]
[69,null,null,null,null,null,null,null,null,null,null,null,null,null,null,null,null,{"$f":"IF(Table1[[#This Row],[VIP]]=\"Yes\",\"V1\",\"\")","v":""},{"$f":"LEFT(Table1[[#This Row],[Special Request 1]],2)","v":""},{"$f":"LEFT(Table1[[#This Row],[Special Request  2]],2)","v":""}]
[70,null,null,null,null,null,null,null,null,null,null,null,null,null,null,null,null,{"$f":"IF(Table1[[#This Row],[VIP]]=\"Yes\",\"V1\",\"\")","v":""},{"$f":"LEFT(Table1[[#This Row],[Special Request 1]],2)","v":""},{"$f":"LEFT(Table1[[#This Row],[Special Request  2]],2)","v":""}]
[71,null,null,null,null,null,null,null,null,null,null,null,null,null,null,null,null,{"$f":"IF(Table1[[#This Row],[VIP]]=\"Yes\",\"V1\",\"\")","v":""},{"$f":"LEFT(Table1[[#This Row],[Special Request 1]],2)","v":""},{"$f":"LEFT(Table1[[#This Row],[Special Request  2]],2)","v":""}]
[72,null,null,null,null,null,null,null,null,null,null,null,null,null,null,null,null,{"$f":"IF(Table1[[#This Row],[VIP]]=\"Yes\",\"V1\",\"\")","v":""},{"$f":"LEFT(Table1[[#This Row],[Special Request 1]],2)","v":""},{"$f":"LEFT(Table1[[#This Row],[Special Request  2]],2)","v":""}]
[73,null,null,null,null,null,null,null,null,null,null,null,null,null,null,null,null,{"$f":"IF(Table1[[#This Row],[VIP]]=\"Yes\",\"V1\",\"\")","v":""},{"$f":"LEFT(Table1[[#This Row],[Special Request 1]],2)","v":""},{"$f":"LEFT(Table1[[#This Row],[Special Request  2]],2)","v":""}]
[74,null,null,null,null,null,null,null,null,null,null,null,null,null,null,null,null,{"$f":"IF(Table1[[#This Row],[VIP]]=\"Yes\",\"V1\",\"\")","v":""},{"$f":"LEFT(Table1[[#This Row],[Special Request 1]],2)","v":""},{"$f":"LEFT(Table1[[#This Row],[Special Request  2]],2)","v":""}]
[75,null,null,null,null,null,null,null,null,null,null,null,null,null,null,null,null,{"$f":"IF(Table1[[#This Row],[VIP]]=\"Yes\",\"V1\",\"\")","v":""},{"$f":"LEFT(Table1[[#This Row],[Special Request 1]],2)","v":""},{"$f":"LEFT(Table1[[#This Row],[Special Request  2]],2)","v":""}]
[76,null,null,null,null,null,null,null,null,null,null,null,null,null,null,null,null,{"$f":"IF(Table1[[#This Row],[VIP]]=\"Yes\",\"V1\",\"\")","v":""},{"$f":"LEFT(Table1[[#This Row],[Special Request 1]],2)","v":""},{"$f":"LEFT(Table1[[#This Row],[Special Request  2]],2)","v":""}]
[77,null,null,null,null,null,null,null,null,null,null,null,null,null,null,null,null,{"$f":"IF(Table1[[#This Row],[VIP]]=\"Yes\",\"V1\",\"\")","v":""},{"$f":"LEFT(Table1[[#This Row],[Special Request 1]],2)","v":""},{"$f":"LEFT(Table1[[#This Row],[Special Request  2]],2)","v":""}]
[78,null,null,null,null,null,null,null,null,null,null,null,null,null,null,null,null,{"$f":"IF(Table1[[#This Row],[VIP]]=\"Yes\",\"V1\",\"\")","v":""},{"$f":"LEFT(Table1[[#This Row],[Special Request 1]],2)","v":""},{"$f":"LEFT(Table1[[#This Row],[Special Request  2]],2)","v":""}]
[79,null,null,null,null,null,null,null,null,null,null,null,null,null,null,null,null,{"$f":"IF(Table1[[#This Row],[VIP]]=\"Yes\",\"V1\",\"\")","v":""},{"$f":"LEFT(Table1[[#This Row],[Special Request 1]],2)","v":""},{"$f":"LEFT(Table1[[#This Row],[Special Request  2]],2)","v":""}]
[80,null,null,null,null,null,null,null,null,null,null,null,null,null,null,null,null,{"$f":"IF(Table1[[#This Row],[VIP]]=\"Yes\",\"V1\",\"\")","v":""},{"$f":"LEFT(Table1[[#This Row],[Special Request 1]],2)","v":""},{"$f":"LEFT(Table1[[#This Row],[Special Request  2]],2)","v":""}]
[81,null,null,null,null,null,null,null,null,null,null,null,null,null,null,null,null,{"$f":"IF(Table1[[#This Row],[VIP]]=\"Yes\",\"V1\",\"\")","v":""},{"$f":"LEFT(Table1[[#This Row],[Special Request 1]],2)","v":""},{"$f":"LEFT(Table1[[#This Row],[Special Request  2]],2)","v":""}]
[82,null,null,null,null,null,null,null,null,null,null,null,null,null,null,null,null,{"$f":"IF(Table1[[#This Row],[VIP]]=\"Yes\",\"V1\",\"\")","v":""},{"$f":"LEFT(Table1[[#This Row],[Special Request 1]],2)","v":""},{"$f":"LEFT(Table1[[#This Row],[Special Request  2]],2)","v":""}]
[83,null,null,null,null,null,null,null,null,null,null,null,null,null,null,null,null,{"$f":"IF(Table1[[#This Row],[VIP]]=\"Yes\",\"V1\",\"\")","v":""},{"$f":"LEFT(Table1[[#This Row],[Special Request 1]],2)","v":""},{"$f":"LEFT(Table1[[#This Row],[Special Request  2]],2)","v":""}]
[84,null,null,null,null,null,null,null,null,null,null,null,null,null,null,null,null,{"$f":"IF(Table1[[#This Row],[VIP]]=\"Yes\",\"V1\",\"\")","v":""},{"$f":"LEFT(Table1[[#This Row],[Special Request 1]],2)","v":""},{"$f":"LEFT(Table1[[#This Row],[Special Request  2]],2)","v":""}]
[85,null,null,null,null,null,null,null,null,null,null,null,null,null,null,null,null,{"$f":"IF(Table1[[#This Row],[VIP]]=\"Yes\",\"V1\",\"\")","v":""},{"$f":"LEFT(Table1[[#This Row],[Special Request 1]],2)","v":""},{"$f":"LEFT(Table1[[#This Row],[Special Request  2]],2)","v":""}]
[86,null,null,null,null,null,null,null,null,null,null,null,null,null,null,null,null,{"$f":"IF(Table1[[#This Row],[VIP]]=\"Yes\",\"V1\",\"\")","v":""},{"$f":"LEFT(Table1[[#This Row],[Special Request 1]],2)","v":""},{"$f":"LEFT(Table1[[#This Row],[Special Request  2]],2)","v":""}]
[87,null,null,null,null,null,null,null,null,null,null,null,null,null,null,null,null,{"$f":"IF(Table1[[#This Row],[VIP]]=\"Yes\",\"V1\",\"\")","v":""},{"$f":"LEFT(Table1[[#This Row],[Special Request 1]],2)","v":""},{"$f":"LEFT(Table1[[#This Row],[Special Request  2]],2)","v":""}]
[88,null,null,null,null,null,null,null,null,null,null,null,null,null,null,null,null,{"$f":"IF(Table1[[#This Row],[VIP]]=\"Yes\",\"V1\",\"\")","v":""},{"$f":"LEFT(Table1[[#This Row],[Special Request 1]],2)","v":""},{"$f":"LEFT(Table1[[#This Row],[Special Request  2]],2)","v":""}]
[89,null,null,null,null,null,null,null,null,null,null,null,null,null,null,null,null,{"$f":"IF(Table1[[#This Row],[VIP]]=\"Yes\",\"V1\",\"\")","v":""},{"$f":"LEFT(Table1[[#This Row],[Special Request 1]],2)","v":""},{"$f":"LEFT(Table1[[#This Row],[Special Request  2]],2)","v":""}]
[90,null,null,null,null,null,null,null,null,null,null,null,null,null,null,null,null,{"$f":"IF(Table1[[#This Row],[VIP]]=\"Yes\",\"V1\",\"\")","v":""},{"$f":"LEFT(Table1[[#This Row],[Special Request 1]],2)","v":""},{"$f":"LEFT(Table1[[#This Row],[Special Request  2]],2)","v":""}]
[91,null,null,null,null,null,null,null,null,null,null,null,null,null,null,null,null,{"$f":"IF(Table1[[#This Row],[VIP]]=\"Yes\",\"V1\",\"\")","v":""},{"$f":"LEFT(Table1[[#This Row],[Special Request 1]],2)","v":""},{"$f":"LEFT(Table1[[#This Row],[Special Request  2]],2)","v":""}]
[92,null,null,null,null,null,null,null,null,null,null,null,null,null,null,null,null,{"$f":"IF(Table1[[#This Row],[VIP]]=\"Yes\",\"V1\",\"\")","v":""},{"$f":"LEFT(Table1[[#This Row],[Special Request 1]],2)","v":""},{"$f":"LEFT(Table1[[#This Row],[Special Request  2]],2)","v":""}]
[93,null,null,null,null,null,null,null,null,null,null,null,null,null,null,null,null,{"$f":"IF(Table1[[#This Row],[VIP]]=\"Yes\",\"V1\",\"\")","v":""},{"$f":"LEFT(Table1[[#This Row],[Special Request 1]],2)","v":""},{"$f":"LEFT(Table1[[#This Row],[Special Request  2]],2)","v":""}]
[94,null,null,null,null,null,null,null,null,null,null,null,null,null,null,null,null,{"$f":"IF(Table1[[#This Row],[VIP]]=\"Yes\",\"V1\",\"\")","v":""},{"$f":"LEFT(Table1[[#This Row],[Special Request 1]],2)","v":""},{"$f":"LEFT(Table1[[#This Row],[Special Request  2]],2)","v":""}]
[95,null,null,null,null,null,null,null,null,null,null,null,null,null,null,null,null,{"$f":"IF(Table1[[#This Row],[VIP]]=\"Yes\",\"V1\",\"\")","v":""},{"$f":"LEFT(Table1[[#This Row],[Special Request 1]],2)","v":""},{"$f":"LEFT(Table1[[#This Row],[Special Request  2]],2)","v":""}]
[96,null,null,null,null,null,null,null,null,null,null,null,null,null,null,null,null,{"$f":"IF(Table1[[#This Row],[VIP]]=\"Yes\",\"V1\",\"\")","v":""},{"$f":"LEFT(Table1[[#This Row],[Special Request 1]],2)","v":""},{"$f":"LEFT(Table1[[#This Row],[Special Request  2]],2)","v":""}]
[97,null,null,null,null,null,null,null,null,null,null,null,null,null,null,null,null,{"$f":"IF(Table1[[#This Row],[VIP]]=\"Yes\",\"V1\",\"\")","v":""},{"$f":"LEFT(Table1[[#This Row],[Special Request 1]],2)","v":""},{"$f":"LEFT(Table1[[#This Row],[Special Request  2]],2)","v":""}]
[98,null,null,null,null,null,null,null,null,null,null,null,null,null,null,null,null,{"$f":"IF(Table1[[#This Row],[VIP]]=\"Yes\",\"V1\",\"\")","v":""},{"$f":"LEFT(Table1[[#This Row],[Special Request 1]],2)","v":""},{"$f":"LEFT(Table1[[#This Row],[Special Request  2]],2)","v":""}]
[99,null,null,null,null,null,null,null,null,null,null,null,null,null,null,null,null,{"$f":"IF(Table1[[#This Row],[VIP]]=\"Yes\",\"V1\",\"\")","v":""},{"$f":"LEFT(Table1[[#This Row],[Special Request 1]],2)","v":""},{"$f":"LEFT(Table1[[#This Row],[Special Request  2]],2)","v":""}]
[100,null,null,null,null,null,null,null,null,null,null,null,null,null,null,null,null,{"$f":"IF(Table1[[#This Row],[VIP]]=\"Yes\",\"V1\",\"\")","v":""},{"$f":"LEFT(Table1[[#This Row],[Special Request 1]],2)","v":""},{"$f":"LEFT(Table1[[#This Row],[Special Request  2]],2)","v":""}]
[101,null,null,null,null,null,null,null,null,null,null,null,null,null,null,null,null,{"$f":"IF(Table1[[#This Row],[VIP]]=\"Yes\",\"V1\",\"\")","v":""},{"$f":"LEFT(Table1[[#This Row],[Special Request 1]],2)","v":""},{"$f":"LEFT(Table1[[#This Row],[Special Request  2]],2)","v":""}]
[102,null,null,null,null,null,null,null,null,null,null,null,null,null,null,null,null,{"$f":"IF(Table1[[#This Row],[VIP]]=\"Yes\",\"V1\",\"\")","v":""},{"$f":"LEFT(Table1[[#This Row],[Special Request 1]],2)","v":""},{"$f":"LEFT(Table1[[#This Row],[Special Request  2]],2)","v":""}]
[103,null,null,null,null,null,null,null,null,null,null,null,null,null,null,null,null,{"$f":"IF(Table1[[#This Row],[VIP]]=\"Yes\",\"V1\",\"\")","v":""},{"$f":"LEFT(Table1[[#This Row],[Special Request 1]],2)","v":""},{"$f":"LEFT(Table1[[#This Row],[Special Request  2]],2)","v":""}]
[104,null,null,null,null,null,null,null,null,null,null,null,null,null,null,null,null,{"$f":"IF(Table1[[#This Row],[VIP]]=\"Yes\",\"V1\",\"\")","v":""},{"$f":"LEFT(Table1[[#This Row],[Special Request 1]],2)","v":""},{"$f":"LEFT(Table1[[#This Row],[Special Request  2]],2)","v":""}]
[105,null,null,null,null,null,null,null,null,null,null,null,null,null,null,null,null,{"$f":"IF(Table1[[#This Row],[VIP]]=\"Yes\",\"V1\",\"\")","v":""},{"$f":"LEFT(Table1[[#This Row],[Special Request 1]],2)","v":""},{"$f":"LEFT(Table1[[#This Row],[Special Request  2]],2)","v":""}]
[106,null,null,null,null,null,null,null,null,null,null,null,null,null,null,null,null,{"$f":"IF(Table1[[#This Row],[VIP]]=\"Yes\",\"V1\",\"\")","v":""},{"$f":"LEFT(Table1[[#This Row],[Special Request 1]],2)","v":""},{"$f":"LEFT(Table1[[#This Row],[Special Request  2]],2)","v":""}]
[107,null,null,null,null,null,null,null,null,null,null,null,null,null,null,null,null,{"$f":"IF(Table1[[#This Row],[VIP]]=\"Yes\",\"V1\",\"\")","v":""},{"$f":"LEFT(Table1[[#This Row],[Special Request 1]],2)","v":""},{"$f":"LEFT(Table1[[#This Row],[Special Request  2]],2)","v":""}]
[108,null,null,null,null,null,null,null,null,null,null,null,null,null,null,null,null,{"$f":"IF(Table1[[#This Row],[VIP]]=\"Yes\",\"V1\",\"\")","v":""},{"$f":"LEFT(Table1[[#This Row],[Special Request 1]],2)","v":""},{"$f":"LEFT(Table1[[#This Row],[Special Request  2]],2)","v":""}]
[109,null,null,null,null,null,null,null,null,null,null,null,null,null,null,null,null,{"$f":"IF(Table1[[#This Row],[VIP]]=\"Yes\",\"V1\",\"\")","v":""},{"$f":"LEFT(Table1[[#This Row],[Special Request 1]],2)","v":""},{"$f":"LEFT(Table1[[#This Row],[Special Request  2]],2)","v":""}]
[110,null,null,null,null,null,null,null,null,null,null,null,null,null,null,null,null,{"$f":"IF(Table1[[#This Row],[VIP]]=\"Yes\",\"V1\",\"\")","v":""},{"$f":"LEFT(Table1[[#This Row],[Special Request 1]],2)","v":""},{"$f":"LEFT(Table1[[#This Row],[Special Request  2]],2)","v":""}]
[111,null,null,null,null,null,null,null,null,null,null,null,null,null,null,null,null,{"$f":"IF(Table1[[#This Row],[VIP]]=\"Yes\",\"V1\",\"\")","v":""},{"$f":"LEFT(Table1[[#This Row],[Special Request 1]],2)","v":""},{"$f":"LEFT(Table1[[#This Row],[Special Request  2]],2)","v":""}]
[112,null,null,null,null,null,null,null,null,null,null,null,null,null,null,null,null,{"$f":"IF(Table1[[#This Row],[VIP]]=\"Yes\",\"V1\",\"\")","v":""},{"$f":"LEFT(Table1[[#This Row],[Special Request 1]],2)","v":""},{"$f":"LEFT(Table1[[#This Row],[Special Request  2]],2)","v":""}]
[113,null,null,null,null,null,null,null,null,null,null,null,null,null,null,null,null,{"$f":"IF(Table1[[#This Row],[VIP]]=\"Yes\",\"V1\",\"\")","v":""},{"$f":"LEFT(Table1[[#This Row],[Special Request 1]],2)","v":""},{"$f":"LEFT(Table1[[#This Row],[Special Request  2]],2)","v":""}]
[114,null,null,null,null,null,null,null,null,null,null,null,null,null,null,null,null,{"$f":"IF(Table1[[#This Row],[VIP]]=\"Yes\",\"V1\",\"\")","v":""},{"$f":"LEFT(Table1[[#This Row],[Special Request 1]],2)","v":""},{"$f":"LEFT(Table1[[#This Row],[Special Request  2]],2)","v":""}]
[115,null,null,null,null,null,null,null,null,null,null,null,null,null,null,null,null,{"$f":"IF(Table1[[#This Row],[VIP]]=\"Yes\",\"V1\",\"\")","v":""},{"$f":"LEFT(Table1[[#This Row],[Special Request 1]],2)","v":""},{"$f":"LEFT(Table1[[#This Row],[Special Request  2]],2)","v":""}]
[116,null,null,null,null,null,null,null,null,null,null,null,null,null,null,null,null,{"$f":"IF(Table1[[#This Row],[VIP]]=\"Yes\",\"V1\",\"\")","v":""},{"$f":"LEFT(Table1[[#This Row],[Special Request 1]],2)","v":""},{"$f":"LEFT(Table1[[#This Row],[Special Request  2]],2)","v":""}]
[117,null,null,null,null,null,null,null,null,null,null,null,null,null,null,null,null,{"$f":"IF(Table1[[#This Row],[VIP]]=\"Yes\",\"V1\",\"\")","v":""},{"$f":"LEFT(Table1[[#This Row],[Special Request 1]],2)","v":""},{"$f":"LEFT(Table1[[#This Row],[Special Request  2]],2)","v":""}]
[118,null,null,null,null,null,null,null,null,null,null,null,null,null,null,null,null,{"$f":"IF(Table1[[#This Row],[VIP]]=\"Yes\",\"V1\",\"\")","v":""},{"$f":"LEFT(Table1[[#This Row],[Special Request 1]],2)","v":""},{"$f":"LEFT(Table1[[#This Row],[Special Request  2]],2)","v":""}]
[119,null,null,null,null,null,null,null,null,null,null,null,null,null,null,null,null,{"$f":"IF(Table1[[#This Row],[VIP]]=\"Yes\",\"V1\",\"\")","v":""},{"$f":"LEFT(Table1[[#This Row],[Special Request 1]],2)","v":""},{"$f":"LEFT(Table1[[#This Row],[Special Request  2]],2)","v":""}]
[120,null,null,null,null,null,null,null,null,null,null,null,null,null,null,null,null,{"$f":"IF(Table1[[#This Row],[VIP]]=\"Yes\",\"V1\",\"\")","v":""},{"$f":"LEFT(Table1[[#This Row],[Special Request 1]],2)","v":""},{"$f":"LEFT(Table1[[#This Row],[Special Request  2]],2)","v":""}]
[121,null,null,null,null,null,null,null,null,null,null,null,null,null,null,null,null,{"$f":"IF(Table1[[#This Row],[VIP]]=\"Yes\",\"V1\",\"\")","v":""},{"$f":"LEFT(Table1[[#This Row],[Special Request 1]],2)","v":""},{"$f":"LEFT(Table1[[#This Row],[Special Request  2]],2)","v":""}]
[122,null,null,null,null,null,null,null,null,null,null,null,null,null,null,null,null,{"$f":"IF(Table1[[#This Row],[VIP]]=\"Yes\",\"V1\",\"\")","v":""},{"$f":"LEFT(Table1[[#This Row],[Special Request 1]],2)","v":""},{"$f":"LEFT(Table1[[#This Row],[Special Request  2]],2)","v":""}]
[123,null,null,null,null,null,null,null,null,null,null,null,null,null,null,null,null,{"$f":"IF(Table1[[#This Row],[VIP]]=\"Yes\",\"V1\",\"\")","v":""},{"$f":"LEFT(Table1[[#This Row],[Special Request 1]],2)","v":""},{"$f":"LEFT(Table1[[#This Row],[Special Request  2]],2)","v":""}]
[124,null,null,null,null,null,null,null,null,null,null,null,null,null,null,null,null,{"$f":"IF(Table1[[#This Row],[VIP]]=\"Yes\",\"V1\",\"\")","v":""},{"$f":"LEFT(Table1[[#This Row],[Special Request 1]],2)","v":""},{"$f":"LEFT(Table1[[#This Row],[Special Request  2]],2)","v":""}]
[125,null,null,null,null,null,null,null,null,null,null,null,null,null,null,null,null,{"$f":"IF(Table1[[#This Row],[VIP]]=\"Yes\",\"V1\",\"\")","v":""},{"$f":"LEFT(Table1[[#This Row],[Special Request 1]],2)","v":""},{"$f":"LEFT(Table1[[#This Row],[Special Request  2]],2)","v":""}]
[126,null,null,null,null,null,null,null,null,null,null,null,null,null,null,null,null,{"$f":"IF(Table1[[#This Row],[VIP]]=\"Yes\",\"V1\",\"\")","v":""},{"$f":"LEFT(Table1[[#This Row],[Special Request 1]],2)","v":""},{"$f":"LEFT(Table1[[#This Row],[Special Request  2]],2)","v":""}]
[127,null,null,null,null,null,null,null,null,null,null,null,null,null,null,null,null,{"$f":"IF(Table1[[#This Row],[VIP]]=\"Yes\",\"V1\",\"\")","v":""},{"$f":"LEFT(Table1[[#This Row],[Special Request 1]],2)","v":""},{"$f":"LEFT(Table1[[#This Row],[Special Request  2]],2)","v":""}]
[128,null,null,null,null,null,null,null,null,null,null,null,null,null,null,null,null,{"$f":"IF(Table1[[#This Row],[VIP]]=\"Yes\",\"V1\",\"\")","v":""},{"$f":"LEFT(Table1[[#This Row],[Special Request 1]],2)","v":""},{"$f":"LEFT(Table1[[#This Row],[Special Request  2]],2)","v":""}]
[129,null,null,null,null,null,null,null,null,null,null,null,null,null,null,null,null,{"$f":"IF(Table1[[#This Row],[VIP]]=\"Yes\",\"V1\",\"\")","v":""},{"$f":"LEFT(Table1[[#This Row],[Special Request 1]],2)","v":""},{"$f":"LEFT(Table1[[#This Row],[Special Request  2]],2)","v":""}]
[130,null,null,null,null,null,null,null,null,null,null,null,null,null,null,null,null,{"$f":"IF(Table1[[#This Row],[VIP]]=\"Yes\",\"V1\",\"\")","v":""},{"$f":"LEFT(Table1[[#This Row],[Special Request 1]],2)","v":""},{"$f":"LEFT(Table1[[#This Row],[Special Request  2]],2)","v":""}]
[131,null,null,null,null,null,null,null,null,null,null,null,null,null,null,null,null,{"$f":"IF(Table1[[#This Row],[VIP]]=\"Yes\",\"V1\",\"\")","v":""},{"$f":"LEFT(Table1[[#This Row],[Special Request 1]],2)","v":""},{"$f":"LEFT(Table1[[#This Row],[Special Request  2]],2)","v":""}]
[132,null,null,null,null,null,null,null,null,null,null,null,null,null,null,null,null,{"$f":"IF(Table1[[#This Row],[VIP]]=\"Yes\",\"V1\",\"\")","v":""},{"$f":"LEFT(Table1[[#This Row],[Special Request 1]],2)","v":""},{"$f":"LEFT(Table1[[#This Row],[Special Request  2]],2)","v":""}]
[133,null,null,null,null,null,null,null,null,null,null,null,null,null,null,null,null,{"$f":"IF(Table1[[#This Row],[VIP]]=\"Yes\",\"V1\",\"\")","v":""},{"$f":"LEFT(Table1[[#This Row],[Special Request 1]],2)","v":""},{"$f":"LEFT(Table1[[#This Row],[Special Request  2]],2)","v":""}]
[134,null,null,null,null,null,null,null,null,null,null,null,null,null,null,null,null,{"$f":"IF(Table1[[#This Row],[VIP]]=\"Yes\",\"V1\",\"\")","v":""},{"$f":"LEFT(Table1[[#This Row],[Special Request 1]],2)","v":""},{"$f":"LEFT(Table1[[#This Row],[Special Request  2]],2)","v":""}]
[135,null,null,null,null,null,null,null,null,null,null,null,null,null,null,null,null,{"$f":"IF(Table1[[#This Row],[VIP]]=\"Yes\",\"V1\",\"\")","v":""},{"$f":"LEFT(Table1[[#This Row],[Special Request 1]],2)","v":""},{"$f":"LEFT(Table1[[#This Row],[Special Request  2]],2)","v":""}]
[136,null,null,null,null,null,null,null,null,null,null,null,null,null,null,null,null,{"$f":"IF(Table1[[#This Row],[VIP]]=\"Yes\",\"V1\",\"\")","v":""},{"$f":"LEFT(Table1[[#This Row],[Special Request 1]],2)","v":""},{"$f":"LEFT(Table1[[#This Row],[Special Request  2]],2)","v":""}]
[137,null,null,null,null,null,null,null,null,null,null,null,null,null,null,null,null,{"$f":"IF(Table1[[#This Row],[VIP]]=\"Yes\",\"V1\",\"\")","v":""},{"$f":"LEFT(Table1[[#This Row],[Special Request 1]],2)","v":""},{"$f":"LEFT(Table1[[#This Row],[Special Request  2]],2)","v":""}]
[138,null,null,null,null,null,null,null,null,null,null,null,null,null,null,null,null,{"$f":"IF(Table1[[#This Row],[VIP]]=\"Yes\",\"V1\",\"\")","v":""},{"$f":"LEFT(Table1[[#This Row],[Special Request 1]],2)","v":""},{"$f":"LEFT(Table1[[#This Row],[Special Request  2]],2)","v":""}]
[139,null,null,null,null,null,null,null,null,null,null,null,null,null,null,null,null,{"$f":"IF(Table1[[#This Row],[VIP]]=\"Yes\",\"V1\",\"\")","v":""},{"$f":"LEFT(Table1[[#This Row],[Special Request 1]],2)","v":""},{"$f":"LEFT(Table1[[#This Row],[Special Request  2]],2)","v":""}]
[140,null,null,null,null,null,null,null,null,null,null,null,null,null,null,null,null,{"$f":"IF(Table1[[#This Row],[VIP]]=\"Yes\",\"V1\",\"\")","v":""},{"$f":"LEFT(Table1[[#This Row],[Special Request 1]],2)","v":""},{"$f":"LEFT(Table1[[#This Row],[Special Request  2]],2)","v":""}]
[141,null,null,null,null,null,null,null,null,null,null,null,null,null,null,null,null,{"$f":"IF(Table1[[#This Row],[VIP]]=\"Yes\",\"V1\",\"\")","v":""},{"$f":"LEFT(Table1[[#This Row],[Special Request 1]],2)","v":""},{"$f":"LEFT(Table1[[#This Row],[Special Request  2]],2)","v":""}]
[142,null,null,null,null,null,null,null,null,null,null,null,null,null,null,null,null,{"$f":"IF(Table1[[#This Row],[VIP]]=\"Yes\",\"V1\",\"\")","v":""},{"$f":"LEFT(Table1[[#This Row],[Special Request 1]],2)","v":""},{"$f":"LEFT(Table1[[#This Row],[Special Request  2]],2)","v":""}]
[143,null,null,null,null,null,null,null,null,null,null,null,null,null,null,null,null,{"$f":"IF(Table1[[#This Row],[VIP]]=\"Yes\",\"V1\",\"\")","v":""},{"$f":"LEFT(Table1[[#This Row],[Special Request 1]],2)","v":""},{"$f":"LEFT(Table1[[#This Row],[Special Request  2]],2)","v":""}]
[144,null,null,null,null,null,null,null,null,null,null,null,null,null,null,null,null,{"$f":"IF(Table1[[#This Row],[VIP]]=\"Yes\",\"V1\",\"\")","v":""},{"$f":"LEFT(Table1[[#This Row],[Special Request 1]],2)","v":""},{"$f":"LEFT(Table1[[#This Row],[Special Request  2]],2)","v":""}]
[145,null,null,null,null,null,null,null,null,null,null,null,null,null,null,null,null,{"$f":"IF(Table1[[#This Row],[VIP]]=\"Yes\",\"V1\",\"\")","v":""},{"$f":"LEFT(Table1[[#This Row],[Special Request 1]],2)","v":""},{"$f":"LEFT(Table1[[#This Row],[Special Request  2]],2)","v":""}]
[146,null,null,null,null,null,null,null,null,null,null,null,null,null,null,null,null,{"$f":"IF(Table1[[#This Row],[VIP]]=\"Yes\",\"V1\",\"\")","v":""},{"$f":"LEFT(Table1[[#This Row],[Special Request 1]],2)","v":""},{"$f":"LEFT(Table1[[#This Row],[Special Request  2]],2)","v":""}]
[147,null,null,null,null,null,null,null,null,null,null,null,null,null,null,null,null,{"$f":"IF(Table1[[#This Row],[VIP]]=\"Yes\",\"V1\",\"\")","v":""},{"$f":"LEFT(Table1[[#This Row],[Special Request 1]],2)","v":""},{"$f":"LEFT(Table1[[#This Row],[Special Request  2]],2)","v":""}]
[148,null,null,null,null,null,null,null,null,null,null,null,null,null,null,null,null,{"$f":"IF(Table1[[#This Row],[VIP]]=\"Yes\",\"V1\",\"\")","v":""},{"$f":"LEFT(Table1[[#This Row],[Special Request 1]],2)","v":""},{"$f":"LEFT(Table1[[#This Row],[Special Request  2]],2)","v":""}]
[149,null,null,null,null,null,null,null,null,null,null,null,null,null,null,null,null,{"$f":"IF(Table1[[#This Row],[VIP]]=\"Yes\",\"V1\",\"\")","v":""},{"$f":"LEFT(Table1[[#This Row],[Special Request 1]],2)","v":""},{"$f":"LEFT(Table1[[#This Row],[Special Request  2]],2)","v":""}]
[150,null,null,null,null,null,null,null,null,null,null,null,null,null,null,null,null,{"$f":"IF(Table1[[#This Row],[VIP]]=\"Yes\",\"V1\",\"\")","v":""},{"$f":"LEFT(Table1[[#This Row],[Special Request 1]],2)","v":""},{"$f":"LEFT(Table1[[#This Row],[Special Request  2]],2)","v":""}]
[151,null,null,null,null,null,null,null,null,null,null,null,null,null,null,null,null,{"$f":"IF(Table1[[#This Row],[VIP]]=\"Yes\",\"V1\",\"\")","v":""},{"$f":"LEFT(Table1[[#This Row],[Special Request 1]],2)","v":""},{"$f":"LEFT(Table1[[#This Row],[Special Request  2]],2)","v":""}]
[152,null,null,null,null,null,null,null,null,null,null,null,null,null,null,null,null,{"$f":"IF(Table1[[#This Row],[VIP]]=\"Yes\",\"V1\",\"\")","v":""},{"$f":"LEFT(Table1[[#This Row],[Special Request 1]],2)","v":""},{"$f":"LEFT(Table1[[#This Row],[Special Request  2]],2)","v":""}]
[153,null,null,null,null,null,null,null,null,null,null,null,null,null,null,null,null,{"$f":"IF(Table1[[#This Row],[VIP]]=\"Yes\",\"V1\",\"\")","v":""},{"$f":"LEFT(Table1[[#This Row],[Special Request 1]],2)","v":""},{"$f":"LEFT(Table1[[#This Row],[Special Request  2]],2)","v":""}]
[154,null,null,null,null,null,null,null,null,null,null,null,null,null,null,null,null,{"$f":"IF(Table1[[#This Row],[VIP]]=\"Yes\",\"V1\",\"\")","v":""},{"$f":"LEFT(Table1[[#This Row],[Special Request 1]],2)","v":""},{"$f":"LEFT(Table1[[#This Row],[Special Request  2]],2)","v":""}]
[155,null,null,null,null,null,null,null,null,null,null,null,null,null,null,null,null,{"$f":"IF(Table1[[#This Row],[VIP]]=\"Yes\",\"V1\",\"\")","v":""},{"$f":"LEFT(Table1[[#This Row],[Special Request 1]],2)","v":""},{"$f":"LEFT(Table1[[#This Row],[Special Request  2]],2)","v":""}]
[156,null,null,null,null,null,null,null,null,null,null,null,null,null,null,null,null,{"$f":"IF(Table1[[#This Row],[VIP]]=\"Yes\",\"V1\",\"\")","v":""},{"$f":"LEFT(Table1[[#This Row],[Special Request 1]],2)","v":""},{"$f":"LEFT(Table1[[#This Row],[Special Request  2]],2)","v":""}]
[157,null,null,null,null,null,null,null,null,null,null,null,null,null,null,null,null,{"$f":"IF(Table1[[#This Row],[VIP]]=\"Yes\",\"V1\",\"\")","v":""},{"$f":"LEFT(Table1[[#This Row],[Special Request 1]],2)","v":""},{"$f":"LEFT(Table1[[#This Row],[Special Request  2]],2)","v":""}]
[158,null,null,null,null,null,null,null,null,null,null,null,null,null,null,null,null,{"$f":"IF(Table1[[#This Row],[VIP]]=\"Yes\",\"V1\",\"\")","v":""},{"$f":"LEFT(Table1[[#This Row],[Special Request 1]],2)","v":""},{"$f":"LEFT(Table1[[#This Row],[Special Request  2]],2)","v":""}]
[159,null,null,null,null,null,null,null,null,null,null,null,null,null,null,null,null,{"$f":"IF(Table1[[#This Row],[VIP]]=\"Yes\",\"V1\",\"\")","v":""},{"$f":"LEFT(Table1[[#This Row],[Special Request 1]],2)","v":""},{"$f":"LEFT(Table1[[#This Row],[Special Request  2]],2)","v":""}]
[160,null,null,null,null,null,null,null,null,null,null,null,null,null,null,null,null,{"$f":"IF(Table1[[#This Row],[VIP]]=\"Yes\",\"V1\",\"\")","v":""},{"$f":"LEFT(Table1[[#This Row],[Special Request 1]],2)","v":""},{"$f":"LEFT(Table1[[#This Row],[Special Request  2]],2)","v":""}]
[161,null,null,null,null,null,null,null,null,null,null,null,null,null,null,null,null,{"$f":"IF(Table1[[#This Row],[VIP]]=\"Yes\",\"V1\",\"\")","v":""},{"$f":"LEFT(Table1[[#This Row],[Special Request 1]],2)","v":""},{"$f":"LEFT(Table1[[#This Row],[Special Request  2]],2)","v":""}]
[162,null,null,null,null,null,null,null,null,null,null,null,null,null,null,null,null,{"$f":"IF(Table1[[#This Row],[VIP]]=\"Yes\",\"V1\",\"\")","v":""},{"$f":"LEFT(Table1[[#This Row],[Special Request 1]],2)","v":""},{"$f":"LEFT(Table1[[#This Row],[Special Request  2]],2)","v":""}]
[163,null,null,null,null,null,null,null,null,null,null,null,null,null,null,null,null,{"$f":"IF(Table1[[#This Row],[VIP]]=\"Yes\",\"V1\",\"\")","v":""},{"$f":"LEFT(Table1[[#This Row],[Special Request 1]],2)","v":""},{"$f":"LEFT(Table1[[#This Row],[Special Request  2]],2)","v":""}]
[164,null,null,null,null,null,null,null,null,null,null,null,null,null,null,null,null,{"$f":"IF(Table1[[#This Row],[VIP]]=\"Yes\",\"V1\",\"\")","v":""},{"$f":"LEFT(Table1[[#This Row],[Special Request 1]],2)","v":""},{"$f":"LEFT(Table1[[#This Row],[Special Request  2]],2)","v":""}]
[165,null,null,null,null,null,null,null,null,null,null,null,null,null,null,null,null,{"$f":"IF(Table1[[#This Row],[VIP]]=\"Yes\",\"V1\",\"\")","v":""},{"$f":"LEFT(Table1[[#This Row],[Special Request 1]],2)","v":""},{"$f":"LEFT(Table1[[#This Row],[Special Request  2]],2)","v":""}]
[166,null,null,null,null,null,null,null,null,null,null,null,null,null,null,null,null,{"$f":"IF(Table1[[#This Row],[VIP]]=\"Yes\",\"V1\",\"\")","v":""},{"$f":"LEFT(Table1[[#This Row],[Special Request 1]],2)","v":""},{"$f":"LEFT(Table1[[#This Row],[Special Request  2]],2)","v":""}]
[167,null,null,null,null,null,null,null,null,null,null,null,null,null,null,null,null,{"$f":"IF(Table1[[#This Row],[VIP]]=\"Yes\",\"V1\",\"\")","v":""},{"$f":"LEFT(Table1[[#This Row],[Special Request 1]],2)","v":""},{"$f":"LEFT(Table1[[#This Row],[Special Request  2]],2)","v":""}]
[168,null,null,null,null,null,null,null,null,null,null,null,null,null,null,null,null,{"$f":"IF(Table1[[#This Row],[VIP]]=\"Yes\",\"V1\",\"\")","v":""},{"$f":"LEFT(Table1[[#This Row],[Special Request 1]],2)","v":""},{"$f":"LEFT(Table1[[#This Row],[Special Request  2]],2)","v":""}]
[169,null,null,null,null,null,null,null,null,null,null,null,null,null,null,null,null,{"$f":"IF(Table1[[#This Row],[VIP]]=\"Yes\",\"V1\",\"\")","v":""},{"$f":"LEFT(Table1[[#This Row],[Special Request 1]],2)","v":""},{"$f":"LEFT(Table1[[#This Row],[Special Request  2]],2)","v":""}]
[170,null,null,null,null,null,null,null,null,null,null,null,null,null,null,null,null,{"$f":"IF(Table1[[#This Row],[VIP]]=\"Yes\",\"V1\",\"\")","v":""},{"$f":"LEFT(Table1[[#This Row],[Special Request 1]],2)","v":""},{"$f":"LEFT(Table1[[#This Row],[Special Request  2]],2)","v":""}]
[171,null,null,null,null,null,null,null,null,null,null,null,null,null,null,null,null,{"$f":"IF(Table1[[#This Row],[VIP]]=\"Yes\",\"V1\",\"\")","v":""},{"$f":"LEFT(Table1[[#This Row],[Special Request 1]],2)","v":""},{"$f":"LEFT(Table1[[#This Row],[Special Request  2]],2)","v":""}]
[172,null,null,null,null,null,null,null,null,null,null,null,null,null,null,null,null,{"$f":"IF(Table1[[#This Row],[VIP]]=\"Yes\",\"V1\",\"\")","v":""},{"$f":"LEFT(Table1[[#This Row],[Special Request 1]],2)","v":""},{"$f":"LEFT(Table1[[#This Row],[Special Request  2]],2)","v":""}]
[173,null,null,null,null,null,null,null,null,null,null,null,null,null,null,null,null,{"$f":"IF(Table1[[#This Row],[VIP]]=\"Yes\",\"V1\",\"\")","v":""},{"$f":"LEFT(Table1[[#This Row],[Special Request 1]],2)","v":""},{"$f":"LEFT(Table1[[#This Row],[Special Request  2]],2)","v":""}]
[174,null,null,null,null,null,null,null,null,null,null,null,null,null,null,null,null,{"$f":"IF(Table1[[#This Row],[VIP]]=\"Yes\",\"V1\",\"\")","v":""},{"$f":"LEFT(Table1[[#This Row],[Special Request 1]],2)","v":""},{"$f":"LEFT(Table1[[#This Row],[Special Request  2]],2)","v":""}]
[175,null,null,null,null,null,null,null,null,null,null,null,null,null,null,null,null,{"$f":"IF(Table1[[#This Row],[VIP]]=\"Yes\",\"V1\",\"\")","v":""},{"$f":"LEFT(Table1[[#This Row],[Special Request 1]],2)","v":""},{"$f":"LEFT(Table1[[#This Row],[Special Request  2]],2)","v":""}]
[176,null,null,null,null,null,null,null,null,null,null,null,null,null,null,null,null,{"$f":"IF(Table1[[#This Row],[VIP]]=\"Yes\",\"V1\",\"\")","v":""},{"$f":"LEFT(Table1[[#This Row],[Special Request 1]],2)","v":""},{"$f":"LEFT(Table1[[#This Row],[Special Request  2]],2)","v":""}]
[177,null,null,null,null,null,null,null,null,null,null,null,null,null,null,null,null,{"$f":"IF(Table1[[#This Row],[VIP]]=\"Yes\",\"V1\",\"\")","v":""},{"$f":"LEFT(Table1[[#This Row],[Special Request 1]],2)","v":""},{"$f":"LEFT(Table1[[#This Row],[Special Request  2]],2)","v":""}]
[178,null,null,null,null,null,null,null,null,null,null,null,null,null,null,null,null,{"$f":"IF(Table1[[#This Row],[VIP]]=\"Yes\",\"V1\",\"\")","v":""},{"$f":"LEFT(Table1[[#This Row],[Special Request 1]],2)","v":""},{"$f":"LEFT(Table1[[#This Row],[Special Request  2]],2)","v":""}]
[179,null,null,null,null,null,null,null,null,null,null,null,null,null,null,null,null,{"$f":"IF(Table1[[#This Row],[VIP]]=\"Yes\",\"V1\",\"\")","v":""},{"$f":"LEFT(Table1[[#This Row],[Special Request 1]],2)","v":""},{"$f":"LEFT(Table1[[#This Row],[Special Request  2]],2)","v":""}]
[180,null,null,null,null,null,null,null,null,null,null,null,null,null,null,null,null,{"$f":"IF(Table1[[#This Row],[VIP]]=\"Yes\",\"V1\",\"\")","v":""},{"$f":"LEFT(Table1[[#This Row],[Special Request 1]],2)","v":""},{"$f":"LEFT(Table1[[#This Row],[Special Request  2]],2)","v":""}]
[181,null,null,null,null,null,null,null,null,null,null,null,null,null,null,null,null,{"$f":"IF(Table1[[#This Row],[VIP]]=\"Yes\",\"V1\",\"\")","v":""},{"$f":"LEFT(Table1[[#This Row],[Special Request 1]],2)","v":""},{"$f":"LEFT(Table1[[#This Row],[Special Request  2]],2)","v":""}]
[182,null,null,null,null,null,null,null,null,null,null,null,null,null,null,null,null,{"$f":"IF(Table1[[#This Row],[VIP]]=\"Yes\",\"V1\",\"\")","v":""},{"$f":"LEFT(Table1[[#This Row],[Special Request 1]],2)","v":""},{"$f":"LEFT(Table1[[#This Row],[Special Request  2]],2)","v":""}]
[183,null,null,null,null,null,null,null,null,null,null,null,null,null,null,null,null,{"$f":"IF(Table1[[#This Row],[VIP]]=\"Yes\",\"V1\",\"\")","v":""},{"$f":"LEFT(Table1[[#This Row],[Special Request 1]],2)","v":""},{"$f":"LEFT(Table1[[#This Row],[Special Request  2]],2)","v":""}]
[184,null,null,null,null,null,null,null,null,null,null,null,null,null,null,null,null,{"$f":"IF(Table1[[#This Row],[VIP]]=\"Yes\",\"V1\",\"\")","v":""},{"$f":"LEFT(Table1[[#This Row],[Special Request 1]],2)","v":""},{"$f":"LEFT(Table1[[#This Row],[Special Request  2]],2)","v":""}]
[185,null,null,null,null,null,null,null,null,null,null,null,null,null,null,null,null,{"$f":"IF(Table1[[#This Row],[VIP]]=\"Yes\",\"V1\",\"\")","v":""},{"$f":"LEFT(Table1[[#This Row],[Special Request 1]],2)","v":""},{"$f":"LEFT(Table1[[#This Row],[Special Request  2]],2)","v":""}]
[186,null,null,null,null,null,null,null,null,null,null,null,null,null,null,null,null,{"$f":"IF(Table1[[#This Row],[VIP]]=\"Yes\",\"V1\",\"\")","v":""},{"$f":"LEFT(Table1[[#This Row],[Special Request 1]],2)","v":""},{"$f":"LEFT(Table1[[#This Row],[Special Request  2]],2)","v":""}]
[187,null,null,null,null,null,null,null,null,null,null,null,null,null,null,null,null,{"$f":"IF(Table1[[#This Row],[VIP]]=\"Yes\",\"V1\",\"\")","v":""},{"$f":"LEFT(Table1[[#This Row],[Special Request 1]],2)","v":""},{"$f":"LEFT(Table1[[#This Row],[Special Request  2]],2)","v":""}]
[188,null,null,null,null,null,null,null,null,null,null,null,null,null,null,null,null,{"$f":"IF(Table1[[#This Row],[VIP]]=\"Yes\",\"V1\",\"\")","v":""},{"$f":"LEFT(Table1[[#This Row],[Special Request 1]],2)","v":""},{"$f":"LEFT(Table1[[#This Row],[Special Request  2]],2)","v":""}]
[189,null,null,null,null,null,null,null,null,null,null,null,null,null,null,null,null,{"$f":"IF(Table1[[#This Row],[VIP]]=\"Yes\",\"V1\",\"\")","v":""},{"$f":"LEFT(Table1[[#This Row],[Special Request 1]],2)","v":""},{"$f":"LEFT(Table1[[#This Row],[Special Request  2]],2)","v":""}]
[190,null,null,null,null,null,null,null,null,null,null,null,null,null,null,null,null,{"$f":"IF(Table1[[#This Row],[VIP]]=\"Yes\",\"V1\",\"\")","v":""},{"$f":"LEFT(Table1[[#This Row],[Special Request 1]],2)","v":""},{"$f":"LEFT(Table1[[#This Row],[Special Request  2]],2)","v":""}]
[191,null,null,null,null,null,null,null,null,null,null,null,null,null,null,null,null,{"$f":"IF(Table1[[#This Row],[VIP]]=\"Yes\",\"V1\",\"\")","v":""},{"$f":"LEFT(Table1[[#This Row],[Special Request 1]],2)","v":""},{"$f":"LEFT(Table1[[#This Row],[Special Request  2]],2)","v":""}]
[192,null,null,null,null,null,null,null,null,null,null,null,null,null,null,null,null,{"$f":"IF(Table1[[#This Row],[VIP]]=\"Yes\",\"V1\",\"\")","v":""},{"$f":"LEFT(Table1[[#This Row],[Special Request 1]],2)","v":""},{"$f":"LEFT(Table1[[#This Row],[Special Request  2]],2)","v":""}]
[193,null,null,null,null,null,null,null,null,null,null,null,null,null,null,null,null,{"$f":"IF(Table1[[#This Row],[VIP]]=\"Yes\",\"V1\",\"\")","v":""},{"$f":"LEFT(Table1[[#This Row],[Special Request 1]],2)","v":""},{"$f":"LEFT(Table1[[#This Row],[Special Request  2]],2)","v":""}]
[194,null,null,null,null,null,null,null,null,null,null,null,null,null,null,null,null,{"$f":"IF(Table1[[#This Row],[VIP]]=\"Yes\",\"V1\",\"\")","v":""},{"$f":"LEFT(Table1[[#This Row],[Special Request 1]],2)","v":""},{"$f":"LEFT(Table1[[#This Row],[Special Request  2]],2)","v":""}]
[195,null,null,null,null,null,null,null,null,null,null,null,null,null,null,null,null,{"$f":"IF(Table1[[#This Row],[VIP]]=\"Yes\",\"V1\",\"\")","v":""},{"$f":"LEFT(Table1[[#This Row],[Special Request 1]],2)","v":""},{"$f":"LEFT(Table1[[#This Row],[Special Request  2]],2)","v":""}]
[196,null,null,null,null,null,null,null,null,null,null,null,null,null,null,null,null,{"$f":"IF(Table1[[#This Row],[VIP]]=\"Yes\",\"V1\",\"\")","v":""},{"$f":"LEFT(Table1[[#This Row],[Special Request 1]],2)","v":""},{"$f":"LEFT(Table1[[#This Row],[Special Request  2]],2)","v":""}]
[197,null,null,null,null,null,null,null,null,null,null,null,null,null,null,null,null,{"$f":"IF(Table1[[#This Row],[VIP]]=\"Yes\",\"V1\",\"\")","v":""},{"$f":"LEFT(Table1[[#This Row],[Special Request 1]],2)","v":""},{"$f":"LEFT(Table1[[#This Row],[Special Request  2]],2)","v":""}]
[198,null,null,null,null,null,null,null,null,null,null,null,null,null,null,null,null,{"$f":"IF(Table1[[#This Row],[VIP]]=\"Yes\",\"V1\",\"\")","v":""},{"$f":"LEFT(Table1[[#This Row],[Special Request 1]],2)","v":""},{"$f":"LEFT(Table1[[#This Row],[Special Request  2]],2)","v":""}]
[199,null,null,null,null,null,null,null,null,null,null,null,null,null,null,null,null,{"$f":"IF(Table1[[#This Row],[VIP]]=\"Yes\",\"V1\",\"\")","v":""},{"$f":"LEFT(Table1[[#This Row],[Special Request 1]],2)","v":""},{"$f":"LEFT(Table1[[#This Row],[Special Request  2]],2)","v":""}]
[200,null,null,null,null,null,null,null,null,null,null,null,null,null,null,null,null,{"$f":"IF(Table1[[#This Row],[VIP]]=\"Yes\",\"V1\",\"\")","v":""},{"$f":"LEFT(Table1[[#This Row],[Special Request 1]],2)","v":""},{"$f":"LEFT(Table1[[#This Row],[Special Request  2]],2)","v":""}]
[201,null,null,null,null,null,null,null,null,null,null,null,null,null,null,null,null,{"$f":"IF(Table1[[#This Row],[VIP]]=\"Yes\",\"V1\",\"\")","v":""},{"$f":"LEFT(Table1[[#This Row],[Special Request 1]],2)","v":""},{"$f":"LEFT(Table1[[#This Row],[Special Request  2]],2)","v":""}]
[202,null,null,null,null,null,null,null,null,null,null,null,null,null,null,null,null,{"$f":"IF(Table1[[#This Row],[VIP]]=\"Yes\",\"V1\",\"\")","v":""},{"$f":"LEFT(Table1[[#This Row],[Special Request 1]],2)","v":""},{"$f":"LEFT(Table1[[#This Row],[Special Request  2]],2)","v":""}]
[203,null,null,null,null,null,null,null,null,null,null,null,null,null,null,null,null,{"$f":"IF(Table1[[#This Row],[VIP]]=\"Yes\",\"V1\",\"\")","v":""},{"$f":"LEFT(Table1[[#This Row],[Special Request 1]],2)","v":""},{"$f":"LEFT(Table1[[#This Row],[Special Request  2]],2)","v":""}]
[204,null,null,null,null,null,null,null,null,null,null,null,null,null,null,null,null,{"$f":"IF(Table1[[#This Row],[VIP]]=\"Yes\",\"V1\",\"\")","v":""},{"$f":"LEFT(Table1[[#This Row],[Special Request 1]],2)","v":""},{"$f":"LEFT(Table1[[#This Row],[Special Request  2]],2)","v":""}]
[205,null,null,null,null,null,null,null,null,null,null,null,null,null,null,null,null,{"$f":"IF(Table1[[#This Row],[VIP]]=\"Yes\",\"V1\",\"\")","v":""},{"$f":"LEFT(Table1[[#This Row],[Special Request 1]],2)","v":""},{"$f":"LEFT(Table1[[#This Row],[Special Request  2]],2)","v":""}]
[206,null,null,null,null,null,null,null,null,null,null,null,null,null,null,null,null,{"$f":"IF(Table1[[#This Row],[VIP]]=\"Yes\",\"V1\",\"\")","v":""},{"$f":"LEFT(Table1[[#This Row],[Special Request 1]],2)","v":""},{"$f":"LEFT(Table1[[#This Row],[Special Request  2]],2)","v":""}]
[207,null,null,null,null,null,null,null,null,null,null,null,null,null,null,null,null,{"$f":"IF(Table1[[#This Row],[VIP]]=\"Yes\",\"V1\",\"\")","v":""},{"$f":"LEFT(Table1[[#This Row],[Special Request 1]],2)","v":""},{"$f":"LEFT(Table1[[#This Row],[Special Request  2]],2)","v":""}]
[208,null,null,null,null,null,null,null,null,null,null,null,null,null,null,null,null,{"$f":"IF(Table1[[#This Row],[VIP]]=\"Yes\",\"V1\",\"\")","v":""},{"$f":"LEFT(Table1[[#This Row],[Special Request 1]],2)","v":""},{"$f":"LEFT(Table1[[#This Row],[Special Request  2]],2)","v":""}]
[209,null,null,null,null,null,null,null,null,null,null,null,null,null,null,null,null,{"$f":"IF(Table1[[#This Row],[VIP]]=\"Yes\",\"V1\",\"\")","v":""},{"$f":"LEFT(Table1[[#This Row],[Special Request 1]],2)","v":""},{"$f":"LEFT(Table1[[#This Row],[Special Request  2]],2)","v":""}]
[210,null,null,null,null,null,null,null,null,null,null,null,null,null,null,null,null,{"$f":"IF(Table1[[#This Row],[VIP]]=\"Yes\",\"V1\",\"\")","v":""},{"$f":"LEFT(Table1[[#This Row],[Special Request 1]],2)","v":""},{"$f":"LEFT(Table1[[#This Row],[Special Request  2]],2)","v":""}]
[211,null,null,null,null,null,null,null,null,null,null,null,null,null,null,null,null,{"$f":"IF(Table1[[#This Row],[VIP]]=\"Yes\",\"V1\",\"\")","v":""},{"$f":"LEFT(Table1[[#This Row],[Special Request 1]],2)","v":""},{"$f":"LEFT(Table1[[#This Row],[Special Request  2]],2)","v":""}]
[212,null,null,null,null,null,null,null,null,null,null,null,null,null,null,null,null,{"$f":"IF(Table1[[#This Row],[VIP]]=\"Yes\",\"V1\",\"\")","v":""},{"$f":"LEFT(Table1[[#This Row],[Special Request 1]],2)","v":""},{"$f":"LEFT(Table1[[#This Row],[Special Request  2]],2)","v":""}]
[213,null,null,null,null,null,null,null,null,null,null,null,null,null,null,null,null,{"$f":"IF(Table1[[#This Row],[VIP]]=\"Yes\",\"V1\",\"\")","v":""},{"$f":"LEFT(Table1[[#This Row],[Special Request 1]],2)","v":""},{"$f":"LEFT(Table1[[#This Row],[Special Request  2]],2)","v":""}]
[214,null,null,null,null,null,null,null,null,null,null,null,null,null,null,null,null,{"$f":"IF(Table1[[#This Row],[VIP]]=\"Yes\",\"V1\",\"\")","v":""},{"$f":"LEFT(Table1[[#This Row],[Special Request 1]],2)","v":""},{"$f":"LEFT(Table1[[#This Row],[Special Request  2]],2)","v":""}]
[215,null,null,null,null,null,null,null,null,null,null,null,null,null,null,null,null,{"$f":"IF(Table1[[#This Row],[VIP]]=\"Yes\",\"V1\",\"\")","v":""},{"$f":"LEFT(Table1[[#This Row],[Special Request 1]],2)","v":""},{"$f":"LEFT(Table1[[#This Row],[Special Request  2]],2)","v":""}]
[216,null,null,null,null,null,null,null,null,null,null,null,null,null,null,null,null,{"$f":"IF(Table1[[#This Row],[VIP]]=\"Yes\",\"V1\",\"\")","v":""},{"$f":"LEFT(Table1[[#This Row],[Special Request 1]],2)","v":""},{"$f":"LEFT(Table1[[#This Row],[Special Request  2]],2)","v":""}]
[217,null,null,null,null,null,null,null,null,null,null,null,null,null,null,null,null,{"$f":"IF(Table1[[#This Row],[VIP]]=\"Yes\",\"V1\",\"\")","v":""},{"$f":"LEFT(Table1[[#This Row],[Special Request 1]],2)","v":""},{"$f":"LEFT(Table1[[#This Row],[Special Request  2]],2)","v":""}]
[218,null,null,null,null,null,null,null,null,null,null,null,null,null,null,null,null,{"$f":"IF(Table1[[#This Row],[VIP]]=\"Yes\",\"V1\",\"\")","v":""},{"$f":"LEFT(Table1[[#This Row],[Special Request 1]],2)","v":""},{"$f":"LEFT(Table1[[#This Row],[Special Request  2]],2)","v":""}]
[219,null,null,null,null,null,null,null,null,null,null,null,null,null,null,null,null,{"$f":"IF(Table1[[#This Row],[VIP]]=\"Yes\",\"V1\",\"\")","v":""},{"$f":"LEFT(Table1[[#This Row],[Special Request 1]],2)","v":""},{"$f":"LEFT(Table1[[#This Row],[Special Request  2]],2)","v":""}]
[220,null,null,null,null,null,null,null,null,null,null,null,null,null,null,null,null,{"$f":"IF(Table1[[#This Row],[VIP]]=\"Yes\",\"V1\",\"\")","v":""},{"$f":"LEFT(Table1[[#This Row],[Special Request 1]],2)","v":""},{"$f":"LEFT(Table1[[#This Row],[Special Request  2]],2)","v":""}]
[221,null,null,null,null,null,null,null,null,null,null,null,null,null,null,null,null,{"$f":"IF(Table1[[#This Row],[VIP]]=\"Yes\",\"V1\",\"\")","v":""},{"$f":"LEFT(Table1[[#This Row],[Special Request 1]],2)","v":""},{"$f":"LEFT(Table1[[#This Row],[Special Request  2]],2)","v":""}]
[222,null,null,null,null,null,null,null,null,null,null,null,null,null,null,null,null,{"$f":"IF(Table1[[#This Row],[VIP]]=\"Yes\",\"V1\",\"\")","v":""},{"$f":"LEFT(Table1[[#This Row],[Special Request 1]],2)","v":""},{"$f":"LEFT(Table1[[#This Row],[Special Request  2]],2)","v":""}]
[223,null,null,null,null,null,null,null,null,null,null,null,null,null,null,null,null,{"$f":"IF(Table1[[#This Row],[VIP]]=\"Yes\",\"V1\",\"\")","v":""},{"$f":"LEFT(Table1[[#This Row],[Special Request 1]],2)","v":""},{"$f":"LEFT(Table1[[#This Row],[Special Request  2]],2)","v":""}]
[224,null,null,null,null,null,null,null,null,null,null,null,null,null,null,null,null,{"$f":"IF(Table1[[#This Row],[VIP]]=\"Yes\",\"V1\",\"\")","v":""},{"$f":"LEFT(Table1[[#This Row],[Special Request 1]],2)","v":""},{"$f":"LEFT(Table1[[#This Row],[Special Request  2]],2)","v":""}]
[225,null,null,null,null,null,null,null,null,null,null,null,null,null,null,null,null,{"$f":"IF(Table1[[#This Row],[VIP]]=\"Yes\",\"V1\",\"\")","v":""},{"$f":"LEFT(Table1[[#This Row],[Special Request 1]],2)","v":""},{"$f":"LEFT(Table1[[#This Row],[Special Request  2]],2)","v":""}]
[226,null,null,null,null,null,null,null,null,null,null,null,null,null,null,null,null,{"$f":"IF(Table1[[#This Row],[VIP]]=\"Yes\",\"V1\",\"\")","v":""},{"$f":"LEFT(Table1[[#This Row],[Special Request 1]],2)","v":""},{"$f":"LEFT(Table1[[#This Row],[Special Request  2]],2)","v":""}]
[227,null,null,null,null,null,null,null,null,null,null,null,null,null,null,null,null,{"$f":"IF(Table1[[#This Row],[VIP]]=\"Yes\",\"V1\",\"\")","v":""},{"$f":"LEFT(Table1[[#This Row],[Special Request 1]],2)","v":""},{"$f":"LEFT(Table1[[#This Row],[Special Request  2]],2)","v":""}]
[228,null,null,null,null,null,null,null,null,null,null,null,null,null,null,null,null,{"$f":"IF(Table1[[#This Row],[VIP]]=\"Yes\",\"V1\",\"\")","v":""},{"$f":"LEFT(Table1[[#This Row],[Special Request 1]],2)","v":""},{"$f":"LEFT(Table1[[#This Row],[Special Request  2]],2)","v":""}]
[229,null,null,null,null,null,null,null,null,null,null,null,null,null,null,null,null,{"$f":"IF(Table1[[#This Row],[VIP]]=\"Yes\",\"V1\",\"\")","v":""},{"$f":"LEFT(Table1[[#This Row],[Special Request 1]],2)","v":""},{"$f":"LEFT(Table1[[#This Row],[Special Request  2]],2)","v":""}]
[230,null,null,null,null,null,null,null,null,null,null,null,null,null,null,null,null,{"$f":"IF(Table1[[#This Row],[VIP]]=\"Yes\",\"V1\",\"\")","v":""},{"$f":"LEFT(Table1[[#This Row],[Special Request 1]],2)","v":""},{"$f":"LEFT(Table1[[#This Row],[Special Request  2]],2)","v":""}]
[231,null,null,null,null,null,null,null,null,null,null,null,null,null,null,null,null,{"$f":"IF(Table1[[#This Row],[VIP]]=\"Yes\",\"V1\",\"\")","v":""},{"$f":"LEFT(Table1[[#This Row],[Special Request 1]],2)","v":""},{"$f":"LEFT(Table1[[#This Row],[Special Request  2]],2)","v":""}]
[232,null,null,null,null,null,null,null,null,null,null,null,null,null,null,null,null,{"$f":"IF(Table1[[#This Row],[VIP]]=\"Yes\",\"V1\",\"\")","v":""},{"$f":"LEFT(Table1[[#This Row],[Special Request 1]],2)","v":""},{"$f":"LEFT(Table1[[#This Row],[Special Request  2]],2)","v":""}]
[233,null,null,null,null,null,null,null,null,null,null,null,null,null,null,null,null,{"$f":"IF(Table1[[#This Row],[VIP]]=\"Yes\",\"V1\",\"\")","v":""},{"$f":"LEFT(Table1[[#This Row],[Special Request 1]],2)","v":""},{"$f":"LEFT(Table1[[#This Row],[Special Request  2]],2)","v":""}]
[234,null,null,null,null,null,null,null,null,null,null,null,null,null,null,null,null,{"$f":"IF(Table1[[#This Row],[VIP]]=\"Yes\",\"V1\",\"\")","v":""},{"$f":"LEFT(Table1[[#This Row],[Special Request 1]],2)","v":""},{"$f":"LEFT(Table1[[#This Row],[Special Request  2]],2)","v":""}]
[235,null,null,null,null,null,null,null,null,null,null,null,null,null,null,null,null,{"$f":"IF(Table1[[#This Row],[VIP]]=\"Yes\",\"V1\",\"\")","v":""},{"$f":"LEFT(Table1[[#This Row],[Special Request 1]],2)","v":""},{"$f":"LEFT(Table1[[#This Row],[Special Request  2]],2)","v":""}]
[236,null,null,null,null,null,null,null,null,null,null,null,null,null,null,null,null,{"$f":"IF(Table1[[#This Row],[VIP]]=\"Yes\",\"V1\",\"\")","v":""},{"$f":"LEFT(Table1[[#This Row],[Special Request 1]],2)","v":""},{"$f":"LEFT(Table1[[#This Row],[Special Request  2]],2)","v":""}]
[237,null,null,null,null,null,null,null,null,null,null,null,null,null,null,null,null,{"$f":"IF(Table1[[#This Row],[VIP]]=\"Yes\",\"V1\",\"\")","v":""},{"$f":"LEFT(Table1[[#This Row],[Special Request 1]],2)","v":""},{"$f":"LEFT(Table1[[#This Row],[Special Request  2]],2)","v":""}]
[238,null,null,null,null,null,null,null,null,null,null,null,null,null,null,null,null,{"$f":"IF(Table1[[#This Row],[VIP]]=\"Yes\",\"V1\",\"\")","v":""},{"$f":"LEFT(Table1[[#This Row],[Special Request 1]],2)","v":""},{"$f":"LEFT(Table1[[#This Row],[Special Request  2]],2)","v":""}]
[239,null,null,null,null,null,null,null,null,null,null,null,null,null,null,null,null,{"$f":"IF(Table1[[#This Row],[VIP]]=\"Yes\",\"V1\",\"\")","v":""},{"$f":"LEFT(Table1[[#This Row],[Special Request 1]],2)","v":""},{"$f":"LEFT(Table1[[#This Row],[Special Request  2]],2)","v":""}]
[240,null,null,null,null,null,null,null,null,null,null,null,null,null,null,null,null,{"$f":"IF(Table1[[#This Row],[VIP]]=\"Yes\",\"V1\",\"\")","v":""},{"$f":"LEFT(Table1[[#This Row],[Special Request 1]],2)","v":""},{"$f":"LEFT(Table1[[#This Row],[Special Request  2]],2)","v":""}]
[241,null,null,null,null,null,null,null,null,null,null,null,null,null,null,null,null,{"$f":"IF(Table1[[#This Row],[VIP]]=\"Yes\",\"V1\",\"\")","v":""},{"$f":"LEFT(Table1[[#This Row],[Special Request 1]],2)","v":""},{"$f":"LEFT(Table1[[#This Row],[Special Request  2]],2)","v":""}]
[242,null,null,null,null,null,null,null,null,null,null,null,null,null,null,null,null,{"$f":"IF(Table1[[#This Row],[VIP]]=\"Yes\",\"V1\",\"\")","v":""},{"$f":"LEFT(Table1[[#This Row],[Special Request 1]],2)","v":""},{"$f":"LEFT(Table1[[#This Row],[Special Request  2]],2)","v":""}]
[243,null,null,null,null,null,null,null,null,null,null,null,null,null,null,null,null,{"$f":"IF(Table1[[#This Row],[VIP]]=\"Yes\",\"V1\",\"\")","v":""},{"$f":"LEFT(Table1[[#This Row],[Special Request 1]],2)","v":""},{"$f":"LEFT(Table1[[#This Row],[Special Request  2]],2)","v":""}]
[244,null,null,null,null,null,null,null,null,null,null,null,null,null,null,null,null,{"$f":"IF(Table1[[#This Row],[VIP]]=\"Yes\",\"V1\",\"\")","v":""},{"$f":"LEFT(Table1[[#This Row],[Special Request 1]],2)","v":""},{"$f":"LEFT(Table1[[#This Row],[Special Request  2]],2)","v":""}]
[245,null,null,null,null,null,null,null,null,null,null,null,null,null,null,null,null,{"$f":"IF(Table1[[#This Row],[VIP]]=\"Yes\",\"V1\",\"\")","v":""},{"$f":"LEFT(Table1[[#This Row],[Special Request 1]],2)","v":""},{"$f":"LEFT(Table1[[#This Row],[Special Request  2]],2)","v":""}]
[246,null,null,null,null,null,null,null,null,null,null,null,null,null,null,null,null,{"$f":"IF(Table1[[#This Row],[VIP]]=\"Yes\",\"V1\",\"\")","v":""},{"$f":"LEFT(Table1[[#This Row],[Special Request 1]],2)","v":""},{"$f":"LEFT(Table1[[#This Row],[Special Request  2]],2)","v":""}]
[247,null,null,null,null,null,null,null,null,null,null,null,null,null,null,null,null,{"$f":"IF(Table1[[#This Row],[VIP]]=\"Yes\",\"V1\",\"\")","v":""},{"$f":"LEFT(Table1[[#This Row],[Special Request 1]],2)","v":""},{"$f":"LEFT(Table1[[#This Row],[Special Request  2]],2)","v":""}]
[248,null,null,null,null,null,null,null,null,null,null,null,null,null,null,null,null,{"$f":"IF(Table1[[#This Row],[VIP]]=\"Yes\",\"V1\",\"\")","v":""},{"$f":"LEFT(Table1[[#This Row],[Special Request 1]],2)","v":""},{"$f":"LEFT(Table1[[#This Row],[Special Request  2]],2)","v":""}]
[249,null,null,null,null,null,null,null,null,null,null,null,null,null,null,null,null,{"$f":"IF(Table1[[#This Row],[VIP]]=\"Yes\",\"V1\",\"\")","v":""},{"$f":"LEFT(Table1[[#This Row],[Special Request 1]],2)","v":""},{"$f":"LEFT(Table1[[#This Row],[Special Request  2]],2)","v":""}]
[250,null,null,null,null,null,null,null,null,null,null,null,null,null,null,null,null,{"$f":"IF(Table1[[#This Row],[VIP]]=\"Yes\",\"V1\",\"\")","v":""},{"$f":"LEFT(Table1[[#This Row],[Special Request 1]],2)","v":""},{"$f":"LEFT(Table1[[#This Row],[Special Request  2]],2)","v":""}]
[251,null,null,null,null,null,null,null,null,null,null,null,null,null,null,null,null,{"$f":"IF(Table1[[#This Row],[VIP]]=\"Yes\",\"V1\",\"\")","v":""},{"$f":"LEFT(Table1[[#This Row],[Special Request 1]],2)","v":""},{"$f":"LEFT(Table1[[#This Row],[Special Request  2]],2)","v":""}]
[252,null,null,null,null,null,null,null,null,null,null,null,null,null,null,null,null,{"$f":"IF(Table1[[#This Row],[VIP]]=\"Yes\",\"V1\",\"\")","v":""},{"$f":"LEFT(Table1[[#This Row],[Special Request 1]],2)","v":""},{"$f":"LEFT(Table1[[#This Row],[Special Request  2]],2)","v":""}]
[253,null,null,null,null,null,null,null,null,null,null,null,null,null,null,null,null,{"$f":"IF(Table1[[#This Row],[VIP]]=\"Yes\",\"V1\",\"\")","v":""},{"$f":"LEFT(Table1[[#This Row],[Special Request 1]],2)","v":""},{"$f":"LEFT(Table1[[#This Row],[Special Request  2]],2)","v":""}]
[254,null,null,null,null,null,null,null,null,null,null,null,null,null,null,null,null,{"$f":"IF(Table1[[#This Row],[VIP]]=\"Yes\",\"V1\",\"\")","v":""},{"$f":"LEFT(Table1[[#This Row],[Special Request 1]],2)","v":""},{"$f":"LEFT(Table1[[#This Row],[Special Request  2]],2)","v":""}]
[255,null,null,null,null,null,null,null,null,null,null,null,null,null,null,null,null,{"$f":"IF(Table1[[#This Row],[VIP]]=\"Yes\",\"V1\",\"\")","v":""},{"$f":"LEFT(Table1[[#This Row],[Special Request 1]],2)","v":""},{"$f":"LEFT(Table1[[#This Row],[Special Request  2]],2)","v":""}]
[256,null,null,null,null,null,null,null,null,null,null,null,null,null,null,null,null,{"$f":"IF(Table1[[#This Row],[VIP]]=\"Yes\",\"V1\",\"\")","v":""},{"$f":"LEFT(Table1[[#This Row],[Special Request 1]],2)","v":""},{"$f":"LEFT(Table1[[#This Row],[Special Request  2]],2)","v":""}]
[257,null,null,null,null,null,null,null,null,null,null,null,null,null,null,null,null,{"$f":"IF(Table1[[#This Row],[VIP]]=\"Yes\",\"V1\",\"\")","v":""},{"$f":"LEFT(Table1[[#This Row],[Special Request 1]],2)","v":""},{"$f":"LEFT(Table1[[#This Row],[Special Request  2]],2)","v":""}]
[258,null,null,null,null,null,null,null,null,null,null,null,null,null,null,null,null,{"$f":"IF(Table1[[#This Row],[VIP]]=\"Yes\",\"V1\",\"\")","v":""},{"$f":"LEFT(Table1[[#This Row],[Special Request 1]],2)","v":""},{"$f":"LEFT(Table1[[#This Row],[Special Request  2]],2)","v":""}]
[259,null,null,null,null,null,null,null,null,null,null,null,null,null,null,null,null,{"$f":"IF(Table1[[#This Row],[VIP]]=\"Yes\",\"V1\",\"\")","v":""},{"$f":"LEFT(Table1[[#This Row],[Special Request 1]],2)","v":""},{"$f":"LEFT(Table1[[#This Row],[Special Request  2]],2)","v":""}]
[260,null,null,null,null,null,null,null,null,null,null,null,null,null,null,null,null,{"$f":"IF(Table1[[#This Row],[VIP]]=\"Yes\",\"V1\",\"\")","v":""},{"$f":"LEFT(Table1[[#This Row],[Special Request 1]],2)","v":""},{"$f":"LEFT(Table1[[#This Row],[Special Request  2]],2)","v":""}]
[261,null,null,null,null,null,null,null,null,null,null,null,null,null,null,null,null,{"$f":"IF(Table1[[#This Row],[VIP]]=\"Yes\",\"V1\",\"\")","v":""},{"$f":"LEFT(Table1[[#This Row],[Special Request 1]],2)","v":""},{"$f":"LEFT(Table1[[#This Row],[Special Request  2]],2)","v":""}]
[262,null,null,null,null,null,null,null,null,null,null,null,null,null,null,null,null,{"$f":"IF(Table1[[#This Row],[VIP]]=\"Yes\",\"V1\",\"\")","v":""},{"$f":"LEFT(Table1[[#This Row],[Special Request 1]],2)","v":""},{"$f":"LEFT(Table1[[#This Row],[Special Request  2]],2)","v":""}]
[263,null,null,null,null,null,null,null,null,null,null,null,null,null,null,null,null,{"$f":"IF(Table1[[#This Row],[VIP]]=\"Yes\",\"V1\",\"\")","v":""},{"$f":"LEFT(Table1[[#This Row],[Special Request 1]],2)","v":""},{"$f":"LEFT(Table1[[#This Row],[Special Request  2]],2)","v":""}]
[264,null,null,null,null,null,null,null,null,null,null,null,null,null,null,null,null,{"$f":"IF(Table1[[#This Row],[VIP]]=\"Yes\",\"V1\",\"\")","v":""},{"$f":"LEFT(Table1[[#This Row],[Special Request 1]],2)","v":""},{"$f":"LEFT(Table1[[#This Row],[Special Request  2]],2)","v":""}]
[265,null,null,null,null,null,null,null,null,null,null,null,null,null,null,null,null,{"$f":"IF(Table1[[#This Row],[VIP]]=\"Yes\",\"V1\",\"\")","v":""},{"$f":"LEFT(Table1[[#This Row],[Special Request 1]],2)","v":""},{"$f":"LEFT(Table1[[#This Row],[Special Request  2]],2)","v":""}]
[266,null,null,null,null,null,null,null,null,null,null,null,null,null,null,null,null,{"$f":"IF(Table1[[#This Row],[VIP]]=\"Yes\",\"V1\",\"\")","v":""},{"$f":"LEFT(Table1[[#This Row],[Special Request 1]],2)","v":""},{"$f":"LEFT(Table1[[#This Row],[Special Request  2]],2)","v":""}]
[267,null,null,null,null,null,null,null,null,null,null,null,null,null,null,null,null,{"$f":"IF(Table1[[#This Row],[VIP]]=\"Yes\",\"V1\",\"\")","v":""},{"$f":"LEFT(Table1[[#This Row],[Special Request 1]],2)","v":""},{"$f":"LEFT(Table1[[#This Row],[Special Request  2]],2)","v":""}]
[268,null,null,null,null,null,null,null,null,null,null,null,null,null,null,null,null,{"$f":"IF(Table1[[#This Row],[VIP]]=\"Yes\",\"V1\",\"\")","v":""},{"$f":"LEFT(Table1[[#This Row],[Special Request 1]],2)","v":""},{"$f":"LEFT(Table1[[#This Row],[Special Request  2]],2)","v":""}]
[269,null,null,null,null,null,null,null,null,null,null,null,null,null,null,null,null,{"$f":"IF(Table1[[#This Row],[VIP]]=\"Yes\",\"V1\",\"\")","v":""},{"$f":"LEFT(Table1[[#This Row],[Special Request 1]],2)","v":""},{"$f":"LEFT(Table1[[#This Row],[Special Request  2]],2)","v":""}]
[270,null,null,null,null,null,null,null,null,null,null,null,null,null,null,null,null,{"$f":"IF(Table1[[#This Row],[VIP]]=\"Yes\",\"V1\",\"\")","v":""},{"$f":"LEFT(Table1[[#This Row],[Special Request 1]],2)","v":""},{"$f":"LEFT(Table1[[#This Row],[Special Request  2]],2)","v":""}]
[271,null,null,null,null,null,null,null,null,null,null,null,null,null,null,null,null,{"$f":"IF(Table1[[#This Row],[VIP]]=\"Yes\",\"V1\",\"\")","v":""},{"$f":"LEFT(Table1[[#This Row],[Special Request 1]],2)","v":""},{"$f":"LEFT(Table1[[#This Row],[Special Request  2]],2)","v":""}]
[272,null,null,null,null,null,null,null,null,null,null,null,null,null,null,null,null,{"$f":"IF(Table1[[#This Row],[VIP]]=\"Yes\",\"V1\",\"\")","v":""},{"$f":"LEFT(Table1[[#This Row],[Special Request 1]],2)","v":""},{"$f":"LEFT(Table1[[#This Row],[Special Request  2]],2)","v":""}]
[273,null,null,null,null,null,null,null,null,null,null,null,null,null,null,null,null,{"$f":"IF(Table1[[#This Row],[VIP]]=\"Yes\",\"V1\",\"\")","v":""},{"$f":"LEFT(Table1[[#This Row],[Special Request 1]],2)","v":""},{"$f":"LEFT(Table1[[#This Row],[Special Request  2]],2)","v":""}]
[274,null,null,null,null,null,null,null,null,null,null,null,null,null,null,null,null,{"$f":"IF(Table1[[#This Row],[VIP]]=\"Yes\",\"V1\",\"\")","v":""},{"$f":"LEFT(Table1[[#This Row],[Special Request 1]],2)","v":""},{"$f":"LEFT(Table1[[#This Row],[Special Request  2]],2)","v":""}]
[275,null,null,null,null,null,null,null,null,null,null,null,null,null,null,null,null,{"$f":"IF(Table1[[#This Row],[VIP]]=\"Yes\",\"V1\",\"\")","v":""},{"$f":"LEFT(Table1[[#This Row],[Special Request 1]],2)","v":""},{"$f":"LEFT(Table1[[#This Row],[Special Request  2]],2)","v":""}]
[276,null,null,null,null,null,null,null,null,null,null,null,null,null,null,null,null,{"$f":"IF(Table1[[#This Row],[VIP]]=\"Yes\",\"V1\",\"\")","v":""},{"$f":"LEFT(Table1[[#This Row],[Special Request 1]],2)","v":""},{"$f":"LEFT(Table1[[#This Row],[Special Request  2]],2)","v":""}]
[277,null,null,null,null,null,null,null,null,null,null,null,null,null,null,null,null,{"$f":"IF(Table1[[#This Row],[VIP]]=\"Yes\",\"V1\",\"\")","v":""},{"$f":"LEFT(Table1[[#This Row],[Special Request 1]],2)","v":""},{"$f":"LEFT(Table1[[#This Row],[Special Request  2]],2)","v":""}]
[278,null,null,null,null,null,null,null,null,null,null,null,null,null,null,null,null,{"$f":"IF(Table1[[#This Row],[VIP]]=\"Yes\",\"V1\",\"\")","v":""},{"$f":"LEFT(Table1[[#This Row],[Special Request 1]],2)","v":""},{"$f":"LEFT(Table1[[#This Row],[Special Request  2]],2)","v":""}]
[279,null,null,null,null,null,null,null,null,null,null,null,null,null,null,null,null,{"$f":"IF(Table1[[#This Row],[VIP]]=\"Yes\",\"V1\",\"\")","v":""},{"$f":"LEFT(Table1[[#This Row],[Special Request 1]],2)","v":""},{"$f":"LEFT(Table1[[#This Row],[Special Request  2]],2)","v":""}]
[280,null,null,null,null,null,null,null,null,null,null,null,null,null,null,null,null,{"$f":"IF(Table1[[#This Row],[VIP]]=\"Yes\",\"V1\",\"\")","v":""},{"$f":"LEFT(Table1[[#This Row],[Special Request 1]],2)","v":""},{"$f":"LEFT(Table1[[#This Row],[Special Request  2]],2)","v":""}]
[281,null,null,null,null,null,null,null,null,null,null,null,null,null,null,null,null,{"$f":"IF(Table1[[#This Row],[VIP]]=\"Yes\",\"V1\",\"\")","v":""},{"$f":"LEFT(Table1[[#This Row],[Special Request 1]],2)","v":""},{"$f":"LEFT(Table1[[#This Row],[Special Request  2]],2)","v":""}]
[282,null,null,null,null,null,null,null,null,null,null,null,null,null,null,null,null,{"$f":"IF(Table1[[#This Row],[VIP]]=\"Yes\",\"V1\",\"\")","v":""},{"$f":"LEFT(Table1[[#This Row],[Special Request 1]],2)","v":""},{"$f":"LEFT(Table1[[#This Row],[Special Request  2]],2)","v":""}]
[283,null,null,null,null,null,null,null,null,null,null,null,null,null,null,null,null,{"$f":"IF(Table1[[#This Row],[VIP]]=\"Yes\",\"V1\",\"\")","v":""},{"$f":"LEFT(Table1[[#This Row],[Special Request 1]],2)","v":""},{"$f":"LEFT(Table1[[#This Row],[Special Request  2]],2)","v":""}]
[284,null,null,null,null,null,null,null,null,null,null,null,null,null,null,null,null,{"$f":"IF(Table1[[#This Row],[VIP]]=\"Yes\",\"V1\",\"\")","v":""},{"$f":"LEFT(Table1[[#This Row],[Special Request 1]],2)","v":""},{"$f":"LEFT(Table1[[#This Row],[Special Request  2]],2)","v":""}]
[285,null,null,null,null,null,null,null,null,null,null,null,null,null,null,null,null,{"$f":"IF(Table1[[#This Row],[VIP]]=\"Yes\",\"V1\",\"\")","v":""},{"$f":"LEFT(Table1[[#This Row],[Special Request 1]],2)","v":""},{"$f":"LEFT(Table1[[#This Row],[Special Request  2]],2)","v":""}]
[286,null,null,null,null,null,null,null,null,null,null,null,null,null,null,null,null,{"$f":"IF(Table1[[#This Row],[VIP]]=\"Yes\",\"V1\",\"\")","v":""},{"$f":"LEFT(Table1[[#This Row],[Special Request 1]],2)","v":""},{"$f":"LEFT(Table1[[#This Row],[Special Request  2]],2)","v":""}]
[287,null,null,null,null,null,null,null,null,null,null,null,null,null,null,null,null,{"$f":"IF(Table1[[#This Row],[VIP]]=\"Yes\",\"V1\",\"\")","v":""},{"$f":"LEFT(Table1[[#This Row],[Special Request 1]],2)","v":""},{"$f":"LEFT(Table1[[#This Row],[Special Request  2]],2)","v":""}]
[288,null,null,null,null,null,null,null,null,null,null,null,null,null,null,null,null,{"$f":"IF(Table1[[#This Row],[VIP]]=\"Yes\",\"V1\",\"\")","v":""},{"$f":"LEFT(Table1[[#This Row],[Special Request 1]],2)","v":""},{"$f":"LEFT(Table1[[#This Row],[Special Request  2]],2)","v":""}]
[289,null,null,null,null,null,null,null,null,null,null,null,null,null,null,null,null,{"$f":"IF(Table1[[#This Row],[VIP]]=\"Yes\",\"V1\",\"\")","v":""},{"$f":"LEFT(Table1[[#This Row],[Special Request 1]],2)","v":""},{"$f":"LEFT(Table1[[#This Row],[Special Request  2]],2)","v":""}]
[290,null,null,null,null,null,null,null,null,null,null,null,null,null,null,null,null,{"$f":"IF(Table1[[#This Row],[VIP]]=\"Yes\",\"V1\",\"\")","v":""},{"$f":"LEFT(Table1[[#This Row],[Special Request 1]],2)","v":""},{"$f":"LEFT(Table1[[#This Row],[Special Request  2]],2)","v":""}]
[291,null,null,null,null,null,null,null,null,null,null,null,null,null,null,null,null,{"$f":"IF(Table1[[#This Row],[VIP]]=\"Yes\",\"V1\",\"\")","v":""},{"$f":"LEFT(Table1[[#This Row],[Special Request 1]],2)","v":""},{"$f":"LEFT(Table1[[#This Row],[Special Request  2]],2)","v":""}]
[292,null,null,null,null,null,null,null,null,null,null,null,null,null,null,null,null,{"$f":"IF(Table1[[#This Row],[VIP]]=\"Yes\",\"V1\",\"\")","v":""},{"$f":"LEFT(Table1[[#This Row],[Special Request 1]],2)","v":""},{"$f":"LEFT(Table1[[#This Row],[Special Request  2]],2)","v":""}]
[293,null,null,null,null,null,null,null,null,null,null,null,null,null,null,null,null,{"$f":"IF(Table1[[#This Row],[VIP]]=\"Yes\",\"V1\",\"\")","v":""},{"$f":"LEFT(Table1[[#This Row],[Special Request 1]],2)","v":""},{"$f":"LEFT(Table1[[#This Row],[Special Request  2]],2)","v":""}]
[294,null,null,null,null,null,null,null,null,null,null,null,null,null,null,null,null,{"$f":"IF(Table1[[#This Row],[VIP]]=\"Yes\",\"V1\",\"\")","v":""},{"$f":"LEFT(Table1[[#This Row],[Special Request 1]],2)","v":""},{"$f":"LEFT(Table1[[#This Row],[Special Request  2]],2)","v":""}]
[295,null,null,null,null,null,null,null,null,null,null,null,null,null,null,null,null,{"$f":"IF(Table1[[#This Row],[VIP]]=\"Yes\",\"V1\",\"\")","v":""},{"$f":"LEFT(Table1[[#This Row],[Special Request 1]],2)","v":""},{"$f":"LEFT(Table1[[#This Row],[Special Request  2]],2)","v":""}]
[296,null,null,null,null,null,null,null,null,null,null,null,null,null,null,null,null,{"$f":"IF(Table1[[#This Row],[VIP]]=\"Yes\",\"V1\",\"\")","v":""},{"$f":"LEFT(Table1[[#This Row],[Special Request 1]],2)","v":""},{"$f":"LEFT(Table1[[#This Row],[Special Request  2]],2)","v":""}]
[297,null,null,null,null,null,null,null,null,null,null,null,null,null,null,null,null,{"$f":"IF(Table1[[#This Row],[VIP]]=\"Yes\",\"V1\",\"\")","v":""},{"$f":"LEFT(Table1[[#This Row],[Special Request 1]],2)","v":""},{"$f":"LEFT(Table1[[#This Row],[Special Request  2]],2)","v":""}]
[298,null,null,null,null,null,null,null,null,null,null,null,null,null,null,null,null,{"$f":"IF(Table1[[#This Row],[VIP]]=\"Yes\",\"V1\",\"\")","v":""},{"$f":"LEFT(Table1[[#This Row],[Special Request 1]],2)","v":""},{"$f":"LEFT(Table1[[#This Row],[Special Request  2]],2)","v":""}]
[299,null,null,null,null,null,null,null,null,null,null,null,null,null,null,null,null,{"$f":"IF(Table1[[#This Row],[VIP]]=\"Yes\",\"V1\",\"\")","v":""},{"$f":"LEFT(Table1[[#This Row],[Special Request 1]],2)","v":""},{"$f":"LEFT(Table1[[#This Row],[Special Request  2]],2)","v":""}]
[300,null,null,null,null,null,null,null,null,null,null,null,null,null,null,null,null,{"$f":"IF(Table1[[#This Row],[VIP]]=\"Yes\",\"V1\",\"\")","v":""},{"$f":"LEFT(Table1[[#This Row],[Special Request 1]],2)","v":""},{"$f":"LEFT(Table1[[#This Row],[Special Request  2]],2)","v":""}]

{"sheet":"Stay Pattern","index":2,"n_rows":306,"n_cols":38,"rows_kept":306,"cut":false,"hidden":false,"merged":[[1,3,1,5]]}
[]
[null,null,"Group Name:",{"$f":"'Rooming List'!D2:F2","v":"00:00:00"}]
[]
[null,null,null,null,null,null,null,{"$f":"TEXT(H5,\"ddd\")","v":"Sat"},{"$f":"TEXT(I5,\"ddd\")","v":"Sun"},"Mon","Tue","Wed","Thu","Fri","Sat","Sun","Mon","Tue","Wed","Thu","Fri","Sat","Sun","Mon","Tue","Wed","Thu","Fri","Sat","Sun","Mon","Tue","Wed","Thu","Fri","Sat","Sun","Mon"]
[null,null,"First Name","Last Name","Arrival Date","Departure Date","Total Nts",{"$f":"MIN(E:E)","v":"00:00:00"},{"$f":"H5+1","v":"1900-01-01"},{"$f":"I5+1","v":"1900-01-02"},"1900-01-03","1900-01-04","1900-01-05","1900-01-06","1900-01-07","1900-01-08","1900-01-09","1900-01-10","1900-01-11","1900-01-12","1900-01-13","1900-01-14","1900-01-15","1900-01-16","1900-01-17","1900-01-18","1900-01-19","1900-01-20","1900-01-21","1900-01-22","1900-01-23","1900-01-24","1900-01-25","1900-01-26","1900-01-27","1900-01-28","1900-01-29","1900-01-30"]
[null,null,null,null,null,null,{"$f":"SUM(G7:G306)","v":0},{"$f":"SUM(H7:H306)","v":0},0,0,0,0,0,0,0,0,0,0,0,0,0,0,0,0,0,0,0,0,0,0,0,0,0,0,0,0,0,0]
[null,1,{"$f":"'Rooming List'!C13","v":0},{"$f":"'Rooming List'!D13","v":0},{"$f":"IF(ISBLANK('Rooming List'!E13),\"\",'Rooming List'!E13)","v":""},{"$f":"'Rooming List'!F13","v":"00:00:00"},{"$f":"SUM(H7:AL7)","v":0},{"$f":"IF(AND(H$5>=$E7,H$5<$F7),1,0)","v":0},{"$f":"IF(AND(I$5>=$E7,I$5<$F7),1,0)","v":0},0,0,0,0,0,0,0,0,0,0,0,0,0,0,0,0,0,0,0,0,0,0,0,0,0,0,0,0,0]
[null,2,{"$f":"'Rooming List'!C14","v":0},{"$f":"'Rooming List'!D14","v":0},{"$f":"IF(ISBLANK('Rooming List'!E14),\"\",'Rooming List'!E14)","v":""},{"$f":"'Rooming List'!F14","v":"00:00:00"},{"$f":"SUM(H8:AL8)","v":0},{"$f":"IF(AND(H$5>=$E8,H$5<$F8),1,0)","v":0},0,0,0,0,0,0,0,0,0,0,0,0,0,0,0,0,0,0,0,0,0,0,0,0,0,0,0,0,0,0]
[null,3,{"$f":"'Rooming List'!C15","v":0},{"$f":"'Rooming List'!D15","v":0},{"$f":"IF(ISBLANK('Rooming List'!E15),\"\",'Rooming List'!E15)","v":""},{"$f":"'Rooming List'!F15","v":"00:00:00"},0,0,0,0,0,0,0,0,0,0,0,0,0,0,0,0,0,0,0,0,0,0,0,0,0,0,0,0,0,0,0,0]
[null,4,{"$f":"'Rooming List'!C16","v":0},{"$f":"'Rooming List'!D16","v":0},{"$f":"IF(ISBLANK('Rooming List'!E16),\"\",'Rooming List'!E16)","v":""},{"$f":"'Rooming List'!F16","v":"00:00:00"},0,0,0,0,0,0,0,0,0,0,0,0,0,0,0,0,0,0,0,0,0,0,0,0,0,0,0,0,0,0,0,0]
[null,5,{"$f":"'Rooming List'!C17","v":0},{"$f":"'Rooming List'!D17","v":0},{"$f":"IF(ISBLANK('Rooming List'!E17),\"\",'Rooming List'!E17)","v":""},{"$f":"'Rooming List'!F17","v":"00:00:00"},0,0,0,0,0,0,0,0,0,0,0,0,0,0,0,0,0,0,0,0,0,0,0,0,0,0,0,0,0,0,0,0]
[null,6,{"$f":"'Rooming List'!C18","v":0},{"$f":"'Rooming List'!D18","v":0},{"$f":"IF(ISBLANK('Rooming List'!E18),\"\",'Rooming List'!E18)","v":""},{"$f":"'Rooming List'!F18","v":"00:00:00"},0,0,0,0,0,0,0,0,0,0,0,0,0,0,0,0,0,0,0,0,0,0,0,0,0,0,0,0,0,0,0,0]
[null,7,{"$f":"'Rooming List'!C19","v":0},{"$f":"'Rooming List'!D19","v":0},{"$f":"IF(ISBLANK('Rooming List'!E19),\"\",'Rooming List'!E19)","v":""},{"$f":"'Rooming List'!F19","v":"00:00:00"},0,0,0,0,0,0,0,0,0,0,0,0,0,0,0,0,0,0,0,0,0,0,0,0,0,0,0,0,0,0,0,0]
[null,8,{"$f":"'Rooming List'!C20","v":0},{"$f":"'Rooming List'!D20","v":0},{"$f":"IF(ISBLANK('Rooming List'!E20),\"\",'Rooming List'!E20)","v":""},{"$f":"'Rooming List'!F20","v":"00:00:00"},0,0,0,0,0,0,0,0,0,0,0,0,0,0,0,0,0,0,0,0,0,0,0,0,0,0,0,0,0,0,0,0]
[null,9,{"$f":"'Rooming List'!C21","v":0},{"$f":"'Rooming List'!D21","v":0},{"$f":"IF(ISBLANK('Rooming List'!E21),\"\",'Rooming List'!E21)","v":""},{"$f":"'Rooming List'!F21","v":"00:00:00"},0,0,0,0,0,0,0,0,0,0,0,0,0,0,0,0,0,{"$f":"IF(AND(X$5>=$E15,X$5<$F15),1,0)","v":0},0,0,0,0,0,0,0,0,0,0,0,0,0,0]
[null,10,{"$f":"'Rooming List'!C22","v":0},{"$f":"'Rooming List'!D22","v":0},{"$f":"IF(ISBLANK('Rooming List'!E22),\"\",'Rooming List'!E22)","v":""},{"$f":"'Rooming List'!F22","v":"00:00:00"},0,0,0,0,0,0,0,0,0,0,0,0,0,0,0,0,0,0,0,0,0,0,0,0,0,0,0,0,0,0,0,0]
[null,11,{"$f":"'Rooming List'!C23","v":0},{"$f":"'Rooming List'!D23","v":0},{"$f":"IF(ISBLANK('Rooming List'!E23),\"\",'Rooming List'!E23)","v":""},{"$f":"'Rooming List'!F23","v":"00:00:00"},0,0,0,0,0,0,0,0,0,0,0,0,0,0,0,0,0,0,0,0,0,0,0,0,0,0,0,0,0,0,0,0]
[null,12,{"$f":"'Rooming List'!C24","v":0},{"$f":"'Rooming List'!D24","v":0},{"$f":"IF(ISBLANK('Rooming List'!E24),\"\",'Rooming List'!E24)","v":""},{"$f":"'Rooming List'!F24","v":"00:00:00"},0,0,0,0,0,0,0,0,0,0,0,0,0,0,0,0,0,0,0,0,0,0,0,0,0,0,0,0,0,0,0,0]
[null,13,{"$f":"'Rooming List'!C25","v":0},{"$f":"'Rooming List'!D25","v":0},{"$f":"IF(ISBLANK('Rooming List'!E25),\"\",'Rooming List'!E25)","v":""},{"$f":"'Rooming List'!F25","v":"00:00:00"},0,0,0,0,0,0,0,0,0,0,0,0,0,0,0,0,0,0,0,0,0,0,0,0,0,0,0,0,0,0,0,0]
[null,14,{"$f":"'Rooming List'!C26","v":0},{"$f":"'Rooming List'!D26","v":0},{"$f":"IF(ISBLANK('Rooming List'!E26),\"\",'Rooming List'!E26)","v":""},{"$f":"'Rooming List'!F26","v":"00:00:00"},0,0,0,0,0,0,0,0,0,0,0,0,0,0,0,0,0,0,0,0,0,0,0,0,0,0,0,0,0,0,0,0]
[null,15,{"$f":"'Rooming List'!C27","v":0},{"$f":"'Rooming List'!D27","v":0},{"$f":"IF(ISBLANK('Rooming List'!E27),\"\",'Rooming List'!E27)","v":""},{"$f":"'Rooming List'!F27","v":"00:00:00"},0,0,0,0,0,0,0,0,0,0,0,0,0,0,0,0,0,0,0,0,0,0,0,0,0,0,0,0,0,0,0,0]
[null,16,{"$f":"'Rooming List'!C28","v":0},{"$f":"'Rooming List'!D28","v":0},{"$f":"IF(ISBLANK('Rooming List'!E28),\"\",'Rooming List'!E28)","v":""},{"$f":"'Rooming List'!F28","v":"00:00:00"},0,0,0,0,0,0,0,0,0,0,0,0,0,0,0,0,0,0,0,0,0,0,0,0,0,0,0,0,0,0,0,0]
[null,17,{"$f":"'Rooming List'!C29","v":0},{"$f":"'Rooming List'!D29","v":0},{"$f":"IF(ISBLANK('Rooming List'!E29),\"\",'Rooming List'!E29)","v":""},{"$f":"'Rooming List'!F29","v":"00:00:00"},0,0,0,0,0,0,0,0,0,0,0,0,0,0,0,0,0,0,0,0,0,0,0,0,0,0,0,0,0,0,0,0]
[null,18,{"$f":"'Rooming List'!C30","v":0},{"$f":"'Rooming List'!D30","v":0},{"$f":"IF(ISBLANK('Rooming List'!E30),\"\",'Rooming List'!E30)","v":""},{"$f":"'Rooming List'!F30","v":"00:00:00"},0,0,0,0,0,0,0,0,0,0,0,0,0,0,0,0,0,0,0,0,0,0,0,0,0,0,0,0,0,0,0,0]
[null,19,{"$f":"'Rooming List'!C31","v":0},{"$f":"'Rooming List'!D31","v":0},{"$f":"IF(ISBLANK('Rooming List'!E31),\"\",'Rooming List'!E31)","v":""},{"$f":"'Rooming List'!F31","v":"00:00:00"},0,0,0,0,0,0,0,0,0,0,0,0,0,0,0,0,0,0,0,0,0,0,0,0,0,0,0,0,0,0,0,0]
[null,20,{"$f":"'Rooming List'!C32","v":0},{"$f":"'Rooming List'!D32","v":0},{"$f":"IF(ISBLANK('Rooming List'!E32),\"\",'Rooming List'!E32)","v":""},{"$f":"'Rooming List'!F32","v":"00:00:00"},0,0,0,0,0,0,0,0,0,0,0,0,0,0,0,0,0,0,0,0,0,0,0,0,0,0,0,0,0,0,0,0]
[null,21,{"$f":"'Rooming List'!C33","v":0},{"$f":"'Rooming List'!D33","v":0},{"$f":"IF(ISBLANK('Rooming List'!E33),\"\",'Rooming List'!E33)","v":""},{"$f":"'Rooming List'!F33","v":"00:00:00"},0,0,0,0,0,0,0,0,0,0,0,0,0,0,0,0,0,0,0,0,0,0,0,0,0,0,0,0,0,0,0,0]
[null,22,{"$f":"'Rooming List'!C34","v":0},{"$f":"'Rooming List'!D34","v":0},{"$f":"IF(ISBLANK('Rooming List'!E34),\"\",'Rooming List'!E34)","v":""},{"$f":"'Rooming List'!F34","v":"00:00:00"},0,0,0,0,0,0,0,0,0,0,0,0,0,0,0,0,0,0,0,0,0,0,0,0,0,0,0,0,0,0,0,0]
[null,23,{"$f":"'Rooming List'!C35","v":0},{"$f":"'Rooming List'!D35","v":0},{"$f":"IF(ISBLANK('Rooming List'!E35),\"\",'Rooming List'!E35)","v":""},{"$f":"'Rooming List'!F35","v":"00:00:00"},0,0,0,0,0,0,0,0,0,0,0,0,0,0,0,0,0,0,0,0,0,0,0,0,0,0,0,0,0,0,0,0]
[null,24,{"$f":"'Rooming List'!C36","v":0},{"$f":"'Rooming List'!D36","v":0},{"$f":"IF(ISBLANK('Rooming List'!E36),\"\",'Rooming List'!E36)","v":""},{"$f":"'Rooming List'!F36","v":"00:00:00"},0,0,0,0,0,0,0,0,0,0,0,0,0,0,0,0,0,0,0,0,0,0,0,0,0,0,0,0,0,0,0,0]
[null,25,{"$f":"'Rooming List'!C37","v":0},{"$f":"'Rooming List'!D37","v":0},{"$f":"IF(ISBLANK('Rooming List'!E37),\"\",'Rooming List'!E37)","v":""},{"$f":"'Rooming List'!F37","v":"00:00:00"},0,0,0,0,0,0,0,0,{"$f":"IF(AND(O$5>=$E31,O$5<$F31),1,0)","v":0},0,0,0,0,0,0,0,0,0,0,0,0,0,0,0,0,0,0,0,0,0,0,0]
[null,26,{"$f":"'Rooming List'!C38","v":0},{"$f":"'Rooming List'!D38","v":0},{"$f":"IF(ISBLANK('Rooming List'!E38),\"\",'Rooming List'!E38)","v":""},{"$f":"'Rooming List'!F38","v":"00:00:00"},0,{"$f":"IF(AND(H$5>=$E32,H$5<$F32),1,0)","v":0},0,0,0,0,0,0,0,0,0,0,0,0,0,0,0,0,0,0,0,0,0,0,0,0,0,0,0,0,0,{"$f":"IF(AND(AL$5>=$E32,AL$5<$F32),1,0)","v":0}]
[null,27,{"$f":"'Rooming List'!C39","v":0},{"$f":"'Rooming List'!D39","v":0},{"$f":"IF(ISBLANK('Rooming List'!E39),\"\",'Rooming List'!E39)","v":""},{"$f":"'Rooming List'!F39","v":"00:00:00"},0,0,0,0,0,0,0,0,0,0,0,0,0,0,0,0,0,0,0,0,0,0,0,0,0,0,0,0,0,0,0,0]
[null,28,{"$f":"'Rooming List'!C40","v":0},{"$f":"'Rooming List'!D40","v":0},{"$f":"IF(ISBLANK('Rooming List'!E40),\"\",'Rooming List'!E40)","v":""},{"$f":"'Rooming List'!F40","v":"00:00:00"},0,0,0,0,0,0,0,0,0,0,0,0,0,0,0,0,0,0,0,0,0,0,0,0,0,0,0,0,0,0,0,0]
[null,29,{"$f":"'Rooming List'!C41","v":0},{"$f":"'Rooming List'!D41","v":0},{"$f":"IF(ISBLANK('Rooming List'!E41),\"\",'Rooming List'!E41)","v":""},{"$f":"'Rooming List'!F41","v":"00:00:00"},0,0,0,0,0,0,0,0,0,0,0,0,0,0,0,0,0,0,0,0,0,0,0,0,0,0,0,0,0,0,0,0]
[null,30,{"$f":"'Rooming List'!C42","v":0},{"$f":"'Rooming List'!D42","v":0},{"$f":"IF(ISBLANK('Rooming List'!E42),\"\",'Rooming List'!E42)","v":""},{"$f":"'Rooming List'!F42","v":"00:00:00"},0,0,0,0,0,0,0,0,0,0,0,0,0,0,0,0,0,0,0,0,0,0,0,0,0,0,0,0,0,0,0,0]
[null,31,{"$f":"'Rooming List'!C43","v":0},{"$f":"'Rooming List'!D43","v":0},{"$f":"IF(ISBLANK('Rooming List'!E43),\"\",'Rooming List'!E43)","v":""},{"$f":"'Rooming List'!F43","v":"00:00:00"},0,0,0,0,0,0,0,0,0,0,0,0,0,0,0,0,0,0,0,0,0,0,0,0,0,0,0,0,0,0,0,0]
[null,32,{"$f":"'Rooming List'!C44","v":0},{"$f":"'Rooming List'!D44","v":0},{"$f":"IF(ISBLANK('Rooming List'!E44),\"\",'Rooming List'!E44)","v":""},{"$f":"'Rooming List'!F44","v":"00:00:00"},0,0,0,0,0,0,0,0,0,0,0,0,0,0,0,0,0,0,0,0,0,0,0,0,0,0,0,0,0,0,0,0]
[null,33,{"$f":"'Rooming List'!C45","v":0},{"$f":"'Rooming List'!D45","v":0},{"$f":"IF(ISBLANK('Rooming List'!E45),\"\",'Rooming List'!E45)","v":""},{"$f":"'Rooming List'!F45","v":"00:00:00"},0,0,0,0,0,0,0,0,0,0,0,0,0,0,0,0,0,0,0,0,0,0,0,0,0,0,0,0,0,0,0,0]
[null,34,{"$f":"'Rooming List'!C46","v":0},{"$f":"'Rooming List'!D46","v":0},{"$f":"IF(ISBLANK('Rooming List'!E46),\"\",'Rooming List'!E46)","v":""},{"$f":"'Rooming List'!F46","v":"00:00:00"},0,0,0,0,0,0,0,0,0,0,0,0,0,0,0,0,0,0,0,0,0,0,0,0,0,0,0,0,0,0,0,0]
[null,35,{"$f":"'Rooming List'!C47","v":0},{"$f":"'Rooming List'!D47","v":0},{"$f":"IF(ISBLANK('Rooming List'!E47),\"\",'Rooming List'!E47)","v":""},{"$f":"'Rooming List'!F47","v":"00:00:00"},0,0,0,0,0,0,0,0,0,0,0,0,0,0,0,0,{"$f":"IF(AND(W$5>=$E41,W$5<$F41),1,0)","v":0},0,0,0,0,0,0,0,0,0,0,0,0,0,0,0]
[null,36,{"$f":"'Rooming List'!C48","v":0},{"$f":"'Rooming List'!D48","v":0},{"$f":"IF(ISBLANK('Rooming List'!E48),\"\",'Rooming List'!E48)","v":""},{"$f":"'Rooming List'!F48","v":"00:00:00"},0,0,0,0,0,0,0,0,0,0,0,0,0,0,0,0,0,0,0,0,0,0,0,0,0,0,0,0,0,0,0,0]
[null,37,{"$f":"'Rooming List'!C49","v":0},{"$f":"'Rooming List'!D49","v":0},{"$f":"IF(ISBLANK('Rooming List'!E49),\"\",'Rooming List'!E49)","v":""},{"$f":"'Rooming List'!F49","v":"00:00:00"},0,0,0,0,0,0,0,0,0,0,0,0,0,0,0,0,0,0,0,0,0,0,0,0,0,0,0,0,0,0,0,0]
[null,38,{"$f":"'Rooming List'!C50","v":0},{"$f":"'Rooming List'!D50","v":0},{"$f":"IF(ISBLANK('Rooming List'!E50),\"\",'Rooming List'!E50)","v":""},{"$f":"'Rooming List'!F50","v":"00:00:00"},0,0,0,0,0,0,0,0,0,0,0,0,0,0,0,0,0,0,0,0,0,0,0,0,0,0,0,0,0,0,0,0]
[null,39,{"$f":"'Rooming List'!C51","v":0},{"$f":"'Rooming List'!D51","v":0},{"$f":"IF(ISBLANK('Rooming List'!E51),\"\",'Rooming List'!E51)","v":""},{"$f":"'Rooming List'!F51","v":"00:00:00"},0,0,0,0,0,0,0,0,0,0,0,0,0,0,0,0,0,0,0,0,0,0,0,0,0,0,0,0,0,0,0,0]
[null,40,{"$f":"'Rooming List'!C52","v":0},{"$f":"'Rooming List'!D52","v":0},{"$f":"IF(ISBLANK('Rooming List'!E52),\"\",'Rooming List'!E52)","v":""},{"$f":"'Rooming List'!F52","v":"00:00:00"},0,0,0,0,0,0,0,0,0,0,0,0,0,0,0,0,0,0,0,0,0,0,0,0,0,0,0,0,0,0,0,0]
[null,41,{"$f":"'Rooming List'!C53","v":0},{"$f":"'Rooming List'!D53","v":0},{"$f":"IF(ISBLANK('Rooming List'!E53),\"\",'Rooming List'!E53)","v":""},{"$f":"'Rooming List'!F53","v":"00:00:00"},0,0,0,0,0,0,0,0,0,0,0,0,0,0,0,0,0,0,0,0,0,0,0,0,0,0,0,0,0,0,0,0]
[null,42,{"$f":"'Rooming List'!C54","v":0},{"$f":"'Rooming List'!D54","v":0},{"$f":"IF(ISBLANK('Rooming List'!E54),\"\",'Rooming List'!E54)","v":""},{"$f":"'Rooming List'!F54","v":"00:00:00"},0,0,0,0,0,0,0,0,0,0,0,0,0,0,0,0,0,0,0,0,0,0,0,0,0,0,0,0,0,0,0,0]
[null,43,{"$f":"'Rooming List'!C55","v":0},{"$f":"'Rooming List'!D55","v":0},{"$f":"IF(ISBLANK('Rooming List'!E55),\"\",'Rooming List'!E55)","v":""},{"$f":"'Rooming List'!F55","v":"00:00:00"},0,0,0,0,0,0,0,0,0,0,0,0,0,0,0,0,0,0,0,0,0,0,0,0,0,0,0,0,0,0,0,0]
[null,44,{"$f":"'Rooming List'!C56","v":0},{"$f":"'Rooming List'!D56","v":0},{"$f":"IF(ISBLANK('Rooming List'!E56),\"\",'Rooming List'!E56)","v":""},{"$f":"'Rooming List'!F56","v":"00:00:00"},0,0,0,0,0,0,0,0,0,0,0,0,0,0,0,0,0,0,0,0,0,0,0,0,0,0,0,0,0,0,0,0]
[null,45,{"$f":"'Rooming List'!C57","v":0},{"$f":"'Rooming List'!D57","v":0},{"$f":"IF(ISBLANK('Rooming List'!E57),\"\",'Rooming List'!E57)","v":""},{"$f":"'Rooming List'!F57","v":"00:00:00"},0,0,0,0,0,0,0,0,0,0,0,0,0,0,0,0,0,0,0,0,0,0,0,0,0,0,0,0,0,0,0,0]
[null,46,{"$f":"'Rooming List'!C58","v":0},{"$f":"'Rooming List'!D58","v":0},{"$f":"IF(ISBLANK('Rooming List'!E58),\"\",'Rooming List'!E58)","v":""},{"$f":"'Rooming List'!F58","v":"00:00:00"},0,0,0,0,0,0,0,0,0,0,0,0,0,0,0,0,0,0,0,0,0,0,0,0,0,0,0,0,0,0,0,0]
[null,47,{"$f":"'Rooming List'!C59","v":0},{"$f":"'Rooming List'!D59","v":0},{"$f":"IF(ISBLANK('Rooming List'!E59),\"\",'Rooming List'!E59)","v":""},{"$f":"'Rooming List'!F59","v":"00:00:00"},0,0,0,0,0,0,0,0,0,0,0,0,0,0,0,0,0,0,0,0,0,0,0,0,0,0,0,0,0,0,0,0]
[null,48,{"$f":"'Rooming List'!C60","v":0},{"$f":"'Rooming List'!D60","v":0},{"$f":"IF(ISBLANK('Rooming List'!E60),\"\",'Rooming List'!E60)","v":""},{"$f":"'Rooming List'!F60","v":"00:00:00"},0,0,0,0,0,0,0,0,0,0,0,0,0,0,0,0,0,0,0,0,0,0,0,0,0,0,0,0,0,0,0,0]
[null,49,{"$f":"'Rooming List'!C61","v":0},{"$f":"'Rooming List'!D61","v":0},{"$f":"IF(ISBLANK('Rooming List'!E61),\"\",'Rooming List'!E61)","v":""},{"$f":"'Rooming List'!F61","v":"00:00:00"},0,0,0,0,0,0,0,0,0,0,0,0,0,0,0,0,0,0,0,0,0,0,0,0,0,0,0,0,0,0,0,0]
[null,50,{"$f":"'Rooming List'!C62","v":0},{"$f":"'Rooming List'!D62","v":0},{"$f":"IF(ISBLANK('Rooming List'!E62),\"\",'Rooming List'!E62)","v":""},{"$f":"'Rooming List'!F62","v":"00:00:00"},0,0,0,0,0,0,0,{"$f":"IF(AND(N$5>=$E56,N$5<$F56),1,0)","v":0},0,0,0,0,0,0,0,0,0,0,0,0,0,0,0,0,0,0,0,0,0,0,0,0]
[null,51,{"$f":"'Rooming List'!C63","v":0},{"$f":"'Rooming List'!D63","v":0},{"$f":"IF(ISBLANK('Rooming List'!E63),\"\",'Rooming List'!E63)","v":""},{"$f":"'Rooming List'!F63","v":"00:00:00"},0,{"$f":"IF(AND(H$5>=$E57,H$5<$F57),1,0)","v":0},0,0,0,0,0,0,0,0,0,0,0,0,0,0,0,0,0,0,0,0,0,0,0,0,0,0,0,0,0,0]
[null,52,{"$f":"'Rooming List'!C64","v":0},{"$f":"'Rooming List'!D64","v":0},{"$f":"IF(ISBLANK('Rooming List'!E64),\"\",'Rooming List'!E64)","v":""},{"$f":"'Rooming List'!F64","v":"00:00:00"},0,0,0,0,0,0,0,0,0,0,0,0,0,0,0,0,0,0,0,0,0,0,0,0,0,0,0,0,0,0,0,0]
[null,53,{"$f":"'Rooming List'!C65","v":0},{"$f":"'Rooming List'!D65","v":0},{"$f":"IF(ISBLANK('Rooming List'!E65),\"\",'Rooming List'!E65)","v":""},{"$f":"'Rooming List'!F65","v":"00:00:00"},0,0,0,0,0,0,0,0,0,0,0,0,0,0,0,0,0,0,0,0,0,0,0,0,0,{"$f":"IF(AND(AF$5>=$E59,AF$5<$F59),1,0)","v":0},0,0,0,0,0,0]
[null,54,{"$f":"'Rooming List'!C66","v":0},{"$f":"'Rooming List'!D66","v":0},{"$f":"IF(ISBLANK('Rooming List'!E66),\"\",'Rooming List'!E66)","v":""},{"$f":"'Rooming List'!F66","v":"00:00:00"},0,0,0,0,0,0,0,0,0,0,0,0,0,0,0,0,0,0,0,0,0,0,0,{"$f":"IF(AND(AD$5>=$E60,AD$5<$F60),1,0)","v":0},0,0,0,0,0,0,0,0]
[null,55,{"$f":"'Rooming List'!C67","v":0},{"$f":"'Rooming List'!D67","v":0},{"$f":"IF(ISBLANK('Rooming List'!E67),\"\",'Rooming List'!E67)","v":""},{"$f":"'Rooming List'!F67","v":"00:00:00"},0,0,0,0,0,0,0,0,0,0,0,0,0,0,0,0,0,0,0,0,0,0,0,0,0,0,0,0,0,0,0,0]
[null,56,{"$f":"'Rooming List'!C68","v":0},{"$f":"'Rooming List'!D68","v":0},{"$f":"IF(ISBLANK('Rooming List'!E68),\"\",'Rooming List'!E68)","v":""},{"$f":"'Rooming List'!F68","v":"00:00:00"},0,0,0,0,0,0,0,0,0,0,0,0,0,0,0,0,0,0,0,0,0,0,0,0,0,0,0,0,0,0,0,0]
[null,57,{"$f":"'Rooming List'!C69","v":0},{"$f":"'Rooming List'!D69","v":0},{"$f":"IF(ISBLANK('Rooming List'!E69),\"\",'Rooming List'!E69)","v":""},{"$f":"'Rooming List'!F69","v":"00:00:00"},0,0,0,0,0,0,0,0,0,0,0,0,0,0,0,0,0,0,0,0,0,0,0,0,0,0,0,0,0,0,0,0]
[null,58,{"$f":"'Rooming List'!C70","v":0},{"$f":"'Rooming List'!D70","v":0},{"$f":"IF(ISBLANK('Rooming List'!E70),\"\",'Rooming List'!E70)","v":""},{"$f":"'Rooming List'!F70","v":"00:00:00"},0,0,0,0,0,0,0,0,0,0,0,0,0,0,0,0,0,0,0,0,0,0,0,0,0,0,0,0,0,0,0,0]
[null,59,{"$f":"'Rooming List'!C71","v":0},{"$f":"'Rooming List'!D71","v":0},{"$f":"IF(ISBLANK('Rooming List'!E71),\"\",'Rooming List'!E71)","v":""},{"$f":"'Rooming List'!F71","v":"00:00:00"},0,0,0,0,0,0,0,0,0,0,0,0,0,0,0,0,0,0,0,0,0,0,0,0,0,0,0,0,0,0,0,0]
[null,60,{"$f":"'Rooming List'!C72","v":0},{"$f":"'Rooming List'!D72","v":0},{"$f":"IF(ISBLANK('Rooming List'!E72),\"\",'Rooming List'!E72)","v":""},{"$f":"'Rooming List'!F72","v":"00:00:00"},0,0,0,0,0,0,0,0,0,0,0,0,0,0,0,0,0,0,0,0,0,0,0,0,0,0,0,0,0,0,0,0]
[null,61,{"$f":"'Rooming List'!C73","v":0},{"$f":"'Rooming List'!D73","v":0},{"$f":"IF(ISBLANK('Rooming List'!E73),\"\",'Rooming List'!E73)","v":""},{"$f":"'Rooming List'!F73","v":"00:00:00"},0,0,0,0,0,0,0,0,0,0,0,0,0,0,0,0,0,0,0,0,0,0,0,0,0,0,0,0,0,0,0,0]
[null,62,{"$f":"'Rooming List'!C74","v":0},{"$f":"'Rooming List'!D74","v":0},{"$f":"IF(ISBLANK('Rooming List'!E74),\"\",'Rooming List'!E74)","v":""},{"$f":"'Rooming List'!F74","v":"00:00:00"},0,0,0,0,0,0,0,0,0,0,0,0,0,0,0,0,0,0,0,0,0,0,0,0,0,0,0,0,0,0,0,0]
[null,63,{"$f":"'Rooming List'!C75","v":0},{"$f":"'Rooming List'!D75","v":0},{"$f":"IF(ISBLANK('Rooming List'!E75),\"\",'Rooming List'!E75)","v":""},{"$f":"'Rooming List'!F75","v":"00:00:00"},0,0,0,0,0,0,0,0,0,0,0,0,0,0,0,0,0,0,0,0,0,0,0,0,0,0,0,0,0,0,0,0]
[null,64,{"$f":"'Rooming List'!C76","v":0},{"$f":"'Rooming List'!D76","v":0},{"$f":"IF(ISBLANK('Rooming List'!E76),\"\",'Rooming List'!E76)","v":""},{"$f":"'Rooming List'!F76","v":"00:00:00"},0,0,0,0,0,0,0,0,0,0,0,0,0,0,0,0,0,0,0,0,0,0,0,0,0,0,0,0,0,0,0,0]
[null,65,{"$f":"'Rooming List'!C77","v":0},{"$f":"'Rooming List'!D77","v":0},{"$f":"IF(ISBLANK('Rooming List'!E77),\"\",'Rooming List'!E77)","v":""},{"$f":"'Rooming List'!F77","v":"00:00:00"},0,0,0,0,0,0,0,0,0,0,0,0,0,0,0,0,0,0,0,0,0,0,0,0,0,0,0,0,0,0,0,0]
[null,66,{"$f":"'Rooming List'!C78","v":0},{"$f":"'Rooming List'!D78","v":0},{"$f":"IF(ISBLANK('Rooming List'!E78),\"\",'Rooming List'!E78)","v":""},{"$f":"'Rooming List'!F78","v":"00:00:00"},{"$f":"SUM(H72:AL72)","v":0},0,0,0,0,0,0,0,0,0,0,0,0,0,0,0,{"$f":"IF(AND(W$5>=$E72,W$5<$F72),1,0)","v":0},0,0,0,0,0,0,0,0,0,0,0,0,0,0,0]
[null,67,{"$f":"'Rooming List'!C79","v":0},{"$f":"'Rooming List'!D79","v":0},{"$f":"IF(ISBLANK('Rooming List'!E79),\"\",'Rooming List'!E79)","v":""},{"$f":"'Rooming List'!F79","v":"00:00:00"},0,{"$f":"IF(AND(H$5>=$E73,H$5<$F73),1,0)","v":0},0,0,0,0,0,0,0,0,0,0,0,0,0,0,0,0,0,0,0,0,0,0,0,0,0,0,0,0,0,0]
[null,68,{"$f":"'Rooming List'!C80","v":0},{"$f":"'Rooming List'!D80","v":0},{"$f":"IF(ISBLANK('Rooming List'!E80),\"\",'Rooming List'!E80)","v":""},{"$f":"'Rooming List'!F80","v":"00:00:00"},0,0,0,0,0,0,0,0,0,0,0,0,0,0,0,0,0,0,0,0,0,0,0,0,0,0,0,0,0,0,0,0]
[null,69,{"$f":"'Rooming List'!C81","v":0},{"$f":"'Rooming List'!D81","v":0},{"$f":"IF(ISBLANK('Rooming List'!E81),\"\",'Rooming List'!E81)","v":""},{"$f":"'Rooming List'!F81","v":"00:00:00"},0,0,0,0,0,0,0,0,0,0,0,0,0,0,0,0,0,0,0,0,0,0,0,0,0,0,0,0,0,0,0,0]
[null,70,{"$f":"'Rooming List'!C82","v":0},{"$f":"'Rooming List'!D82","v":0},{"$f":"IF(ISBLANK('Rooming List'!E82),\"\",'Rooming List'!E82)","v":""},{"$f":"'Rooming List'!F82","v":"00:00:00"},0,0,0,0,0,0,0,0,0,0,0,0,0,0,0,0,0,0,0,0,0,0,0,0,0,0,0,0,0,0,0,0]
[null,71,{"$f":"'Rooming List'!C83","v":0},{"$f":"'Rooming List'!D83","v":0},{"$f":"IF(ISBLANK('Rooming List'!E83),\"\",'Rooming List'!E83)","v":""},{"$f":"'Rooming List'!F83","v":"00:00:00"},0,0,0,0,0,0,0,0,0,0,0,0,0,0,0,0,0,0,0,0,0,0,0,0,0,0,0,0,0,0,0,0]
[null,72,{"$f":"'Rooming List'!C84","v":0},{"$f":"'Rooming List'!D84","v":0},{"$f":"IF(ISBLANK('Rooming List'!E84),\"\",'Rooming List'!E84)","v":""},{"$f":"'Rooming List'!F84","v":"00:00:00"},0,0,0,0,0,0,0,0,0,0,0,0,0,0,0,0,0,0,0,0,0,0,0,0,0,0,0,0,0,0,0,0]
[null,73,{"$f":"'Rooming List'!C85","v":0},{"$f":"'Rooming List'!D85","v":0},{"$f":"IF(ISBLANK('Rooming List'!E85),\"\",'Rooming List'!E85)","v":""},{"$f":"'Rooming List'!F85","v":"00:00:00"},0,0,0,0,0,0,0,0,0,0,0,0,0,0,0,0,0,0,0,0,0,0,0,0,0,0,0,0,0,0,0,0]
[null,74,{"$f":"'Rooming List'!C86","v":0},{"$f":"'Rooming List'!D86","v":0},{"$f":"IF(ISBLANK('Rooming List'!E86),\"\",'Rooming List'!E86)","v":""},{"$f":"'Rooming List'!F86","v":"00:00:00"},0,0,0,0,0,0,0,0,0,0,0,0,0,0,0,0,0,0,0,0,0,0,0,0,0,0,0,0,0,0,0,0]
[null,75,{"$f":"'Rooming List'!C87","v":0},{"$f":"'Rooming List'!D87","v":0},{"$f":"IF(ISBLANK('Rooming List'!E87),\"\",'Rooming List'!E87)","v":""},{"$f":"'Rooming List'!F87","v":"00:00:00"},0,0,0,0,0,0,0,0,0,0,0,0,0,0,0,0,0,0,0,0,0,0,0,0,0,0,0,0,0,0,0,0]
[null,76,{"$f":"'Rooming List'!C88","v":0},{"$f":"'Rooming List'!D88","v":0},{"$f":"IF(ISBLANK('Rooming List'!E88),\"\",'Rooming List'!E88)","v":""},{"$f":"'Rooming List'!F88","v":"00:00:00"},0,0,0,0,0,0,0,0,0,0,0,0,0,0,0,0,0,0,0,0,0,0,0,0,0,0,0,0,0,0,0,0]
[null,77,{"$f":"'Rooming List'!C89","v":0},{"$f":"'Rooming List'!D89","v":0},{"$f":"IF(ISBLANK('Rooming List'!E89),\"\",'Rooming List'!E89)","v":""},{"$f":"'Rooming List'!F89","v":"00:00:00"},0,0,0,0,0,0,0,0,0,0,0,0,0,0,0,0,0,0,0,0,0,0,0,0,0,0,0,0,0,0,0,0]
[null,78,{"$f":"'Rooming List'!C90","v":0},{"$f":"'Rooming List'!D90","v":0},{"$f":"IF(ISBLANK('Rooming List'!E90),\"\",'Rooming List'!E90)","v":""},{"$f":"'Rooming List'!F90","v":"00:00:00"},0,0,0,0,0,0,0,0,0,0,0,0,0,0,0,0,0,0,0,0,0,0,0,0,0,0,0,0,0,0,0,0]
[null,79,{"$f":"'Rooming List'!C91","v":0},{"$f":"'Rooming List'!D91","v":0},{"$f":"IF(ISBLANK('Rooming List'!E91),\"\",'Rooming List'!E91)","v":""},{"$f":"'Rooming List'!F91","v":"00:00:00"},0,0,0,0,0,0,0,0,0,0,0,0,0,0,0,0,0,0,0,0,0,0,0,0,0,0,0,0,0,0,0,0]
[null,80,{"$f":"'Rooming List'!C92","v":0},{"$f":"'Rooming List'!D92","v":0},{"$f":"IF(ISBLANK('Rooming List'!E92),\"\",'Rooming List'!E92)","v":""},{"$f":"'Rooming List'!F92","v":"00:00:00"},0,0,0,0,0,0,0,0,0,0,0,0,0,0,0,0,0,0,0,0,0,0,0,0,0,0,0,0,0,0,0,0]
[null,81,{"$f":"'Rooming List'!C93","v":0},{"$f":"'Rooming List'!D93","v":0},{"$f":"IF(ISBLANK('Rooming List'!E93),\"\",'Rooming List'!E93)","v":""},{"$f":"'Rooming List'!F93","v":"00:00:00"},0,0,0,0,0,0,0,0,0,0,0,0,0,0,0,0,0,0,0,0,0,0,0,0,0,0,0,0,0,0,0,0]
[null,82,{"$f":"'Rooming List'!C94","v":0},{"$f":"'Rooming List'!D94","v":0},{"$f":"IF(ISBLANK('Rooming List'!E94),\"\",'Rooming List'!E94)","v":""},{"$f":"'Rooming List'!F94","v":"00:00:00"},0,0,0,0,0,0,0,0,0,0,0,0,0,0,0,0,{"$f":"IF(AND(W$5>=$E88,W$5<$F88),1,0)","v":0},0,0,0,0,0,0,0,0,0,0,0,0,0,0,0]
[null,83,{"$f":"'Rooming List'!C95","v":0},{"$f":"'Rooming List'!D95","v":0},{"$f":"IF(ISBLANK('Rooming List'!E95),\"\",'Rooming List'!E95)","v":""},{"$f":"'Rooming List'!F95","v":"00:00:00"},0,{"$f":"IF(AND(H$5>=$E89,H$5<$F89),1,0)","v":0},0,0,0,0,0,0,0,0,0,0,0,0,0,0,0,0,0,0,0,0,0,0,0,0,0,0,0,0,0,0]
[null,84,{"$f":"'Rooming List'!C96","v":0},{"$f":"'Rooming List'!D96","v":0},{"$f":"IF(ISBLANK('Rooming List'!E96),\"\",'Rooming List'!E96)","v":""},{"$f":"'Rooming List'!F96","v":"00:00:00"},0,0,0,0,0,0,0,0,0,0,0,0,0,0,0,0,0,0,0,0,0,0,0,0,0,0,0,0,0,0,0,0]
[null,85,{"$f":"'Rooming List'!C97","v":0},{"$f":"'Rooming List'!D97","v":0},{"$f":"IF(ISBLANK('Rooming List'!E97),\"\",'Rooming List'!E97)","v":""},{"$f":"'Rooming List'!F97","v":"00:00:00"},0,0,0,0,0,0,0,0,0,0,0,0,0,0,0,0,0,0,0,0,0,0,0,0,0,0,0,0,0,0,0,0]
[null,86,{"$f":"'Rooming List'!C98","v":0},{"$f":"'Rooming List'!D98","v":0},{"$f":"IF(ISBLANK('Rooming List'!E98),\"\",'Rooming List'!E98)","v":""},{"$f":"'Rooming List'!F98","v":"00:00:00"},0,0,0,0,0,0,0,0,0,0,0,0,0,0,0,0,0,0,0,0,0,0,0,0,0,0,0,0,0,0,0,0]
[null,87,{"$f":"'Rooming List'!C99","v":0},{"$f":"'Rooming List'!D99","v":0},{"$f":"IF(ISBLANK('Rooming List'!E99),\"\",'Rooming List'!E99)","v":""},{"$f":"'Rooming List'!F99","v":"00:00:00"},0,0,0,0,0,0,0,0,0,0,0,0,0,0,0,0,0,0,0,0,0,0,0,0,0,0,0,0,0,0,0,0]
[null,88,{"$f":"'Rooming List'!C100","v":0},{"$f":"'Rooming List'!D100","v":0},{"$f":"IF(ISBLANK('Rooming List'!E100),\"\",'Rooming List'!E100)","v":""},{"$f":"'Rooming List'!F100","v":"00:00:00"},0,0,0,0,0,0,0,0,0,0,0,0,0,0,0,0,0,0,0,0,0,0,0,0,0,0,0,0,0,0,0,0]
[null,89,{"$f":"'Rooming List'!C101","v":0},{"$f":"'Rooming List'!D101","v":0},{"$f":"IF(ISBLANK('Rooming List'!E101),\"\",'Rooming List'!E101)","v":""},{"$f":"'Rooming List'!F101","v":"00:00:00"},0,0,0,0,0,0,0,0,0,0,0,0,0,0,0,0,0,0,0,0,0,0,0,0,0,0,0,0,0,0,0,0]
[null,90,{"$f":"'Rooming List'!C102","v":0},{"$f":"'Rooming List'!D102","v":0},{"$f":"IF(ISBLANK('Rooming List'!E102),\"\",'Rooming List'!E102)","v":""},{"$f":"'Rooming List'!F102","v":"00:00:00"},0,0,0,0,0,0,0,0,0,0,0,0,0,0,0,0,0,0,0,0,0,0,0,0,0,0,0,0,0,0,0,0]
[null,91,{"$f":"'Rooming List'!C103","v":0},{"$f":"'Rooming List'!D103","v":0},{"$f":"IF(ISBLANK('Rooming List'!E103),\"\",'Rooming List'!E103)","v":""},{"$f":"'Rooming List'!F103","v":"00:00:00"},0,0,0,0,0,0,0,0,0,0,0,0,0,0,0,0,0,0,0,0,0,0,0,0,0,0,0,0,0,0,0,0]
[null,92,{"$f":"'Rooming List'!C104","v":0},{"$f":"'Rooming List'!D104","v":0},{"$f":"IF(ISBLANK('Rooming List'!E104),\"\",'Rooming List'!E104)","v":""},{"$f":"'Rooming List'!F104","v":"00:00:00"},0,0,0,0,0,0,0,0,0,0,0,0,0,0,0,0,0,0,0,0,0,0,0,0,0,0,0,0,0,0,0,0]
[null,93,{"$f":"'Rooming List'!C105","v":0},{"$f":"'Rooming List'!D105","v":0},{"$f":"IF(ISBLANK('Rooming List'!E105),\"\",'Rooming List'!E105)","v":""},{"$f":"'Rooming List'!F105","v":"00:00:00"},0,0,0,0,0,0,0,0,0,0,0,0,0,0,0,0,0,0,0,0,0,0,0,0,0,0,0,0,0,0,0,0]
[null,94,{"$f":"'Rooming List'!C106","v":0},{"$f":"'Rooming List'!D106","v":0},{"$f":"IF(ISBLANK('Rooming List'!E106),\"\",'Rooming List'!E106)","v":""},{"$f":"'Rooming List'!F106","v":"00:00:00"},0,0,0,0,0,0,0,0,0,0,0,0,0,0,0,0,0,0,0,0,0,0,0,0,0,0,0,0,0,0,0,0]
[null,95,{"$f":"'Rooming List'!C107","v":0},{"$f":"'Rooming List'!D107","v":0},{"$f":"IF(ISBLANK('Rooming List'!E107),\"\",'Rooming List'!E107)","v":""},{"$f":"'Rooming List'!F107","v":"00:00:00"},0,0,0,0,0,0,0,0,0,0,0,0,0,0,0,0,0,0,0,0,0,0,0,0,0,0,0,0,0,0,0,0]
[null,96,{"$f":"'Rooming List'!C108","v":0},{"$f":"'Rooming List'!D108","v":0},{"$f":"IF(ISBLANK('Rooming List'!E108),\"\",'Rooming List'!E108)","v":""},{"$f":"'Rooming List'!F108","v":"00:00:00"},0,0,0,0,0,0,0,0,0,0,0,0,0,0,0,0,0,0,0,0,0,0,0,0,0,0,0,0,0,0,0,0]
[null,97,{"$f":"'Rooming List'!C109","v":0},{"$f":"'Rooming List'!D109","v":0},{"$f":"IF(ISBLANK('Rooming List'!E109),\"\",'Rooming List'!E109)","v":""},{"$f":"'Rooming List'!F109","v":"00:00:00"},0,0,0,0,0,0,0,0,0,0,0,0,0,0,0,0,0,0,0,0,0,0,0,0,0,0,0,0,0,0,0,0]
[null,98,{"$f":"'Rooming List'!C110","v":0},{"$f":"'Rooming List'!D110","v":0},{"$f":"IF(ISBLANK('Rooming List'!E110),\"\",'Rooming List'!E110)","v":""},{"$f":"'Rooming List'!F110","v":"00:00:00"},0,0,0,0,0,0,0,0,0,0,0,0,0,0,0,0,{"$f":"IF(AND(W$5>=$E104,W$5<$F104),1,0)","v":0},0,0,0,0,0,0,0,0,0,0,0,0,0,0,0]
[null,99,{"$f":"'Rooming List'!C111","v":0},{"$f":"'Rooming List'!D111","v":0},{"$f":"IF(ISBLANK('Rooming List'!E111),\"\",'Rooming List'!E111)","v":""},{"$f":"'Rooming List'!F111","v":"00:00:00"},0,{"$f":"IF(AND(H$5>=$E105,H$5<$F105),1,0)","v":0},0,0,0,0,0,0,0,0,0,0,0,0,0,0,0,0,0,0,0,0,0,0,0,0,0,0,0,0,0,0]
[null,100,{"$f":"'Rooming List'!C112","v":0},{"$f":"'Rooming List'!D112","v":0},{"$f":"IF(ISBLANK('Rooming List'!E112),\"\",'Rooming List'!E112)","v":""},{"$f":"'Rooming List'!F112","v":"00:00:00"},0,0,0,0,0,0,0,0,0,0,0,0,0,0,0,0,0,0,0,0,0,0,0,0,0,0,0,0,0,0,0,0]
[null,101,{"$f":"'Rooming List'!C113","v":0},{"$f":"'Rooming List'!D113","v":0},{"$f":"IF(ISBLANK('Rooming List'!E113),\"\",'Rooming List'!E113)","v":""},{"$f":"'Rooming List'!F113","v":"00:00:00"},{"$f":"SUM(H107:AL107)","v":0},0,0,0,0,0,0,0,0,0,0,0,0,0,0,0,0,0,0,0,0,0,0,0,0,0,0,0,0,0,0,0]
[null,102,{"$f":"'Rooming List'!C114","v":0},{"$f":"'Rooming List'!D114","v":0},{"$f":"IF(ISBLANK('Rooming List'!E114),\"\",'Rooming List'!E114)","v":""},{"$f":"'Rooming List'!F114","v":"00:00:00"},0,0,0,0,0,0,0,0,0,0,0,0,0,0,0,0,0,0,0,0,0,0,0,0,0,0,0,0,0,0,0,0]
[null,103,{"$f":"'Rooming List'!C115","v":0},{"$f":"'Rooming List'!D115","v":0},{"$f":"IF(ISBLANK('Rooming List'!E115),\"\",'Rooming List'!E115)","v":""},{"$f":"'Rooming List'!F115","v":"00:00:00"},0,0,0,0,0,0,0,0,0,0,0,0,0,0,0,0,0,0,0,0,0,0,0,0,0,0,0,0,0,0,0,0]
[null,104,{"$f":"'Rooming List'!C116","v":0},{"$f":"'Rooming List'!D116","v":0},{"$f":"IF(ISBLANK('Rooming List'!E116),\"\",'Rooming List'!E116)","v":""},{"$f":"'Rooming List'!F116","v":"00:00:00"},0,0,0,0,0,0,0,0,0,0,0,0,0,0,0,0,0,0,0,0,0,0,0,0,0,0,0,0,0,0,0,0]
[null,105,{"$f":"'Rooming List'!C117","v":0},{"$f":"'Rooming List'!D117","v":0},{"$f":"IF(ISBLANK('Rooming List'!E117),\"\",'Rooming List'!E117)","v":""},{"$f":"'Rooming List'!F117","v":"00:00:00"},0,0,0,0,0,0,0,0,0,0,0,0,0,0,0,0,0,0,0,0,0,0,0,0,0,0,0,0,0,0,0,0]
[null,106,{"$f":"'Rooming List'!C118","v":0},{"$f":"'Rooming List'!D118","v":0},{"$f":"IF(ISBLANK('Rooming List'!E118),\"\",'Rooming List'!E118)","v":""},{"$f":"'Rooming List'!F118","v":"00:00:00"},0,0,0,0,0,0,0,0,0,0,0,0,0,0,0,0,0,0,0,0,0,0,0,0,0,0,0,0,0,0,0,0]
[null,107,{"$f":"'Rooming List'!C119","v":0},{"$f":"'Rooming List'!D119","v":0},{"$f":"IF(ISBLANK('Rooming List'!E119),\"\",'Rooming List'!E119)","v":""},{"$f":"'Rooming List'!F119","v":"00:00:00"},0,0,0,0,0,0,0,0,0,0,0,0,0,0,0,0,0,0,0,0,0,0,0,0,0,0,0,0,0,0,0,0]
[null,108,{"$f":"'Rooming List'!C120","v":0},{"$f":"'Rooming List'!D120","v":0},{"$f":"IF(ISBLANK('Rooming List'!E120),\"\",'Rooming List'!E120)","v":""},{"$f":"'Rooming List'!F120","v":"00:00:00"},0,0,0,0,0,0,0,0,0,0,0,0,0,0,0,0,0,0,0,0,0,0,0,0,0,0,0,0,0,0,0,0]
[null,109,{"$f":"'Rooming List'!C121","v":0},{"$f":"'Rooming List'!D121","v":0},{"$f":"IF(ISBLANK('Rooming List'!E121),\"\",'Rooming List'!E121)","v":""},{"$f":"'Rooming List'!F121","v":"00:00:00"},0,0,0,0,0,0,0,0,0,0,0,0,0,0,0,0,0,0,0,0,0,0,0,0,0,0,0,0,0,0,0,0]
[null,110,{"$f":"'Rooming List'!C122","v":0},{"$f":"'Rooming List'!D122","v":0},{"$f":"IF(ISBLANK('Rooming List'!E122),\"\",'Rooming List'!E122)","v":""},{"$f":"'Rooming List'!F122","v":"00:00:00"},0,0,0,0,0,0,0,0,0,0,0,0,0,0,0,0,0,0,0,0,0,0,0,0,0,0,0,0,0,0,0,0]
[null,111,{"$f":"'Rooming List'!C123","v":0},{"$f":"'Rooming List'!D123","v":0},{"$f":"IF(ISBLANK('Rooming List'!E123),\"\",'Rooming List'!E123)","v":""},{"$f":"'Rooming List'!F123","v":"00:00:00"},0,0,0,0,0,0,0,0,0,0,0,0,0,0,0,0,0,0,0,0,0,0,0,0,0,0,0,0,0,0,0,0]
[null,112,{"$f":"'Rooming List'!C124","v":0},{"$f":"'Rooming List'!D124","v":0},{"$f":"IF(ISBLANK('Rooming List'!E124),\"\",'Rooming List'!E124)","v":""},{"$f":"'Rooming List'!F124","v":"00:00:00"},0,0,0,0,0,0,0,0,0,0,0,0,0,0,0,0,0,0,0,0,0,0,0,0,0,0,0,0,0,0,0,0]
[null,113,{"$f":"'Rooming List'!C125","v":0},{"$f":"'Rooming List'!D125","v":0},{"$f":"IF(ISBLANK('Rooming List'!E125),\"\",'Rooming List'!E125)","v":""},{"$f":"'Rooming List'!F125","v":"00:00:00"},0,0,0,0,0,0,0,0,0,0,0,0,0,0,0,0,0,0,0,0,0,0,0,0,0,0,0,0,0,0,0,0]
[null,114,{"$f":"'Rooming List'!C126","v":0},{"$f":"'Rooming List'!D126","v":0},{"$f":"IF(ISBLANK('Rooming List'!E126),\"\",'Rooming List'!E126)","v":""},{"$f":"'Rooming List'!F126","v":"00:00:00"},0,0,0,0,0,0,0,0,0,0,0,0,0,0,0,0,{"$f":"IF(AND(W$5>=$E120,W$5<$F120),1,0)","v":0},0,0,0,0,0,0,0,0,0,0,0,0,0,0,0]
[null,115,{"$f":"'Rooming List'!C127","v":0},{"$f":"'Rooming List'!D127","v":0},{"$f":"IF(ISBLANK('Rooming List'!E127),\"\",'Rooming List'!E127)","v":""},{"$f":"'Rooming List'!F127","v":"00:00:00"},0,{"$f":"IF(AND(H$5>=$E121,H$5<$F121),1,0)","v":0},0,0,0,0,0,0,0,0,0,0,0,0,0,0,0,0,0,0,0,0,0,0,0,0,0,0,0,0,0,0]
[null,116,{"$f":"'Rooming List'!C128","v":0},{"$f":"'Rooming List'!D128","v":0},{"$f":"IF(ISBLANK('Rooming List'!E128),\"\",'Rooming List'!E128)","v":""},{"$f":"'Rooming List'!F128","v":"00:00:00"},0,0,0,0,0,0,0,0,0,0,0,0,0,0,0,0,0,0,0,0,0,0,0,0,0,0,0,0,0,0,0,0]
[null,117,{"$f":"'Rooming List'!C129","v":0},{"$f":"'Rooming List'!D129","v":0},{"$f":"IF(ISBLANK('Rooming List'!E129),\"\",'Rooming List'!E129)","v":""},{"$f":"'Rooming List'!F129","v":"00:00:00"},0,0,0,0,0,0,0,0,0,0,0,0,0,0,0,0,0,0,0,0,0,0,0,0,0,0,0,0,0,0,0,0]
[null,118,{"$f":"'Rooming List'!C130","v":0},{"$f":"'Rooming List'!D130","v":0},{"$f":"IF(ISBLANK('Rooming List'!E130),\"\",'Rooming List'!E130)","v":""},{"$f":"'Rooming List'!F130","v":"00:00:00"},0,0,0,0,0,0,0,0,0,0,0,0,0,0,0,0,0,0,0,0,0,0,0,0,0,0,0,0,0,0,0,0]
[null,119,{"$f":"'Rooming List'!C131","v":0},{"$f":"'Rooming List'!D131","v":0},{"$f":"IF(ISBLANK('Rooming List'!E131),\"\",'Rooming List'!E131)","v":""},{"$f":"'Rooming List'!F131","v":"00:00:00"},0,0,0,0,0,0,0,0,0,0,0,0,0,0,0,0,0,0,0,0,0,0,0,0,0,0,0,0,0,0,0,0]
[null,120,{"$f":"'Rooming List'!C132","v":0},{"$f":"'Rooming List'!D132","v":0},{"$f":"IF(ISBLANK('Rooming List'!E132),\"\",'Rooming List'!E132)","v":""},{"$f":"'Rooming List'!F132","v":"00:00:00"},0,0,0,0,0,0,0,0,0,0,0,0,0,0,0,0,0,0,0,0,0,0,0,0,0,0,0,0,0,0,0,0]
[null,121,{"$f":"'Rooming List'!C133","v":0},{"$f":"'Rooming List'!D133","v":0},{"$f":"IF(ISBLANK('Rooming List'!E133),\"\",'Rooming List'!E133)","v":""},{"$f":"'Rooming List'!F133","v":"00:00:00"},0,0,0,0,0,0,0,0,0,0,0,0,0,0,0,0,0,0,0,0,0,0,0,0,0,0,0,0,0,0,0,0]
[null,122,{"$f":"'Rooming List'!C134","v":0},{"$f":"'Rooming List'!D134","v":0},{"$f":"IF(ISBLANK('Rooming List'!E134),\"\",'Rooming List'!E134)","v":""},{"$f":"'Rooming List'!F134","v":"00:00:00"},0,0,0,0,0,0,0,0,0,0,0,0,0,0,0,0,0,0,0,0,0,0,0,0,0,0,0,0,0,0,0,0]
[null,123,{"$f":"'Rooming List'!C135","v":0},{"$f":"'Rooming List'!D135","v":0},{"$f":"IF(ISBLANK('Rooming List'!E135),\"\",'Rooming List'!E135)","v":""},{"$f":"'Rooming List'!F135","v":"00:00:00"},0,0,0,0,0,0,0,0,0,0,0,0,0,0,0,0,0,0,0,0,0,0,0,0,0,0,0,0,0,0,0,0]
[null,124,{"$f":"'Rooming List'!C136","v":0},{"$f":"'Rooming List'!D136","v":0},{"$f":"IF(ISBLANK('Rooming List'!E136),\"\",'Rooming List'!E136)","v":""},{"$f":"'Rooming List'!F136","v":"00:00:00"},0,0,0,0,0,0,0,0,0,0,0,0,0,0,0,0,0,0,0,0,0,0,0,0,0,0,0,0,0,0,0,0]
[null,125,{"$f":"'Rooming List'!C137","v":0},{"$f":"'Rooming List'!D137","v":0},{"$f":"IF(ISBLANK('Rooming List'!E137),\"\",'Rooming List'!E137)","v":""},{"$f":"'Rooming List'!F137","v":"00:00:00"},0,0,0,0,0,0,0,0,0,0,0,0,0,0,0,0,0,0,0,0,0,0,0,0,0,0,0,0,0,0,0,0]
[null,126,{"$f":"'Rooming List'!C138","v":0},{"$f":"'Rooming List'!D138","v":0},{"$f":"IF(ISBLANK('Rooming List'!E138),\"\",'Rooming List'!E138)","v":""},{"$f":"'Rooming List'!F138","v":"00:00:00"},0,0,0,0,0,0,0,0,0,0,0,0,0,0,0,0,0,0,0,0,0,0,0,0,0,0,0,0,0,0,0,0]
[null,127,{"$f":"'Rooming List'!C139","v":0},{"$f":"'Rooming List'!D139","v":0},{"$f":"IF(ISBLANK('Rooming List'!E139),\"\",'Rooming List'!E139)","v":""},{"$f":"'Rooming List'!F139","v":"00:00:00"},0,0,0,0,0,0,0,0,0,0,0,0,0,0,0,0,0,0,0,0,0,0,0,0,0,0,0,0,0,0,0,0]
[null,128,{"$f":"'Rooming List'!C140","v":0},{"$f":"'Rooming List'!D140","v":0},{"$f":"IF(ISBLANK('Rooming List'!E140),\"\",'Rooming List'!E140)","v":""},{"$f":"'Rooming List'!F140","v":"00:00:00"},0,0,0,0,0,0,0,0,0,0,0,0,0,0,0,0,0,0,0,0,0,0,0,0,0,0,0,0,0,0,0,0]
[null,129,{"$f":"'Rooming List'!C141","v":0},{"$f":"'Rooming List'!D141","v":0},{"$f":"IF(ISBLANK('Rooming List'!E141),\"\",'Rooming List'!E141)","v":""},{"$f":"'Rooming List'!F141","v":"00:00:00"},0,0,0,0,0,0,0,0,0,0,0,0,0,0,0,0,0,0,0,0,0,0,0,0,0,0,0,0,0,0,0,0]
[null,130,{"$f":"'Rooming List'!C142","v":0},{"$f":"'Rooming List'!D142","v":0},{"$f":"IF(ISBLANK('Rooming List'!E142),\"\",'Rooming List'!E142)","v":""},{"$f":"'Rooming List'!F142","v":"00:00:00"},0,0,0,0,0,0,0,0,0,0,0,0,0,0,0,0,{"$f":"IF(AND(W$5>=$E136,W$5<$F136),1,0)","v":0},0,0,0,0,0,0,0,0,0,0,0,0,0,0,{"$f":"IF(AND(AL$5>=$E136,AL$5<$F136),1,0)","v":0}]
[null,131,{"$f":"'Rooming List'!C143","v":0},{"$f":"'Rooming List'!D143","v":0},{"$f":"IF(ISBLANK('Rooming List'!E143),\"\",'Rooming List'!E143)","v":""},{"$f":"'Rooming List'!F143","v":"00:00:00"},0,0,0,0,0,0,0,0,0,0,0,0,0,0,0,0,0,0,0,0,0,0,0,0,0,0,0,0,0,0,0,0]
[null,132,{"$f":"'Rooming List'!C144","v":0},{"$f":"'Rooming List'!D144","v":0},{"$f":"IF(ISBLANK('Rooming List'!E144),\"\",'Rooming List'!E144)","v":""},{"$f":"'Rooming List'!F144","v":"00:00:00"},0,0,0,0,0,0,0,0,0,0,0,0,0,0,0,0,0,0,0,0,0,0,0,0,0,0,0,0,0,0,0,0]
[null,133,{"$f":"'Rooming List'!C145","v":0},{"$f":"'Rooming List'!D145","v":0},{"$f":"IF(ISBLANK('Rooming List'!E145),\"\",'Rooming List'!E145)","v":""},{"$f":"'Rooming List'!F145","v":"00:00:00"},0,0,0,0,0,0,0,0,0,0,0,0,0,0,0,0,0,0,0,0,0,0,0,0,0,0,0,0,0,0,0,0]
[null,134,{"$f":"'Rooming List'!C146","v":0},{"$f":"'Rooming List'!D146","v":0},{"$f":"IF(ISBLANK('Rooming List'!E146),\"\",'Rooming List'!E146)","v":""},{"$f":"'Rooming List'!F146","v":"00:00:00"},0,0,0,0,0,0,0,0,0,0,0,0,0,0,0,0,0,0,0,0,0,0,0,0,0,0,0,0,0,0,0,0]
[null,135,{"$f":"'Rooming List'!C147","v":0},{"$f":"'Rooming List'!D147","v":0},{"$f":"IF(ISBLANK('Rooming List'!E147),\"\",'Rooming List'!E147)","v":""},{"$f":"'Rooming List'!F147","v":"00:00:00"},0,0,0,0,0,0,0,0,0,0,0,0,0,0,0,0,0,0,0,0,0,0,0,0,0,0,0,0,0,0,0,0]
[null,136,{"$f":"'Rooming List'!C148","v":0},{"$f":"'Rooming List'!D148","v":0},{"$f":"IF(ISBLANK('Rooming List'!E148),\"\",'Rooming List'!E148)","v":""},{"$f":"'Rooming List'!F148","v":"00:00:00"},0,0,0,0,0,0,0,0,0,0,0,0,0,0,0,0,0,0,0,0,0,0,0,0,0,0,0,0,0,0,0,0]
[null,137,{"$f":"'Rooming List'!C149","v":0},{"$f":"'Rooming List'!D149","v":0},{"$f":"IF(ISBLANK('Rooming List'!E149),\"\",'Rooming List'!E149)","v":""},{"$f":"'Rooming List'!F149","v":"00:00:00"},0,0,0,0,0,0,0,0,0,0,0,0,0,0,0,0,0,0,0,0,0,0,0,0,0,0,0,0,0,0,0,0]
[null,138,{"$f":"'Rooming List'!C150","v":0},{"$f":"'Rooming List'!D150","v":0},{"$f":"IF(ISBLANK('Rooming List'!E150),\"\",'Rooming List'!E150)","v":""},{"$f":"'Rooming List'!F150","v":"00:00:00"},0,0,0,0,0,0,0,0,0,0,0,0,0,0,0,0,0,0,0,0,0,0,0,0,0,0,0,0,0,0,0,0]
[null,139,{"$f":"'Rooming List'!C151","v":0},{"$f":"'Rooming List'!D151","v":0},{"$f":"IF(ISBLANK('Rooming List'!E151),\"\",'Rooming List'!E151)","v":""},{"$f":"'Rooming List'!F151","v":"00:00:00"},0,0,0,0,0,0,0,0,0,0,0,0,0,0,0,0,0,0,0,0,0,0,0,0,0,0,0,0,0,0,0,0]
[null,140,{"$f":"'Rooming List'!C152","v":0},{"$f":"'Rooming List'!D152","v":0},{"$f":"IF(ISBLANK('Rooming List'!E152),\"\",'Rooming List'!E152)","v":""},{"$f":"'Rooming List'!F152","v":"00:00:00"},0,0,0,0,0,0,0,0,0,0,0,0,0,0,0,0,0,0,0,0,0,0,0,0,0,0,0,0,0,0,0,0]
[null,141,{"$f":"'Rooming List'!C153","v":0},{"$f":"'Rooming List'!D153","v":0},{"$f":"IF(ISBLANK('Rooming List'!E153),\"\",'Rooming List'!E153)","v":""},{"$f":"'Rooming List'!F153","v":"00:00:00"},0,0,0,0,0,0,0,0,0,0,0,0,0,0,0,0,0,0,0,0,0,0,0,0,0,0,0,0,0,0,0,0]
[null,142,{"$f":"'Rooming List'!C154","v":0},{"$f":"'Rooming List'!D154","v":0},{"$f":"IF(ISBLANK('Rooming List'!E154),\"\",'Rooming List'!E154)","v":""},{"$f":"'Rooming List'!F154","v":"00:00:00"},0,0,0,0,0,0,0,0,0,0,0,0,0,0,0,0,0,0,0,0,0,0,0,0,0,0,0,0,0,0,0,0]
[null,143,{"$f":"'Rooming List'!C155","v":0},{"$f":"'Rooming List'!D155","v":0},{"$f":"IF(ISBLANK('Rooming List'!E155),\"\",'Rooming List'!E155)","v":""},{"$f":"'Rooming List'!F155","v":"00:00:00"},0,0,0,0,0,0,0,0,0,0,0,0,0,0,0,0,0,0,0,0,0,0,0,0,0,0,0,0,0,0,0,0]
[null,144,{"$f":"'Rooming List'!C156","v":0},{"$f":"'Rooming List'!D156","v":0},{"$f":"IF(ISBLANK('Rooming List'!E156),\"\",'Rooming List'!E156)","v":""},{"$f":"'Rooming List'!F156","v":"00:00:00"},0,0,0,0,0,0,0,0,0,0,0,0,0,0,0,0,0,0,0,0,0,0,0,0,0,0,0,0,0,0,0,0]
[null,145,{"$f":"'Rooming List'!C157","v":0},{"$f":"'Rooming List'!D157","v":0},{"$f":"IF(ISBLANK('Rooming List'!E157),\"\",'Rooming List'!E157)","v":""},{"$f":"'Rooming List'!F157","v":"00:00:00"},0,0,0,0,0,0,0,0,0,0,0,0,0,0,0,0,0,0,0,0,0,0,0,0,0,0,0,0,0,0,0,0]
[null,146,{"$f":"'Rooming List'!C158","v":0},{"$f":"'Rooming List'!D158","v":0},{"$f":"IF(ISBLANK('Rooming List'!E158),\"\",'Rooming List'!E158)","v":""},{"$f":"'Rooming List'!F158","v":"00:00:00"},0,0,0,0,0,0,0,0,0,0,0,0,0,0,0,{"$f":"IF(AND(V$5>=$E152,V$5<$F152),1,0)","v":0},0,0,0,0,0,0,0,0,0,0,0,0,0,0,0,0]
[null,147,{"$f":"'Rooming List'!C159","v":0},{"$f":"'Rooming List'!D159","v":0},{"$f":"IF(ISBLANK('Rooming List'!E159),\"\",'Rooming List'!E159)","v":""},{"$f":"'Rooming List'!F159","v":"00:00:00"},0,0,0,0,0,0,0,0,0,0,0,0,0,0,0,0,0,0,0,0,0,0,0,0,0,0,0,0,0,0,0,{"$f":"IF(AND(AL$5>=$E153,AL$5<$F153),1,0)","v":0}]
[null,148,{"$f":"'Rooming List'!C160","v":0},{"$f":"'Rooming List'!D160","v":0},{"$f":"IF(ISBLANK('Rooming List'!E160),\"\",'Rooming List'!E160)","v":""},{"$f":"'Rooming List'!F160","v":"00:00:00"},0,0,0,0,0,0,0,0,0,0,0,0,0,0,0,0,0,0,0,0,0,0,0,0,0,0,0,0,0,0,0,0]
[null,149,{"$f":"'Rooming List'!C161","v":0},{"$f":"'Rooming List'!D161","v":0},{"$f":"IF(ISBLANK('Rooming List'!E161),\"\",'Rooming List'!E161)","v":""},{"$f":"'Rooming List'!F161","v":"00:00:00"},0,0,0,0,0,0,0,0,0,0,0,0,0,0,0,0,0,0,0,0,0,0,0,0,0,0,0,0,0,0,0,0]
[null,150,{"$f":"'Rooming List'!C162","v":0},{"$f":"'Rooming List'!D162","v":0},{"$f":"IF(ISBLANK('Rooming List'!E162),\"\",'Rooming List'!E162)","v":""},{"$f":"'Rooming List'!F162","v":"00:00:00"},0,0,0,0,0,0,0,0,0,0,0,0,0,0,0,0,0,0,0,0,0,0,0,0,0,0,0,0,0,0,0,0]
[null,151,{"$f":"'Rooming List'!C163","v":0},{"$f":"'Rooming List'!D163","v":0},{"$f":"IF(ISBLANK('Rooming List'!E163),\"\",'Rooming List'!E163)","v":""},{"$f":"'Rooming List'!F163","v":"00:00:00"},0,0,0,0,0,0,0,0,0,0,0,0,0,0,0,0,0,0,0,0,0,0,0,0,0,0,0,0,0,0,0,0]
[null,152,{"$f":"'Rooming List'!C164","v":0},{"$f":"'Rooming List'!D164","v":0},{"$f":"IF(ISBLANK('Rooming List'!E164),\"\",'Rooming List'!E164)","v":""},{"$f":"'Rooming List'!F164","v":"00:00:00"},0,0,0,0,0,0,0,0,0,0,0,0,0,0,0,0,0,0,0,0,0,0,0,0,0,0,0,0,0,0,0,0]
[null,153,{"$f":"'Rooming List'!C165","v":0},{"$f":"'Rooming List'!D165","v":0},{"$f":"IF(ISBLANK('Rooming List'!E165),\"\",'Rooming List'!E165)","v":""},{"$f":"'Rooming List'!F165","v":"00:00:00"},0,0,0,0,0,0,0,0,0,0,0,0,0,0,0,0,0,0,0,0,0,0,0,0,0,0,0,0,0,0,0,0]
[null,154,{"$f":"'Rooming List'!C166","v":0},{"$f":"'Rooming List'!D166","v":0},{"$f":"IF(ISBLANK('Rooming List'!E166),\"\",'Rooming List'!E166)","v":""},{"$f":"'Rooming List'!F166","v":"00:00:00"},0,0,0,0,0,0,0,0,0,0,0,0,0,0,0,0,0,0,0,0,0,0,0,0,0,0,0,0,0,0,0,0]
[null,155,{"$f":"'Rooming List'!C167","v":0},{"$f":"'Rooming List'!D167","v":0},{"$f":"IF(ISBLANK('Rooming List'!E167),\"\",'Rooming List'!E167)","v":""},{"$f":"'Rooming List'!F167","v":"00:00:00"},0,0,0,0,0,0,0,0,0,0,0,0,0,0,0,0,0,0,0,0,0,0,0,0,0,0,0,0,0,0,0,0]
[null,156,{"$f":"'Rooming List'!C168","v":0},{"$f":"'Rooming List'!D168","v":0},{"$f":"IF(ISBLANK('Rooming List'!E168),\"\",'Rooming List'!E168)","v":""},{"$f":"'Rooming List'!F168","v":"00:00:00"},0,0,0,0,0,0,0,0,0,0,0,0,0,0,0,0,0,0,0,0,0,0,0,0,0,0,0,0,0,0,0,0]
[null,157,{"$f":"'Rooming List'!C169","v":0},{"$f":"'Rooming List'!D169","v":0},{"$f":"IF(ISBLANK('Rooming List'!E169),\"\",'Rooming List'!E169)","v":""},{"$f":"'Rooming List'!F169","v":"00:00:00"},0,0,0,0,0,0,0,0,0,0,0,0,0,0,0,0,0,0,0,0,0,0,0,0,0,0,0,0,0,0,0,0]
[null,158,{"$f":"'Rooming List'!C170","v":0},{"$f":"'Rooming List'!D170","v":0},{"$f":"IF(ISBLANK('Rooming List'!E170),\"\",'Rooming List'!E170)","v":""},{"$f":"'Rooming List'!F170","v":"00:00:00"},0,0,0,0,0,0,0,0,0,0,0,0,0,0,0,0,0,0,0,0,0,0,0,0,0,0,0,0,0,0,0,0]
[null,159,{"$f":"'Rooming List'!C171","v":0},{"$f":"'Rooming List'!D171","v":0},{"$f":"IF(ISBLANK('Rooming List'!E171),\"\",'Rooming List'!E171)","v":""},{"$f":"'Rooming List'!F171","v":"00:00:00"},0,0,0,0,0,0,0,0,0,0,0,0,0,0,0,0,0,0,0,0,0,0,0,0,0,0,0,0,0,0,0,0]
[null,160,{"$f":"'Rooming List'!C172","v":0},{"$f":"'Rooming List'!D172","v":0},{"$f":"IF(ISBLANK('Rooming List'!E172),\"\",'Rooming List'!E172)","v":""},{"$f":"'Rooming List'!F172","v":"00:00:00"},0,0,0,0,0,0,0,0,0,0,0,0,0,0,0,0,0,0,0,0,0,0,0,0,0,0,0,0,0,0,0,0]
[null,161,{"$f":"'Rooming List'!C173","v":0},{"$f":"'Rooming List'!D173","v":0},{"$f":"IF(ISBLANK('Rooming List'!E173),\"\",'Rooming List'!E173)","v":""},{"$f":"'Rooming List'!F173","v":"00:00:00"},0,0,0,0,0,0,0,0,0,0,0,0,0,0,0,0,0,0,0,0,0,0,0,0,0,0,0,0,0,0,0,0]
[null,162,{"$f":"'Rooming List'!C174","v":0},{"$f":"'Rooming List'!D174","v":0},{"$f":"IF(ISBLANK('Rooming List'!E174),\"\",'Rooming List'!E174)","v":""},{"$f":"'Rooming List'!F174","v":"00:00:00"},0,0,0,0,0,0,0,0,0,0,0,0,0,0,{"$f":"IF(AND(U$5>=$E168,U$5<$F168),1,0)","v":0},0,0,0,0,0,0,0,0,0,0,0,0,0,0,0,0,0]
[null,163,{"$f":"'Rooming List'!C175","v":0},{"$f":"'Rooming List'!D175","v":0},{"$f":"IF(ISBLANK('Rooming List'!E175),\"\",'Rooming List'!E175)","v":""},{"$f":"'Rooming List'!F175","v":"00:00:00"},0,0,0,0,0,0,0,0,0,0,0,0,0,0,0,0,0,0,0,0,0,0,0,0,0,0,0,0,0,0,0,0]
[null,164,{"$f":"'Rooming List'!C176","v":0},{"$f":"'Rooming List'!D176","v":0},{"$f":"IF(ISBLANK('Rooming List'!E176),\"\",'Rooming List'!E176)","v":""},{"$f":"'Rooming List'!F176","v":"00:00:00"},0,0,0,0,0,0,0,0,0,0,0,0,0,0,0,0,0,0,0,0,0,0,0,0,0,0,0,0,0,0,0,{"$f":"IF(AND(AL$5>=$E170,AL$5<$F170),1,0)","v":0}]
[null,165,{"$f":"'Rooming List'!C177","v":0},{"$f":"'Rooming List'!D177","v":0},{"$f":"IF(ISBLANK('Rooming List'!E177),\"\",'Rooming List'!E177)","v":""},{"$f":"'Rooming List'!F177","v":"00:00:00"},{"$f":"SUM(H171:AL171)","v":0},0,0,0,0,0,0,0,0,0,0,0,0,0,0,0,0,0,0,0,0,0,0,0,0,0,0,0,0,0,0,0]
[null,166,{"$f":"'Rooming List'!C178","v":0},{"$f":"'Rooming List'!D178","v":0},{"$f":"IF(ISBLANK('Rooming List'!E178),\"\",'Rooming List'!E178)","v":""},{"$f":"'Rooming List'!F178","v":"00:00:00"},0,0,0,0,0,0,0,0,0,0,0,0,0,0,0,0,0,0,0,0,0,0,0,0,0,0,0,0,0,0,0,0]
[null,167,{"$f":"'Rooming List'!C179","v":0},{"$f":"'Rooming List'!D179","v":0},{"$f":"IF(ISBLANK('Rooming List'!E179),\"\",'Rooming List'!E179)","v":""},{"$f":"'Rooming List'!F179","v":"00:00:00"},0,0,0,0,0,0,0,0,0,0,0,0,0,0,0,0,0,0,0,0,0,0,0,0,0,0,0,0,0,0,0,0]
[null,168,{"$f":"'Rooming List'!C180","v":0},{"$f":"'Rooming List'!D180","v":0},{"$f":"IF(ISBLANK('Rooming List'!E180),\"\",'Rooming List'!E180)","v":""},{"$f":"'Rooming List'!F180","v":"00:00:00"},0,0,0,0,0,0,0,0,0,0,0,0,0,0,0,0,0,0,0,0,0,0,0,0,0,0,0,0,0,0,0,0]
[null,169,{"$f":"'Rooming List'!C181","v":0},{"$f":"'Rooming List'!D181","v":0},{"$f":"IF(ISBLANK('Rooming List'!E181),\"\",'Rooming List'!E181)","v":""},{"$f":"'Rooming List'!F181","v":"00:00:00"},0,0,0,0,0,0,0,0,0,0,0,0,0,0,0,0,0,0,0,0,0,0,0,0,0,0,0,0,0,0,0,0]
[null,170,{"$f":"'Rooming List'!C182","v":0},{"$f":"'Rooming List'!D182","v":0},{"$f":"IF(ISBLANK('Rooming List'!E182),\"\",'Rooming List'!E182)","v":""},{"$f":"'Rooming List'!F182","v":"00:00:00"},0,0,0,0,0,0,0,0,0,0,0,0,0,0,0,0,0,0,0,0,0,0,0,0,0,0,0,0,0,0,0,0]
[null,171,{"$f":"'Rooming List'!C183","v":0},{"$f":"'Rooming List'!D183","v":0},{"$f":"IF(ISBLANK('Rooming List'!E183),\"\",'Rooming List'!E183)","v":""},{"$f":"'Rooming List'!F183","v":"00:00:00"},0,0,0,0,0,0,0,0,0,0,0,0,0,0,0,0,0,0,0,0,0,0,0,0,0,0,0,0,0,0,0,0]
[null,172,{"$f":"'Rooming List'!C184","v":0},{"$f":"'Rooming List'!D184","v":0},{"$f":"IF(ISBLANK('Rooming List'!E184),\"\",'Rooming List'!E184)","v":""},{"$f":"'Rooming List'!F184","v":"00:00:00"},0,0,0,0,0,0,0,0,0,0,0,0,0,0,0,0,0,0,0,0,0,0,0,0,0,0,0,0,0,0,0,0]
[null,173,{"$f":"'Rooming List'!C185","v":0},{"$f":"'Rooming List'!D185","v":0},{"$f":"IF(ISBLANK('Rooming List'!E185),\"\",'Rooming List'!E185)","v":""},{"$f":"'Rooming List'!F185","v":"00:00:00"},0,0,0,0,0,0,0,0,0,0,0,0,0,0,0,0,0,0,0,0,0,0,0,0,0,0,0,0,0,0,0,0]
[null,174,{"$f":"'Rooming List'!C186","v":0},{"$f":"'Rooming List'!D186","v":0},{"$f":"IF(ISBLANK('Rooming List'!E186),\"\",'Rooming List'!E186)","v":""},{"$f":"'Rooming List'!F186","v":"00:00:00"},0,0,0,0,0,0,0,0,0,0,0,0,0,0,0,0,0,0,0,0,0,0,0,0,0,0,0,0,0,0,0,0]
[null,175,{"$f":"'Rooming List'!C187","v":0},{"$f":"'Rooming List'!D187","v":0},{"$f":"IF(ISBLANK('Rooming List'!E187),\"\",'Rooming List'!E187)","v":""},{"$f":"'Rooming List'!F187","v":"00:00:00"},0,0,0,0,0,0,0,0,0,0,0,0,0,0,0,0,0,0,0,0,0,0,0,0,0,0,0,0,0,0,0,0]
[null,176,{"$f":"'Rooming List'!C188","v":0},{"$f":"'Rooming List'!D188","v":0},{"$f":"IF(ISBLANK('Rooming List'!E188),\"\",'Rooming List'!E188)","v":""},{"$f":"'Rooming List'!F188","v":"00:00:00"},0,0,0,0,0,0,0,0,0,0,0,0,0,0,0,0,0,0,0,0,0,0,0,0,0,0,0,0,0,0,0,0]
[null,177,{"$f":"'Rooming List'!C189","v":0},{"$f":"'Rooming List'!D189","v":0},{"$f":"IF(ISBLANK('Rooming List'!E189),\"\",'Rooming List'!E189)","v":""},{"$f":"'Rooming List'!F189","v":"00:00:00"},0,0,0,0,0,0,0,0,0,0,0,0,0,0,0,0,0,0,0,0,0,0,0,0,0,0,0,0,0,0,0,0]
[null,178,{"$f":"'Rooming List'!C190","v":0},{"$f":"'Rooming List'!D190","v":0},{"$f":"IF(ISBLANK('Rooming List'!E190),\"\",'Rooming List'!E190)","v":""},{"$f":"'Rooming List'!F190","v":"00:00:00"},0,0,0,0,0,0,0,0,0,0,0,0,0,{"$f":"IF(AND(T$5>=$E184,T$5<$F184),1,0)","v":0},0,0,0,0,0,0,0,0,0,0,0,0,0,0,0,0,0,0]
[null,179,{"$f":"'Rooming List'!C191","v":0},{"$f":"'Rooming List'!D191","v":0},{"$f":"IF(ISBLANK('Rooming List'!E191),\"\",'Rooming List'!E191)","v":""},{"$f":"'Rooming List'!F191","v":"00:00:00"},0,0,0,0,0,0,0,0,0,0,0,0,0,0,0,0,0,0,0,0,0,0,0,0,0,0,0,0,0,0,0,0]
[null,180,{"$f":"'Rooming List'!C192","v":0},{"$f":"'Rooming List'!D192","v":0},{"$f":"IF(ISBLANK('Rooming List'!E192),\"\",'Rooming List'!E192)","v":""},{"$f":"'Rooming List'!F192","v":"00:00:00"},0,0,0,0,0,0,0,0,0,0,0,0,0,0,0,0,0,0,0,0,0,0,0,0,0,0,0,0,0,0,0,0]
[null,181,{"$f":"'Rooming List'!C193","v":0},{"$f":"'Rooming List'!D193","v":0},{"$f":"IF(ISBLANK('Rooming List'!E193),\"\",'Rooming List'!E193)","v":""},{"$f":"'Rooming List'!F193","v":"00:00:00"},0,0,0,0,0,0,0,0,0,0,0,0,0,0,0,0,0,0,0,0,0,0,0,0,0,0,0,0,0,0,0,{"$f":"IF(AND(AL$5>=$E187,AL$5<$F187),1,0)","v":0}]
[null,182,{"$f":"'Rooming List'!C194","v":0},{"$f":"'Rooming List'!D194","v":0},{"$f":"IF(ISBLANK('Rooming List'!E194),\"\",'Rooming List'!E194)","v":""},{"$f":"'Rooming List'!F194","v":"00:00:00"},0,0,0,0,0,0,0,0,0,0,0,0,0,0,0,0,0,0,0,0,0,0,0,0,0,0,0,0,0,0,0,0]
[null,183,{"$f":"'Rooming List'!C195","v":0},{"$f":"'Rooming List'!D195","v":0},{"$f":"IF(ISBLANK('Rooming List'!E195),\"\",'Rooming List'!E195)","v":""},{"$f":"'Rooming List'!F195","v":"00:00:00"},0,0,0,0,0,0,0,0,0,0,0,0,0,0,0,0,0,0,0,0,0,0,0,0,0,0,0,0,0,0,0,0]
[null,184,{"$f":"'Rooming List'!C196","v":0},{"$f":"'Rooming List'!D196","v":0},{"$f":"IF(ISBLANK('Rooming List'!E196),\"\",'Rooming List'!E196)","v":""},{"$f":"'Rooming List'!F196","v":"00:00:00"},0,0,0,0,0,0,0,0,0,0,0,0,0,0,0,0,0,0,0,0,0,0,0,0,0,0,0,0,0,0,0,0]
[null,185,{"$f":"'Rooming List'!C197","v":0},{"$f":"'Rooming List'!D197","v":0},{"$f":"IF(ISBLANK('Rooming List'!E197),\"\",'Rooming List'!E197)","v":""},{"$f":"'Rooming List'!F197","v":"00:00:00"},0,0,0,0,0,0,0,0,0,0,0,0,0,0,0,0,0,0,0,0,0,0,0,0,0,0,0,0,0,0,0,0]
[null,186,{"$f":"'Rooming List'!C198","v":0},{"$f":"'Rooming List'!D198","v":0},{"$f":"IF(ISBLANK('Rooming List'!E198),\"\",'Rooming List'!E198)","v":""},{"$f":"'Rooming List'!F198","v":"00:00:00"},0,0,0,0,0,0,0,0,0,0,0,0,0,0,0,0,0,0,0,0,0,0,0,0,0,0,0,0,0,0,0,0]
[null,187,{"$f":"'Rooming List'!C199","v":0},{"$f":"'Rooming List'!D199","v":0},{"$f":"IF(ISBLANK('Rooming List'!E199),\"\",'Rooming List'!E199)","v":""},{"$f":"'Rooming List'!F199","v":"00:00:00"},0,0,0,0,0,0,0,0,0,0,0,0,0,0,0,0,0,0,0,0,0,0,0,0,0,0,0,0,0,0,0,0]
[null,188,{"$f":"'Rooming List'!C200","v":0},{"$f":"'Rooming List'!D200","v":0},{"$f":"IF(ISBLANK('Rooming List'!E200),\"\",'Rooming List'!E200)","v":""},{"$f":"'Rooming List'!F200","v":"00:00:00"},0,0,0,0,0,0,0,0,0,0,0,0,0,0,0,0,0,0,0,0,0,0,0,0,0,0,0,0,0,0,0,0]
[null,189,{"$f":"'Rooming List'!C201","v":0},{"$f":"'Rooming List'!D201","v":0},{"$f":"IF(ISBLANK('Rooming List'!E201),\"\",'Rooming List'!E201)","v":""},{"$f":"'Rooming List'!F201","v":"00:00:00"},0,0,0,0,0,0,0,0,0,0,0,0,0,0,0,0,0,0,0,0,0,0,0,0,0,0,0,0,0,0,0,0]
[null,190,{"$f":"'Rooming List'!C202","v":0},{"$f":"'Rooming List'!D202","v":0},{"$f":"IF(ISBLANK('Rooming List'!E202),\"\",'Rooming List'!E202)","v":""},{"$f":"'Rooming List'!F202","v":"00:00:00"},0,0,0,0,0,0,0,0,0,0,0,0,0,0,0,0,0,0,0,0,0,0,0,0,0,0,0,0,0,0,0,0]
[null,191,{"$f":"'Rooming List'!C203","v":0},{"$f":"'Rooming List'!D203","v":0},{"$f":"IF(ISBLANK('Rooming List'!E203),\"\",'Rooming List'!E203)","v":""},{"$f":"'Rooming List'!F203","v":"00:00:00"},0,0,0,0,0,0,0,0,0,0,0,0,0,0,0,0,0,0,0,0,0,0,0,0,0,0,0,0,0,0,0,0]
[null,192,{"$f":"'Rooming List'!C204","v":0},{"$f":"'Rooming List'!D204","v":0},{"$f":"IF(ISBLANK('Rooming List'!E204),\"\",'Rooming List'!E204)","v":""},{"$f":"'Rooming List'!F204","v":"00:00:00"},0,0,0,0,0,0,0,0,0,0,0,0,0,0,0,0,0,0,0,0,0,0,0,0,0,0,0,0,0,0,0,0]
[null,193,{"$f":"'Rooming List'!C205","v":0},{"$f":"'Rooming List'!D205","v":0},{"$f":"IF(ISBLANK('Rooming List'!E205),\"\",'Rooming List'!E205)","v":""},{"$f":"'Rooming List'!F205","v":"00:00:00"},0,0,0,0,0,0,0,0,0,0,0,0,0,0,0,0,0,0,0,0,0,0,0,0,0,0,0,0,0,0,0,0]
[null,194,{"$f":"'Rooming List'!C206","v":0},{"$f":"'Rooming List'!D206","v":0},{"$f":"IF(ISBLANK('Rooming List'!E206),\"\",'Rooming List'!E206)","v":""},{"$f":"'Rooming List'!F206","v":"00:00:00"},0,0,0,0,0,0,0,0,0,0,0,0,{"$f":"IF(AND(S$5>=$E200,S$5<$F200),1,0)","v":0},0,0,0,0,0,0,0,0,0,0,0,0,0,0,0,0,0,0,0]
[null,195,{"$f":"'Rooming List'!C207","v":0},{"$f":"'Rooming List'!D207","v":0},{"$f":"IF(ISBLANK('Rooming List'!E207),\"\",'Rooming List'!E207)","v":""},{"$f":"'Rooming List'!F207","v":"00:00:00"},0,0,0,0,0,0,0,0,0,0,0,0,0,0,0,0,0,0,0,0,0,0,0,0,0,0,0,0,0,0,0,0]
[null,196,{"$f":"'Rooming List'!C208","v":0},{"$f":"'Rooming List'!D208","v":0},{"$f":"IF(ISBLANK('Rooming List'!E208),\"\",'Rooming List'!E208)","v":""},{"$f":"'Rooming List'!F208","v":"00:00:00"},0,0,0,0,0,0,0,0,0,0,0,0,0,0,0,0,0,0,0,0,0,0,0,0,0,0,0,0,0,0,0,0]
[null,197,{"$f":"'Rooming List'!C209","v":0},{"$f":"'Rooming List'!D209","v":0},{"$f":"IF(ISBLANK('Rooming List'!E209),\"\",'Rooming List'!E209)","v":""},{"$f":"'Rooming List'!F209","v":"00:00:00"},0,0,0,0,0,0,0,0,0,0,0,0,0,0,0,0,0,0,0,0,0,0,0,0,0,0,0,0,0,0,0,0]
[null,198,{"$f":"'Rooming List'!C210","v":0},{"$f":"'Rooming List'!D210","v":0},{"$f":"IF(ISBLANK('Rooming List'!E210),\"\",'Rooming List'!E210)","v":""},{"$f":"'Rooming List'!F210","v":"00:00:00"},0,0,0,0,0,0,0,0,0,0,0,0,0,0,0,0,0,0,0,0,0,0,0,0,0,0,0,0,0,0,0,{"$f":"IF(AND(AL$5>=$E204,AL$5<$F204),1,0)","v":0}]
[null,199,{"$f":"'Rooming List'!C211","v":0},{"$f":"'Rooming List'!D211","v":0},{"$f":"IF(ISBLANK('Rooming List'!E211),\"\",'Rooming List'!E211)","v":""},{"$f":"'Rooming List'!F211","v":"00:00:00"},0,0,0,0,0,0,0,0,0,0,0,0,0,0,0,0,0,0,0,0,0,0,0,0,0,0,0,0,0,0,0,0]
[null,200,{"$f":"'Rooming List'!C212","v":0},{"$f":"'Rooming List'!D212","v":0},{"$f":"IF(ISBLANK('Rooming List'!E212),\"\",'Rooming List'!E212)","v":""},{"$f":"'Rooming List'!F212","v":"00:00:00"},0,0,0,0,0,0,0,0,0,0,0,0,0,0,0,0,0,0,0,0,0,0,0,0,0,0,0,0,0,0,0,0]
[null,201,{"$f":"'Rooming List'!C213","v":0},{"$f":"'Rooming List'!D213","v":0},{"$f":"IF(ISBLANK('Rooming List'!E213),\"\",'Rooming List'!E213)","v":""},{"$f":"'Rooming List'!F213","v":"00:00:00"},0,0,0,0,0,0,0,0,0,0,0,0,0,0,0,0,0,0,0,0,0,0,0,0,0,0,0,0,0,0,0,0]
[null,202,{"$f":"'Rooming List'!C214","v":0},{"$f":"'Rooming List'!D214","v":0},{"$f":"IF(ISBLANK('Rooming List'!E214),\"\",'Rooming List'!E214)","v":""},{"$f":"'Rooming List'!F214","v":"00:00:00"},0,0,0,0,0,0,0,0,0,0,0,0,0,0,0,0,0,0,0,0,0,0,0,0,0,0,0,0,0,0,0,0]
[null,203,{"$f":"'Rooming List'!C215","v":0},{"$f":"'Rooming List'!D215","v":0},{"$f":"IF(ISBLANK('Rooming List'!E215),\"\",'Rooming List'!E215)","v":""},{"$f":"'Rooming List'!F215","v":"00:00:00"},0,0,0,0,0,0,0,0,0,0,0,0,0,0,0,0,0,0,0,0,0,0,0,0,0,0,0,0,0,0,0,0]
[null,204,{"$f":"'Rooming List'!C216","v":0},{"$f":"'Rooming List'!D216","v":0},{"$f":"IF(ISBLANK('Rooming List'!E216),\"\",'Rooming List'!E216)","v":""},{"$f":"'Rooming List'!F216","v":"00:00:00"},0,0,0,0,0,0,0,0,0,0,0,0,0,0,0,0,0,0,0,0,0,0,0,0,0,0,0,0,0,0,0,0]
[null,205,{"$f":"'Rooming List'!C217","v":0},{"$f":"'Rooming List'!D217","v":0},{"$f":"IF(ISBLANK('Rooming List'!E217),\"\",'Rooming List'!E217)","v":""},{"$f":"'Rooming List'!F217","v":"00:00:00"},0,0,0,0,0,0,0,0,0,0,0,0,0,0,0,0,0,0,0,0,0,0,0,0,0,0,0,0,0,0,0,0]
[null,206,{"$f":"'Rooming List'!C218","v":0},{"$f":"'Rooming List'!D218","v":0},{"$f":"IF(ISBLANK('Rooming List'!E218),\"\",'Rooming List'!E218)","v":""},{"$f":"'Rooming List'!F218","v":"00:00:00"},0,0,0,0,0,0,0,0,0,0,0,0,0,0,0,0,0,0,0,0,0,0,0,0,0,0,0,0,0,0,0,0]
[null,207,{"$f":"'Rooming List'!C219","v":0},{"$f":"'Rooming List'!D219","v":0},{"$f":"IF(ISBLANK('Rooming List'!E219),\"\",'Rooming List'!E219)","v":""},{"$f":"'Rooming List'!F219","v":"00:00:00"},0,0,0,0,0,0,0,0,0,0,0,0,0,0,0,0,0,0,0,0,0,0,0,0,0,0,0,0,0,0,0,0]
[null,208,{"$f":"'Rooming List'!C220","v":0},{"$f":"'Rooming List'!D220","v":0},{"$f":"IF(ISBLANK('Rooming List'!E220),\"\",'Rooming List'!E220)","v":""},{"$f":"'Rooming List'!F220","v":"00:00:00"},0,0,0,0,0,0,0,0,0,0,0,0,0,0,0,0,0,0,0,0,0,0,0,0,0,0,0,0,0,0,0,0]
[null,209,{"$f":"'Rooming List'!C221","v":0},{"$f":"'Rooming List'!D221","v":0},{"$f":"IF(ISBLANK('Rooming List'!E221),\"\",'Rooming List'!E221)","v":""},{"$f":"'Rooming List'!F221","v":"00:00:00"},0,0,0,0,0,0,0,0,0,0,0,0,0,0,0,0,0,0,0,0,0,0,0,0,0,0,0,0,0,0,0,0]
[null,210,{"$f":"'Rooming List'!C222","v":0},{"$f":"'Rooming List'!D222","v":0},{"$f":"IF(ISBLANK('Rooming List'!E222),\"\",'Rooming List'!E222)","v":""},{"$f":"'Rooming List'!F222","v":"00:00:00"},0,0,0,0,0,0,0,0,0,0,0,{"$f":"IF(AND(R$5>=$E216,R$5<$F216),1,0)","v":0},0,0,0,0,0,0,0,0,0,0,0,0,0,0,0,0,0,0,0,0]
[null,211,{"$f":"'Rooming List'!C223","v":0},{"$f":"'Rooming List'!D223","v":0},{"$f":"IF(ISBLANK('Rooming List'!E223),\"\",'Rooming List'!E223)","v":""},{"$f":"'Rooming List'!F223","v":"00:00:00"},0,0,0,0,0,0,0,0,0,0,0,0,0,0,0,0,0,0,0,0,0,0,0,0,0,0,0,0,0,0,0,0]
[null,212,{"$f":"'Rooming List'!C224","v":0},{"$f":"'Rooming List'!D224","v":0},{"$f":"IF(ISBLANK('Rooming List'!E224),\"\",'Rooming List'!E224)","v":""},{"$f":"'Rooming List'!F224","v":"00:00:00"},0,0,0,0,0,0,0,0,0,0,0,0,0,0,0,0,0,0,0,0,0,0,0,0,0,0,0,0,0,0,0,0]
[null,213,{"$f":"'Rooming List'!C225","v":0},{"$f":"'Rooming List'!D225","v":0},{"$f":"IF(ISBLANK('Rooming List'!E225),\"\",'Rooming List'!E225)","v":""},{"$f":"'Rooming List'!F225","v":"00:00:00"},0,0,0,0,0,0,0,0,0,0,0,0,0,0,0,0,0,0,0,0,0,0,0,0,0,0,0,0,0,0,0,0]
[null,214,{"$f":"'Rooming List'!C226","v":0},{"$f":"'Rooming List'!D226","v":0},{"$f":"IF(ISBLANK('Rooming List'!E226),\"\",'Rooming List'!E226)","v":""},{"$f":"'Rooming List'!F226","v":"00:00:00"},0,0,0,0,0,0,0,0,0,0,0,0,0,0,0,0,0,0,0,0,0,0,0,0,0,0,0,0,0,0,0,0]
[null,215,{"$f":"'Rooming List'!C227","v":0},{"$f":"'Rooming List'!D227","v":0},{"$f":"IF(ISBLANK('Rooming List'!E227),\"\",'Rooming List'!E227)","v":""},{"$f":"'Rooming List'!F227","v":"00:00:00"},0,0,0,0,0,0,0,0,0,0,0,0,0,0,0,0,0,0,0,0,0,0,0,0,0,0,0,0,0,0,0,{"$f":"IF(AND(AL$5>=$E221,AL$5<$F221),1,0)","v":0}]
[null,216,{"$f":"'Rooming List'!C228","v":0},{"$f":"'Rooming List'!D228","v":0},{"$f":"IF(ISBLANK('Rooming List'!E228),\"\",'Rooming List'!E228)","v":""},{"$f":"'Rooming List'!F228","v":"00:00:00"},0,0,0,0,0,0,0,0,0,0,0,0,0,0,0,0,0,0,0,0,0,0,0,0,0,0,0,0,0,0,0,0]
[null,217,{"$f":"'Rooming List'!C229","v":0},{"$f":"'Rooming List'!D229","v":0},{"$f":"IF(ISBLANK('Rooming List'!E229),\"\",'Rooming List'!E229)","v":""},{"$f":"'Rooming List'!F229","v":"00:00:00"},0,0,0,0,0,0,0,0,0,0,0,0,0,0,0,0,0,0,0,0,0,0,0,0,0,0,0,0,0,0,0,0]
[null,218,{"$f":"'Rooming List'!C230","v":0},{"$f":"'Rooming List'!D230","v":0},{"$f":"IF(ISBLANK('Rooming List'!E230),\"\",'Rooming List'!E230)","v":""},{"$f":"'Rooming List'!F230","v":"00:00:00"},0,0,0,0,0,0,0,0,0,0,0,0,0,0,0,0,0,0,0,0,0,0,0,0,0,0,0,0,0,0,0,0]
[null,219,{"$f":"'Rooming List'!C231","v":0},{"$f":"'Rooming List'!D231","v":0},{"$f":"IF(ISBLANK('Rooming List'!E231),\"\",'Rooming List'!E231)","v":""},{"$f":"'Rooming List'!F231","v":"00:00:00"},0,0,0,0,0,0,0,0,0,0,0,0,0,0,0,0,0,0,0,0,0,0,0,0,0,0,0,0,0,0,0,0]
[null,220,{"$f":"'Rooming List'!C232","v":0},{"$f":"'Rooming List'!D232","v":0},{"$f":"IF(ISBLANK('Rooming List'!E232),\"\",'Rooming List'!E232)","v":""},{"$f":"'Rooming List'!F232","v":"00:00:00"},0,0,0,0,0,0,0,0,0,0,0,0,0,0,0,0,0,0,0,0,0,0,0,0,0,0,0,0,0,0,0,0]
[null,221,{"$f":"'Rooming List'!C233","v":0},{"$f":"'Rooming List'!D233","v":0},{"$f":"IF(ISBLANK('Rooming List'!E233),\"\",'Rooming List'!E233)","v":""},{"$f":"'Rooming List'!F233","v":"00:00:00"},0,0,0,0,0,0,0,0,0,0,0,0,0,0,0,0,0,0,0,0,0,0,0,0,0,0,0,0,0,0,0,0]
[null,222,{"$f":"'Rooming List'!C234","v":0},{"$f":"'Rooming List'!D234","v":0},{"$f":"IF(ISBLANK('Rooming List'!E234),\"\",'Rooming List'!E234)","v":""},{"$f":"'Rooming List'!F234","v":"00:00:00"},0,0,0,0,0,0,0,0,0,0,0,0,0,0,0,0,0,0,0,0,0,0,0,0,0,0,0,0,0,0,0,0]
[null,223,{"$f":"'Rooming List'!C235","v":0},{"$f":"'Rooming List'!D235","v":0},{"$f":"IF(ISBLANK('Rooming List'!E235),\"\",'Rooming List'!E235)","v":""},{"$f":"'Rooming List'!F235","v":"00:00:00"},0,0,0,0,0,0,0,0,0,0,0,0,0,0,0,0,0,0,0,0,0,0,0,0,0,0,0,0,0,0,0,0]
[null,224,{"$f":"'Rooming List'!C236","v":0},{"$f":"'Rooming List'!D236","v":0},{"$f":"IF(ISBLANK('Rooming List'!E236),\"\",'Rooming List'!E236)","v":""},{"$f":"'Rooming List'!F236","v":"00:00:00"},0,0,0,0,0,0,0,0,0,0,0,0,0,0,0,0,0,0,0,0,0,0,0,0,0,0,0,0,0,0,0,0]
[null,225,{"$f":"'Rooming List'!C237","v":0},{"$f":"'Rooming List'!D237","v":0},{"$f":"IF(ISBLANK('Rooming List'!E237),\"\",'Rooming List'!E237)","v":""},{"$f":"'Rooming List'!F237","v":"00:00:00"},0,0,0,0,0,0,0,0,0,0,0,0,0,0,0,0,0,0,0,0,0,0,0,0,0,0,0,0,0,0,0,0]
[null,226,{"$f":"'Rooming List'!C238","v":0},{"$f":"'Rooming List'!D238","v":0},{"$f":"IF(ISBLANK('Rooming List'!E238),\"\",'Rooming List'!E238)","v":""},{"$f":"'Rooming List'!F238","v":"00:00:00"},0,0,0,0,0,0,0,0,0,0,{"$f":"IF(AND(Q$5>=$E232,Q$5<$F232),1,0)","v":0},0,0,0,0,0,0,0,0,0,0,0,0,0,0,0,0,0,0,0,0,0]
[null,227,{"$f":"'Rooming List'!C239","v":0},{"$f":"'Rooming List'!D239","v":0},{"$f":"IF(ISBLANK('Rooming List'!E239),\"\",'Rooming List'!E239)","v":""},{"$f":"'Rooming List'!F239","v":"00:00:00"},0,0,0,0,0,0,0,0,0,0,0,0,0,0,0,0,0,0,0,0,0,0,0,0,0,0,0,0,0,0,0,0]
[null,228,{"$f":"'Rooming List'!C240","v":0},{"$f":"'Rooming List'!D240","v":0},{"$f":"IF(ISBLANK('Rooming List'!E240),\"\",'Rooming List'!E240)","v":""},{"$f":"'Rooming List'!F240","v":"00:00:00"},0,0,0,0,0,0,0,0,0,0,0,0,0,0,0,0,0,0,0,0,0,0,0,0,0,0,0,0,0,0,0,0]
[null,229,{"$f":"'Rooming List'!C241","v":0},{"$f":"'Rooming List'!D241","v":0},{"$f":"IF(ISBLANK('Rooming List'!E241),\"\",'Rooming List'!E241)","v":""},{"$f":"'Rooming List'!F241","v":"00:00:00"},{"$f":"SUM(H235:AL235)","v":0},0,0,0,0,0,0,0,0,0,0,0,0,0,0,0,0,0,0,0,0,0,0,0,0,0,0,0,0,0,0,0]
[null,230,{"$f":"'Rooming List'!C242","v":0},{"$f":"'Rooming List'!D242","v":0},{"$f":"IF(ISBLANK('Rooming List'!E242),\"\",'Rooming List'!E242)","v":""},{"$f":"'Rooming List'!F242","v":"00:00:00"},0,0,0,0,0,0,0,0,0,0,0,0,0,0,0,0,0,0,0,0,0,0,0,0,0,0,0,0,0,0,0,0]
[null,231,{"$f":"'Rooming List'!C243","v":0},{"$f":"'Rooming List'!D243","v":0},{"$f":"IF(ISBLANK('Rooming List'!E243),\"\",'Rooming List'!E243)","v":""},{"$f":"'Rooming List'!F243","v":"00:00:00"},0,0,0,0,0,0,0,0,0,0,0,0,0,0,0,0,0,0,0,0,0,0,0,0,0,0,0,0,0,0,0,0]
[null,232,{"$f":"'Rooming List'!C244","v":0},{"$f":"'Rooming List'!D244","v":0},{"$f":"IF(ISBLANK('Rooming List'!E244),\"\",'Rooming List'!E244)","v":""},{"$f":"'Rooming List'!F244","v":"00:00:00"},0,0,0,0,0,0,0,0,0,0,0,0,0,0,0,0,0,0,0,0,0,0,0,0,0,0,0,0,0,0,0,{"$f":"IF(AND(AL$5>=$E238,AL$5<$F238),1,0)","v":0}]
[null,233,{"$f":"'Rooming List'!C245","v":0},{"$f":"'Rooming List'!D245","v":0},{"$f":"IF(ISBLANK('Rooming List'!E245),\"\",'Rooming List'!E245)","v":""},{"$f":"'Rooming List'!F245","v":"00:00:00"},0,0,0,0,0,0,0,0,0,0,0,0,0,0,0,0,0,0,0,0,0,0,0,0,0,0,0,0,0,0,0,0]
[null,234,{"$f":"'Rooming List'!C246","v":0},{"$f":"'Rooming List'!D246","v":0},{"$f":"IF(ISBLANK('Rooming List'!E246),\"\",'Rooming List'!E246)","v":""},{"$f":"'Rooming List'!F246","v":"00:00:00"},0,0,0,0,0,0,0,0,0,0,0,0,0,0,0,0,0,0,0,0,0,0,0,0,0,0,0,0,0,0,0,0]
[null,235,{"$f":"'Rooming List'!C247","v":0},{"$f":"'Rooming List'!D247","v":0},{"$f":"IF(ISBLANK('Rooming List'!E247),\"\",'Rooming List'!E247)","v":""},{"$f":"'Rooming List'!F247","v":"00:00:00"},0,0,0,0,0,0,0,0,0,0,0,0,0,0,0,0,0,0,0,0,0,0,0,0,0,0,0,0,0,0,0,0]
[null,236,{"$f":"'Rooming List'!C248","v":0},{"$f":"'Rooming List'!D248","v":0},{"$f":"IF(ISBLANK('Rooming List'!E248),\"\",'Rooming List'!E248)","v":""},{"$f":"'Rooming List'!F248","v":"00:00:00"},0,0,0,0,0,0,0,0,0,0,0,0,0,0,0,0,0,0,0,0,0,0,0,0,0,0,0,0,0,0,0,0]
[null,237,{"$f":"'Rooming List'!C249","v":0},{"$f":"'Rooming List'!D249","v":0},{"$f":"IF(ISBLANK('Rooming List'!E249),\"\",'Rooming List'!E249)","v":""},{"$f":"'Rooming List'!F249","v":"00:00:00"},0,0,0,0,0,0,0,0,0,0,0,0,0,0,0,0,0,0,0,0,0,0,0,0,0,0,0,0,0,0,0,0]
[null,238,{"$f":"'Rooming List'!C250","v":0},{"$f":"'Rooming List'!D250","v":0},{"$f":"IF(ISBLANK('Rooming List'!E250),\"\",'Rooming List'!E250)","v":""},{"$f":"'Rooming List'!F250","v":"00:00:00"},0,0,0,0,0,0,0,0,0,0,0,0,0,0,0,0,0,0,0,0,0,0,0,0,0,0,0,0,0,0,0,0]
[null,239,{"$f":"'Rooming List'!C251","v":0},{"$f":"'Rooming List'!D251","v":0},{"$f":"IF(ISBLANK('Rooming List'!E251),\"\",'Rooming List'!E251)","v":""},{"$f":"'Rooming List'!F251","v":"00:00:00"},0,0,0,0,0,0,0,0,0,0,0,0,0,0,0,0,0,0,0,0,0,0,0,0,0,0,0,0,0,0,0,0]
[null,240,{"$f":"'Rooming List'!C252","v":0},{"$f":"'Rooming List'!D252","v":0},{"$f":"IF(ISBLANK('Rooming List'!E252),\"\",'Rooming List'!E252)","v":""},{"$f":"'Rooming List'!F252","v":"00:00:00"},0,0,0,0,0,0,0,0,0,0,0,0,0,0,0,0,0,0,0,0,0,0,0,0,0,0,0,0,0,0,0,0]
[null,241,{"$f":"'Rooming List'!C253","v":0},{"$f":"'Rooming List'!D253","v":0},{"$f":"IF(ISBLANK('Rooming List'!E253),\"\",'Rooming List'!E253)","v":""},{"$f":"'Rooming List'!F253","v":"00:00:00"},0,0,0,0,0,0,0,0,0,0,0,0,0,0,0,0,0,0,0,0,0,0,0,0,0,0,0,0,0,0,0,0]
[null,242,{"$f":"'Rooming List'!C254","v":0},{"$f":"'Rooming List'!D254","v":0},{"$f":"IF(ISBLANK('Rooming List'!E254),\"\",'Rooming List'!E254)","v":""},{"$f":"'Rooming List'!F254","v":"00:00:00"},0,0,0,0,0,0,0,0,0,{"$f":"IF(AND(P$5>=$E248,P$5<$F248),1,0)","v":0},0,0,0,0,0,0,0,0,0,0,0,0,0,0,0,0,0,0,0,0,0,0]
[null,243,{"$f":"'Rooming List'!C255","v":0},{"$f":"'Rooming List'!D255","v":0},{"$f":"IF(ISBLANK('Rooming List'!E255),\"\",'Rooming List'!E255)","v":""},{"$f":"'Rooming List'!F255","v":"00:00:00"},0,0,0,0,0,0,0,0,0,0,0,0,0,0,0,0,0,0,0,0,0,0,0,0,0,0,0,0,0,0,0,0]
[null,244,{"$f":"'Rooming List'!C256","v":0},{"$f":"'Rooming List'!D256","v":0},{"$f":"IF(ISBLANK('Rooming List'!E256),\"\",'Rooming List'!E256)","v":""},{"$f":"'Rooming List'!F256","v":"00:00:00"},0,0,0,0,0,0,0,0,0,0,0,0,0,0,0,0,0,0,0,0,0,0,0,0,0,0,0,0,0,0,0,0]
[null,245,{"$f":"'Rooming List'!C257","v":0},{"$f":"'Rooming List'!D257","v":0},{"$f":"IF(ISBLANK('Rooming List'!E257),\"\",'Rooming List'!E257)","v":""},{"$f":"'Rooming List'!F257","v":"00:00:00"},0,0,0,0,0,0,0,0,0,0,0,0,0,0,0,0,0,0,0,0,0,0,0,0,0,0,0,0,0,0,0,0]
[null,246,{"$f":"'Rooming List'!C258","v":0},{"$f":"'Rooming List'!D258","v":0},{"$f":"IF(ISBLANK('Rooming List'!E258),\"\",'Rooming List'!E258)","v":""},{"$f":"'Rooming List'!F258","v":"00:00:00"},0,0,0,0,0,0,0,0,0,0,0,0,0,0,0,0,0,0,0,0,0,0,0,0,0,0,0,0,0,0,0,0]
[null,247,{"$f":"'Rooming List'!C259","v":0},{"$f":"'Rooming List'!D259","v":0},{"$f":"IF(ISBLANK('Rooming List'!E259),\"\",'Rooming List'!E259)","v":""},{"$f":"'Rooming List'!F259","v":"00:00:00"},0,0,0,0,0,0,0,0,0,0,0,0,0,0,0,0,0,0,0,0,0,0,0,0,0,0,0,0,0,0,0,0]
[null,248,{"$f":"'Rooming List'!C260","v":0},{"$f":"'Rooming List'!D260","v":0},{"$f":"IF(ISBLANK('Rooming List'!E260),\"\",'Rooming List'!E260)","v":""},{"$f":"'Rooming List'!F260","v":"00:00:00"},0,0,0,0,0,0,0,0,0,0,0,0,0,0,0,0,0,0,0,0,0,0,0,0,0,0,0,0,0,0,0,0]
[null,249,{"$f":"'Rooming List'!C261","v":0},{"$f":"'Rooming List'!D261","v":0},{"$f":"IF(ISBLANK('Rooming List'!E261),\"\",'Rooming List'!E261)","v":""},{"$f":"'Rooming List'!F261","v":"00:00:00"},0,0,0,0,0,0,0,0,0,0,0,0,0,0,0,0,0,0,0,0,0,0,0,0,0,0,0,0,0,0,0,{"$f":"IF(AND(AL$5>=$E255,AL$5<$F255),1,0)","v":0}]
[null,250,{"$f":"'Rooming List'!C262","v":0},{"$f":"'Rooming List'!D262","v":0},{"$f":"IF(ISBLANK('Rooming List'!E262),\"\",'Rooming List'!E262)","v":""},{"$f":"'Rooming List'!F262","v":"00:00:00"},0,0,0,0,0,0,0,0,0,0,0,0,0,0,0,0,0,0,0,0,0,0,0,0,0,0,0,0,0,0,0,0]
[null,251,{"$f":"'Rooming List'!C263","v":0},{"$f":"'Rooming List'!D263","v":0},{"$f":"IF(ISBLANK('Rooming List'!E263),\"\",'Rooming List'!E263)","v":""},{"$f":"'Rooming List'!F263","v":"00:00:00"},0,0,0,0,0,0,0,0,0,0,0,0,0,0,0,0,0,0,0,0,0,0,0,0,0,0,0,0,0,0,0,0]
[null,252,{"$f":"'Rooming List'!C264","v":0},{"$f":"'Rooming List'!D264","v":0},{"$f":"IF(ISBLANK('Rooming List'!E264),\"\",'Rooming List'!E264)","v":""},{"$f":"'Rooming List'!F264","v":"00:00:00"},0,0,0,0,0,0,0,0,0,0,0,0,0,0,0,0,0,0,0,0,0,0,0,0,0,0,0,0,0,0,0,0]
[null,253,{"$f":"'Rooming List'!C265","v":0},{"$f":"'Rooming List'!D265","v":0},{"$f":"IF(ISBLANK('Rooming List'!E265),\"\",'Rooming List'!E265)","v":""},{"$f":"'Rooming List'!F265","v":"00:00:00"},0,0,0,0,0,0,0,0,0,0,0,0,0,0,0,0,0,0,0,0,0,0,0,0,0,0,0,0,0,0,0,0]
[null,254,{"$f":"'Rooming List'!C266","v":0},{"$f":"'Rooming List'!D266","v":0},{"$f":"IF(ISBLANK('Rooming List'!E266),\"\",'Rooming List'!E266)","v":""},{"$f":"'Rooming List'!F266","v":"00:00:00"},0,0,0,0,0,0,0,0,0,0,0,0,0,0,0,0,0,0,0,0,0,0,0,0,0,0,0,0,0,0,0,0]
[null,255,{"$f":"'Rooming List'!C267","v":0},{"$f":"'Rooming List'!D267","v":0},{"$f":"IF(ISBLANK('Rooming List'!E267),\"\",'Rooming List'!E267)","v":""},{"$f":"'Rooming List'!F267","v":"00:00:00"},0,0,0,0,0,0,0,0,0,0,0,0,0,0,0,0,0,0,0,0,0,0,0,0,0,0,0,0,0,0,0,0]
[null,256,{"$f":"'Rooming List'!C268","v":0},{"$f":"'Rooming List'!D268","v":0},{"$f":"IF(ISBLANK('Rooming List'!E268),\"\",'Rooming List'!E268)","v":""},{"$f":"'Rooming List'!F268","v":"00:00:00"},0,0,0,0,0,0,0,0,0,0,0,0,0,0,0,0,0,0,0,0,0,0,0,0,0,0,0,0,0,0,0,0]
[null,257,{"$f":"'Rooming List'!C269","v":0},{"$f":"'Rooming List'!D269","v":0},{"$f":"IF(ISBLANK('Rooming List'!E269),\"\",'Rooming List'!E269)","v":""},{"$f":"'Rooming List'!F269","v":"00:00:00"},0,0,0,0,0,0,0,0,0,0,0,0,0,0,0,0,0,0,0,0,0,0,0,0,0,0,0,0,0,0,0,0]
[null,258,{"$f":"'Rooming List'!C270","v":0},{"$f":"'Rooming List'!D270","v":0},{"$f":"IF(ISBLANK('Rooming List'!E270),\"\",'Rooming List'!E270)","v":""},{"$f":"'Rooming List'!F270","v":"00:00:00"},0,0,0,0,0,0,0,0,{"$f":"IF(AND(O$5>=$E264,O$5<$F264),1,0)","v":0},0,0,0,0,0,0,0,0,0,0,0,0,0,0,0,0,0,0,0,0,0,0,0]
[null,259,{"$f":"'Rooming List'!C271","v":0},{"$f":"'Rooming List'!D271","v":0},{"$f":"IF(ISBLANK('Rooming List'!E271),\"\",'Rooming List'!E271)","v":""},{"$f":"'Rooming List'!F271","v":"00:00:00"},0,0,0,0,0,0,0,0,0,0,0,0,0,0,0,0,0,0,0,0,0,0,0,0,0,0,0,0,0,0,0,0]
[null,260,{"$f":"'Rooming List'!C272","v":0},{"$f":"'Rooming List'!D272","v":0},{"$f":"IF(ISBLANK('Rooming List'!E272),\"\",'Rooming List'!E272)","v":""},{"$f":"'Rooming List'!F272","v":"00:00:00"},0,0,0,0,0,0,0,0,0,0,0,0,0,0,0,0,0,0,0,0,0,0,0,0,0,0,0,0,0,0,0,0]
[null,261,{"$f":"'Rooming List'!C273","v":0},{"$f":"'Rooming List'!D273","v":0},{"$f":"IF(ISBLANK('Rooming List'!E273),\"\",'Rooming List'!E273)","v":""},{"$f":"'Rooming List'!F273","v":"00:00:00"},0,0,0,0,0,0,0,0,0,0,0,0,0,0,0,0,0,0,0,0,0,0,0,0,0,0,0,0,0,0,0,0]
[null,262,{"$f":"'Rooming List'!C274","v":0},{"$f":"'Rooming List'!D274","v":0},{"$f":"IF(ISBLANK('Rooming List'!E274),\"\",'Rooming List'!E274)","v":""},{"$f":"'Rooming List'!F274","v":"00:00:00"},0,0,0,0,0,0,0,0,0,0,0,0,0,0,0,0,0,0,0,0,0,0,0,0,0,0,0,0,0,0,0,0]
[null,263,{"$f":"'Rooming List'!C275","v":0},{"$f":"'Rooming List'!D275","v":0},{"$f":"IF(ISBLANK('Rooming List'!E275),\"\",'Rooming List'!E275)","v":""},{"$f":"'Rooming List'!F275","v":"00:00:00"},0,0,0,0,0,0,0,0,0,0,0,0,0,0,0,0,0,0,0,0,0,0,0,0,0,0,0,0,0,0,0,0]
[null,264,{"$f":"'Rooming List'!C276","v":0},{"$f":"'Rooming List'!D276","v":0},{"$f":"IF(ISBLANK('Rooming List'!E276),\"\",'Rooming List'!E276)","v":""},{"$f":"'Rooming List'!F276","v":"00:00:00"},0,0,0,0,0,0,0,0,0,0,0,0,0,0,0,0,0,0,0,0,0,0,0,0,0,0,0,0,0,0,0,0]
[null,265,{"$f":"'Rooming List'!C277","v":0},{"$f":"'Rooming List'!D277","v":0},{"$f":"IF(ISBLANK('Rooming List'!E277),\"\",'Rooming List'!E277)","v":""},{"$f":"'Rooming List'!F277","v":"00:00:00"},0,0,0,0,0,0,0,0,0,0,0,0,0,0,0,0,0,0,0,0,0,0,0,0,0,0,0,0,0,0,0,0]
[null,266,{"$f":"'Rooming List'!C278","v":0},{"$f":"'Rooming List'!D278","v":0},{"$f":"IF(ISBLANK('Rooming List'!E278),\"\",'Rooming List'!E278)","v":""},{"$f":"'Rooming List'!F278","v":"00:00:00"},0,0,0,0,0,0,0,0,0,0,0,0,0,0,0,0,0,0,0,0,0,0,0,0,0,0,0,0,0,0,0,{"$f":"IF(AND(AL$5>=$E272,AL$5<$F272),1,0)","v":0}]
[null,267,{"$f":"'Rooming List'!C279","v":0},{"$f":"'Rooming List'!D279","v":0},{"$f":"IF(ISBLANK('Rooming List'!E279),\"\",'Rooming List'!E279)","v":""},{"$f":"'Rooming List'!F279","v":"00:00:00"},0,0,0,0,0,0,0,0,0,0,0,0,0,0,0,0,0,0,0,0,0,0,0,0,0,0,0,0,0,0,0,0]
[null,268,{"$f":"'Rooming List'!C280","v":0},{"$f":"'Rooming List'!D280","v":0},{"$f":"IF(ISBLANK('Rooming List'!E280),\"\",'Rooming List'!E280)","v":""},{"$f":"'Rooming List'!F280","v":"00:00:00"},0,0,0,0,0,0,0,0,0,0,0,0,0,0,0,0,0,0,0,0,0,0,0,0,0,0,0,0,0,0,0,0]
[null,269,{"$f":"'Rooming List'!C281","v":0},{"$f":"'Rooming List'!D281","v":0},{"$f":"IF(ISBLANK('Rooming List'!E281),\"\",'Rooming List'!E281)","v":""},{"$f":"'Rooming List'!F281","v":"00:00:00"},0,0,0,0,0,0,0,0,0,0,0,0,0,0,0,0,0,0,0,0,0,0,0,0,0,0,0,0,0,0,0,0]
[null,270,{"$f":"'Rooming List'!C282","v":0},{"$f":"'Rooming List'!D282","v":0},{"$f":"IF(ISBLANK('Rooming List'!E282),\"\",'Rooming List'!E282)","v":""},{"$f":"'Rooming List'!F282","v":"00:00:00"},0,0,0,0,0,0,0,0,0,0,0,0,0,0,0,0,0,0,0,0,0,0,0,0,0,0,0,0,0,0,0,0]
[null,271,{"$f":"'Rooming List'!C283","v":0},{"$f":"'Rooming List'!D283","v":0},{"$f":"IF(ISBLANK('Rooming List'!E283),\"\",'Rooming List'!E283)","v":""},{"$f":"'Rooming List'!F283","v":"00:00:00"},0,0,0,0,0,0,0,0,0,0,0,0,0,0,0,0,0,0,0,0,0,0,0,0,0,0,0,0,0,0,0,0]
[null,272,{"$f":"'Rooming List'!C284","v":0},{"$f":"'Rooming List'!D284","v":0},{"$f":"IF(ISBLANK('Rooming List'!E284),\"\",'Rooming List'!E284)","v":""},{"$f":"'Rooming List'!F284","v":"00:00:00"},0,0,0,0,0,0,0,0,0,0,0,0,0,0,0,0,0,0,0,0,0,0,0,0,0,0,0,0,0,0,0,0]
[null,273,{"$f":"'Rooming List'!C285","v":0},{"$f":"'Rooming List'!D285","v":0},{"$f":"IF(ISBLANK('Rooming List'!E285),\"\",'Rooming List'!E285)","v":""},{"$f":"'Rooming List'!F285","v":"00:00:00"},0,0,0,0,0,0,0,0,0,0,0,0,0,0,0,0,0,0,0,0,0,0,0,0,0,0,0,0,0,0,0,0]
[null,274,{"$f":"'Rooming List'!C286","v":0},{"$f":"'Rooming List'!D286","v":0},{"$f":"IF(ISBLANK('Rooming List'!E286),\"\",'Rooming List'!E286)","v":""},{"$f":"'Rooming List'!F286","v":"00:00:00"},0,0,0,0,0,0,0,{"$f":"IF(AND(N$5>=$E280,N$5<$F280),1,0)","v":0},0,0,0,0,0,0,0,0,0,0,0,0,0,0,0,0,0,0,0,0,0,0,0,0]
[null,275,{"$f":"'Rooming List'!C287","v":0},{"$f":"'Rooming List'!D287","v":0},{"$f":"IF(ISBLANK('Rooming List'!E287),\"\",'Rooming List'!E287)","v":""},{"$f":"'Rooming List'!F287","v":"00:00:00"},0,0,0,0,0,0,0,0,0,0,0,0,0,0,0,0,0,0,0,0,0,0,0,0,0,0,0,0,0,0,0,0]
[null,276,{"$f":"'Rooming List'!C288","v":0},{"$f":"'Rooming List'!D288","v":0},{"$f":"IF(ISBLANK('Rooming List'!E288),\"\",'Rooming List'!E288)","v":""},{"$f":"'Rooming List'!F288","v":"00:00:00"},0,0,0,0,0,0,0,0,0,0,0,0,0,0,0,0,0,0,0,0,0,0,0,0,0,0,0,0,0,0,0,0]
[null,277,{"$f":"'Rooming List'!C289","v":0},{"$f":"'Rooming List'!D289","v":0},{"$f":"IF(ISBLANK('Rooming List'!E289),\"\",'Rooming List'!E289)","v":""},{"$f":"'Rooming List'!F289","v":"00:00:00"},0,0,0,0,0,0,0,0,0,0,0,0,0,0,0,0,0,0,0,0,0,0,0,0,0,0,0,0,0,0,0,0]
[null,278,{"$f":"'Rooming List'!C290","v":0},{"$f":"'Rooming List'!D290","v":0},{"$f":"IF(ISBLANK('Rooming List'!E290),\"\",'Rooming List'!E290)","v":""},{"$f":"'Rooming List'!F290","v":"00:00:00"},0,0,0,0,0,0,0,0,0,0,0,0,0,0,0,0,0,0,0,0,0,0,0,0,0,0,0,0,0,0,0,0]
[null,279,{"$f":"'Rooming List'!C291","v":0},{"$f":"'Rooming List'!D291","v":0},{"$f":"IF(ISBLANK('Rooming List'!E291),\"\",'Rooming List'!E291)","v":""},{"$f":"'Rooming List'!F291","v":"00:00:00"},0,0,0,0,0,0,0,0,0,0,0,0,0,0,0,0,0,0,0,0,0,0,0,0,0,0,0,0,0,0,0,0]
[null,280,{"$f":"'Rooming List'!C292","v":0},{"$f":"'Rooming List'!D292","v":0},{"$f":"IF(ISBLANK('Rooming List'!E292),\"\",'Rooming List'!E292)","v":""},{"$f":"'Rooming List'!F292","v":"00:00:00"},0,0,0,0,0,0,0,0,0,0,0,0,0,0,0,0,0,0,0,0,0,0,0,0,0,0,0,0,0,0,0,0]
[null,281,{"$f":"'Rooming List'!C293","v":0},{"$f":"'Rooming List'!D293","v":0},{"$f":"IF(ISBLANK('Rooming List'!E293),\"\",'Rooming List'!E293)","v":""},{"$f":"'Rooming List'!F293","v":"00:00:00"},0,0,0,0,0,0,0,0,0,0,0,0,0,0,0,0,0,0,0,0,0,0,0,0,0,0,0,0,0,0,0,0]
[null,282,{"$f":"'Rooming List'!C294","v":0},{"$f":"'Rooming List'!D294","v":0},{"$f":"IF(ISBLANK('Rooming List'!E294),\"\",'Rooming List'!E294)","v":""},{"$f":"'Rooming List'!F294","v":"00:00:00"},0,0,0,0,0,0,0,0,0,0,0,0,0,0,0,0,0,0,0,0,0,0,0,0,0,0,0,0,0,0,0,0]
[null,283,{"$f":"'Rooming List'!C295","v":0},{"$f":"'Rooming List'!D295","v":0},{"$f":"IF(ISBLANK('Rooming List'!E295),\"\",'Rooming List'!E295)","v":""},{"$f":"'Rooming List'!F295","v":"00:00:00"},0,0,0,0,0,0,0,0,0,0,0,0,0,0,0,0,0,0,0,0,0,0,0,0,0,0,0,0,0,0,0,{"$f":"IF(AND(AL$5>=$E289,AL$5<$F289),1,0)","v":0}]
[null,284,{"$f":"'Rooming List'!C296","v":0},{"$f":"'Rooming List'!D296","v":0},{"$f":"IF(ISBLANK('Rooming List'!E296),\"\",'Rooming List'!E296)","v":""},{"$f":"'Rooming List'!F296","v":"00:00:00"},0,0,0,0,0,0,0,0,0,0,0,0,0,0,0,0,0,0,0,0,0,0,0,0,0,0,0,0,0,0,0,0]
[null,285,{"$f":"'Rooming List'!C297","v":0},{"$f":"'Rooming List'!D297","v":0},{"$f":"IF(ISBLANK('Rooming List'!E297),\"\",'Rooming List'!E297)","v":""},{"$f":"'Rooming List'!F297","v":"00:00:00"},0,0,0,0,0,0,0,0,0,0,0,0,0,0,0,0,0,0,0,0,0,0,0,0,0,0,0,0,0,0,0,0]
[null,286,{"$f":"'Rooming List'!C298","v":0},{"$f":"'Rooming List'!D298","v":0},{"$f":"IF(ISBLANK('Rooming List'!E298),\"\",'Rooming List'!E298)","v":""},{"$f":"'Rooming List'!F298","v":"00:00:00"},0,0,0,0,0,0,0,0,0,0,0,0,0,0,0,0,0,0,0,0,0,0,0,0,0,0,0,0,0,0,0,0]
[null,287,{"$f":"'Rooming List'!C299","v":0},{"$f":"'Rooming List'!D299","v":0},{"$f":"IF(ISBLANK('Rooming List'!E299),\"\",'Rooming List'!E299)","v":""},{"$f":"'Rooming List'!F299","v":"00:00:00"},0,0,0,0,0,0,0,0,0,0,0,0,0,0,0,0,0,0,0,0,0,0,0,0,0,0,0,0,0,0,0,0]
[null,288,{"$f":"'Rooming List'!C300","v":0},{"$f":"'Rooming List'!D300","v":0},{"$f":"IF(ISBLANK('Rooming List'!E300),\"\",'Rooming List'!E300)","v":""},{"$f":"'Rooming List'!F300","v":"00:00:00"},0,0,0,0,0,0,0,0,0,0,0,0,0,0,0,0,0,0,0,0,0,0,0,0,0,0,0,0,0,0,0,0]
[null,289,{"$f":"'Rooming List'!C301","v":0},{"$f":"'Rooming List'!D301","v":0},{"$f":"IF(ISBLANK('Rooming List'!E301),\"\",'Rooming List'!E301)","v":""},{"$f":"'Rooming List'!F301","v":"00:00:00"},0,0,0,0,0,0,0,0,0,0,0,0,0,0,0,0,0,0,0,0,0,0,0,0,0,0,0,0,0,0,0,0]
[null,290,{"$f":"'Rooming List'!C302","v":0},{"$f":"'Rooming List'!D302","v":0},{"$f":"IF(ISBLANK('Rooming List'!E302),\"\",'Rooming List'!E302)","v":""},{"$f":"'Rooming List'!F302","v":"00:00:00"},0,0,0,0,0,0,{"$f":"IF(AND(M$5>=$E296,M$5<$F296),1,0)","v":0},0,0,0,0,0,0,0,0,0,0,0,0,0,0,0,0,0,0,0,0,0,0,0,0,0]
[null,291,{"$f":"'Rooming List'!C303","v":0},{"$f":"'Rooming List'!D303","v":0},{"$f":"IF(ISBLANK('Rooming List'!E303),\"\",'Rooming List'!E303)","v":""},{"$f":"'Rooming List'!F303","v":"00:00:00"},0,0,0,0,0,0,0,0,0,0,0,0,0,0,0,0,0,0,0,0,0,0,0,0,0,0,0,0,0,0,0,0]
[null,292,{"$f":"'Rooming List'!C304","v":0},{"$f":"'Rooming List'!D304","v":0},{"$f":"IF(ISBLANK('Rooming List'!E304),\"\",'Rooming List'!E304)","v":""},{"$f":"'Rooming List'!F304","v":"00:00:00"},0,0,0,0,0,0,0,0,0,0,0,0,0,0,0,0,0,0,0,0,0,0,0,0,0,0,0,0,0,0,0,0]
[null,293,{"$f":"'Rooming List'!C305","v":0},{"$f":"'Rooming List'!D305","v":0},{"$f":"IF(ISBLANK('Rooming List'!E305),\"\",'Rooming List'!E305)","v":""},{"$f":"'Rooming List'!F305","v":"00:00:00"},{"$f":"SUM(H299:AL299)","v":0},0,0,0,0,0,0,0,0,0,0,0,0,0,0,0,0,0,0,0,0,0,0,0,0,0,0,0,0,0,0,0]
[null,294,{"$f":"'Rooming List'!C306","v":0},{"$f":"'Rooming List'!D306","v":0},{"$f":"IF(ISBLANK('Rooming List'!E306),\"\",'Rooming List'!E306)","v":""},{"$f":"'Rooming List'!F306","v":"00:00:00"},0,0,0,0,0,0,0,0,0,0,0,0,0,0,0,0,0,0,0,0,0,0,0,0,0,0,0,0,0,0,0,0]
[null,295,{"$f":"'Rooming List'!C307","v":0},{"$f":"'Rooming List'!D307","v":0},{"$f":"IF(ISBLANK('Rooming List'!E307),\"\",'Rooming List'!E307)","v":""},{"$f":"'Rooming List'!F307","v":"00:00:00"},0,0,0,0,0,0,0,0,0,0,0,0,0,0,0,0,0,0,0,0,0,0,0,0,0,0,0,0,0,0,0,0]
[null,296,{"$f":"'Rooming List'!C308","v":0},{"$f":"'Rooming List'!D308","v":0},{"$f":"IF(ISBLANK('Rooming List'!E308),\"\",'Rooming List'!E308)","v":""},{"$f":"'Rooming List'!F308","v":"00:00:00"},0,0,0,0,0,0,0,0,0,0,0,0,0,0,0,0,0,0,0,0,0,0,0,0,0,0,0,0,0,0,0,0]
[null,297,{"$f":"'Rooming List'!C309","v":0},{"$f":"'Rooming List'!D309","v":0},{"$f":"IF(ISBLANK('Rooming List'!E309),\"\",'Rooming List'!E309)","v":""},{"$f":"'Rooming List'!F309","v":"00:00:00"},0,0,0,0,0,0,0,0,0,0,0,0,0,0,0,0,0,0,0,0,0,0,0,0,0,0,0,0,0,0,0,0]
[null,298,{"$f":"'Rooming List'!C310","v":0},{"$f":"'Rooming List'!D310","v":0},{"$f":"IF(ISBLANK('Rooming List'!E310),\"\",'Rooming List'!E310)","v":""},{"$f":"'Rooming List'!F310","v":"00:00:00"},0,0,0,0,0,0,0,0,0,0,0,0,0,0,0,0,0,0,0,0,0,0,0,0,0,0,0,0,0,0,0,0]
[null,299,{"$f":"'Rooming List'!C311","v":0},{"$f":"'Rooming List'!D311","v":0},{"$f":"IF(ISBLANK('Rooming List'!E311),\"\",'Rooming List'!E311)","v":""},{"$f":"'Rooming List'!F311","v":"00:00:00"},0,0,0,0,0,0,0,0,0,0,0,0,0,0,0,0,0,0,0,0,0,0,0,0,0,0,0,0,0,0,0,0]
[null,300,{"$f":"'Rooming List'!C312","v":0},{"$f":"'Rooming List'!D312","v":0},{"$f":"IF(ISBLANK('Rooming List'!E312),\"\",'Rooming List'!E312)","v":""},{"$f":"'Rooming List'!F312","v":"00:00:00"},0,0,0,0,0,0,0,0,0,0,0,0,0,0,0,0,0,0,0,0,0,0,0,0,0,0,0,0,0,0,0,{"$f":"IF(AND(AL$5>=$E306,AL$5<$F306),1,0)","v":0}]

{"sheet":"Hidden - Lists","index":3,"n_rows":13,"n_cols":17,"rows_kept":13,"cut":false,"hidden":true,"merged":[[10,6,12,6],[4,8,4,12],[8,14,9,14],[10,3,11,3],[10,5,12,5]]}
[]
[null,"Billing_Method",null,"Room_Type",null,"Bed_Type","Bed_Type",null,"Guest_Conf",null,"Accessible",null,"VIP",null,"Title",null,"Special Requests"]
[null,"EPO - Each pays own",null,"Standard",null,null,"No Preference",null,"Yes",null,"Yes",null,"Yes",null,"Mr",null,"B5 - Feather Free"]
[null,"SRT - Incidentals Gtd by Company",null,"Concierge",null,null,"1 King Bed",null,"No",null,"No",null,"No",null,"Mrs",null,"H1 - High Floor"]
[null,"SRT - Incidentals Gtd by Individual",null,"Staff",null,null,"2 Double Bed",null,"^---   DO NOT ADD OR CHANGE   ---^",null,null,null,null,null,"Ms",null,"L2 - Low Floor Room"]
[null,"SAC - Sign all Charges",null,"Hospitality",null,null,null,null,null,null,null,null,null,null,"Miss",null,"N1 - Near Elevator"]
[null,"DO NOT ADD OR CHANGE",null,"Executive Suite",null,null,null,null,null,null,null,null,null,null,"Dr",null,"B7 - Away from Elevator"]
[null,null,null,"Presidential Suite",null,null,null,null,null,null,null,null,null,null,"Sheik"]
[null,"MARSHA PROPERTY CODE",null,"Special",null,null,null,null,null,null,null,null,null,null,"DO NOT ADD OR CHANGE"]
[null,null,null,"Other"]
[null,null,null,"Remove or add as needed ",null,"DO NOT PUT ANYTHING IN THIS SECTION","Delete any not needed, do not add"]
[]
[null,null,null,null,null,null,null,null,null,null,null,null,null,null,null,null,"Remove or add as needed "]